BEGIN:VCALENDAR
VERSION:2.0
PRODID:-//Fox Valley Community Services - ECPv6.15.20//NONSGML v1.0//EN
CALSCALE:GREGORIAN
METHOD:PUBLISH
X-WR-CALNAME:Fox Valley Community Services
X-ORIGINAL-URL:https://fvoas.org
X-WR-CALDESC:Events for Fox Valley Community Services
REFRESH-INTERVAL;VALUE=DURATION:PT1H
X-Robots-Tag:noindex
X-PUBLISHED-TTL:PT1H
BEGIN:VTIMEZONE
TZID:UTC
BEGIN:STANDARD
TZOFFSETFROM:+0000
TZOFFSETTO:+0000
TZNAME:UTC
DTSTART:20230101T000000
END:STANDARD
END:VTIMEZONE
BEGIN:VEVENT
DTSTART;TZID=UTC:20240702T080000
DTEND;TZID=UTC:20240702T090000
DTSTAMP:20260422T022729
CREATED:20230614T200534Z
LAST-MODIFIED:20251029T185218Z
UID:10006644-1719907200-1719910800@fvoas.org
SUMMARY:Men's Breakfast
DESCRIPTION:JOIN Voluntary Action Center for their esteemed Men`s Breakfast \nRequires $7.00 fee.
URL:https://fvoas.org/event/mens-breakfast/2024-07-02/
LOCATION:Fox Valley Community Services (Sandwich)\, 1406 Suydam Rd\, Sandwich\, IL\, 60548\, United States
CATEGORIES:Social Activities
END:VEVENT
BEGIN:VEVENT
DTSTART;TZID=UTC:20240702T083000
DTEND;TZID=UTC:20240702T093000
DTSTAMP:20260422T022729
CREATED:20230614T200048Z
LAST-MODIFIED:20241205T175004Z
UID:10017882-1719909000-1719912600@fvoas.org
SUMMARY:Bible Study
DESCRIPTION:
URL:https://fvoas.org/event/bible-study/2024-07-02/
LOCATION:Fox Valley Community Services (Sandwich)\, 1406 Suydam Rd\, Sandwich\, IL\, 60548\, United States
CATEGORIES:Social Activities
END:VEVENT
BEGIN:VEVENT
DTSTART;TZID=UTC:20240702T090000
DTEND;TZID=UTC:20240702T100000
DTSTAMP:20260422T022729
CREATED:20230614T171933Z
LAST-MODIFIED:20240430T133148Z
UID:10000074-1719910800-1719914400@fvoas.org
SUMMARY:Audiologist
DESCRIPTION:
URL:https://fvoas.org/event/audiologist/2024-07-02/
LOCATION:Fox Valley Community Services (Sandwich)\, 1406 Suydam Rd\, Sandwich\, IL\, 60548\, United States
CATEGORIES:Health and Wellness
END:VEVENT
BEGIN:VEVENT
DTSTART;TZID=UTC:20240702T090000
DTEND;TZID=UTC:20240702T100000
DTSTAMP:20260422T022729
CREATED:20240531T163353Z
LAST-MODIFIED:20260203T143024Z
UID:10014473-1719910800-1719914400@fvoas.org
SUMMARY:Walkers Group
DESCRIPTION:Seasonal Walkers Group. Meet at the center and head over to the Sandwich Fair Grounds.
URL:https://fvoas.org/event/walkers-group/2024-07-02/
LOCATION:Fox Valley Community Services (Sandwich)\, 1406 Suydam Rd\, Sandwich\, IL\, 60548\, United States
CATEGORIES:Health and Wellness
END:VEVENT
BEGIN:VEVENT
DTSTART;TZID=UTC:20240702T103000
DTEND;TZID=UTC:20240702T111500
DTSTAMP:20260422T022729
CREATED:20230614T172136Z
LAST-MODIFIED:20260406T175746Z
UID:10010263-1719916200-1719918900@fvoas.org
SUMMARY:Bingocize
DESCRIPTION:
URL:https://fvoas.org/event/bingocize/2024-07-02/
LOCATION:Fox Valley Community Services (Sandwich)\, 1406 Suydam Rd\, Sandwich\, IL\, 60548\, United States
CATEGORIES:Health and Wellness
END:VEVENT
BEGIN:VEVENT
DTSTART;TZID=UTC:20240702T113000
DTEND;TZID=UTC:20240702T123000
DTSTAMP:20260422T022729
CREATED:20230614T201319Z
LAST-MODIFIED:20251230T162559Z
UID:10007808-1719919800-1719923400@fvoas.org
SUMMARY:Lunch
DESCRIPTION:Reserve your meal by calling 815-787-6219 ext. 2.\nThe VAC congregate lunch program is donation based.\nSuggested lunch donation of $6.00.\nLunch is available to all seniors regardless of their inability to contribute towards the cost of their lunch.
URL:https://fvoas.org/event/lunch/2024-07-02/
LOCATION:Fox Valley Community Services (Sandwich)\, 1406 Suydam Rd\, Sandwich\, IL\, 60548\, United States
CATEGORIES:Additional Services
END:VEVENT
BEGIN:VEVENT
DTSTART;TZID=UTC:20240702T113000
DTEND;TZID=UTC:20240702T140000
DTSTAMP:20260422T022729
CREATED:20230907T191431Z
LAST-MODIFIED:20241205T174744Z
UID:10012587-1719919800-1719928800@fvoas.org
SUMMARY:Idle Hour Bowling
DESCRIPTION:Call Becky for more details at (815) 786-9404
URL:https://fvoas.org/event/idle-hour-bowling/2024-07-02/
LOCATION:Fox Valley Community Services (Sandwich)\, 1406 Suydam Rd\, Sandwich\, IL\, 60548\, United States
CATEGORIES:Entertainment
END:VEVENT
BEGIN:VEVENT
DTSTART;TZID=UTC:20240702T164500
DTEND;TZID=UTC:20240702T180000
DTSTAMP:20260422T022729
CREATED:20230614T194150Z
LAST-MODIFIED:20251029T180032Z
UID:10026848-1719938700-1719943200@fvoas.org
SUMMARY:Stretching with Mini
DESCRIPTION:
URL:https://fvoas.org/event/stretching-with-mini/2024-07-02/
LOCATION:Fox Valley Community Services (Sandwich)\, 1406 Suydam Rd\, Sandwich\, IL\, 60548\, United States
CATEGORIES:Health and Wellness
END:VEVENT
END:VCALENDAR