BEGIN:VCALENDAR
VERSION:2.0
PRODID:-//Fox Valley Community Services - ECPv6.15.20//NONSGML v1.0//EN
CALSCALE:GREGORIAN
METHOD:PUBLISH
X-WR-CALNAME:Fox Valley Community Services
X-ORIGINAL-URL:https://fvoas.org
X-WR-CALDESC:Events for Fox Valley Community Services
REFRESH-INTERVAL;VALUE=DURATION:PT1H
X-Robots-Tag:noindex
X-PUBLISHED-TTL:PT1H
BEGIN:VTIMEZONE
TZID:UTC
BEGIN:STANDARD
TZOFFSETFROM:+0000
TZOFFSETTO:+0000
TZNAME:UTC
DTSTART:20240101T000000
END:STANDARD
END:VTIMEZONE
BEGIN:VEVENT
DTSTART;TZID=UTC:20250902T080000
DTEND;TZID=UTC:20250902T090000
DTSTAMP:20260422T152800
CREATED:20230614T200534Z
LAST-MODIFIED:20251029T185218Z
UID:10006705-1756800000-1756803600@fvoas.org
SUMMARY:Men's Breakfast
DESCRIPTION:JOIN Voluntary Action Center for their esteemed Men`s Breakfast \nRequires $7.00 fee.
URL:https://fvoas.org/event/mens-breakfast/2025-09-02/
LOCATION:Fox Valley Community Services (Sandwich)\, 1406 Suydam Rd\, Sandwich\, IL\, 60548\, United States
CATEGORIES:Social Activities
END:VEVENT
BEGIN:VEVENT
DTSTART;TZID=UTC:20250902T083000
DTEND;TZID=UTC:20250902T093000
DTSTAMP:20260422T152800
CREATED:20230614T200048Z
LAST-MODIFIED:20241205T175004Z
UID:10017942-1756801800-1756805400@fvoas.org
SUMMARY:Bible Study
DESCRIPTION:
URL:https://fvoas.org/event/bible-study/2025-09-02/
LOCATION:Fox Valley Community Services (Sandwich)\, 1406 Suydam Rd\, Sandwich\, IL\, 60548\, United States
CATEGORIES:Social Activities
END:VEVENT
BEGIN:VEVENT
DTSTART;TZID=UTC:20250902T090000
DTEND;TZID=UTC:20250902T100000
DTSTAMP:20260422T152800
CREATED:20230614T171933Z
LAST-MODIFIED:20240430T133148Z
UID:10000088-1756803600-1756807200@fvoas.org
SUMMARY:Audiologist
DESCRIPTION:
URL:https://fvoas.org/event/audiologist/2025-09-02/
LOCATION:Fox Valley Community Services (Sandwich)\, 1406 Suydam Rd\, Sandwich\, IL\, 60548\, United States
CATEGORIES:Health and Wellness
END:VEVENT
BEGIN:VEVENT
DTSTART;TZID=UTC:20250902T090000
DTEND;TZID=UTC:20250902T100000
DTSTAMP:20260422T152800
CREATED:20240531T163353Z
LAST-MODIFIED:20260203T143024Z
UID:10014595-1756803600-1756807200@fvoas.org
SUMMARY:Walkers Group
DESCRIPTION:Seasonal Walkers Group. Meet at the center and head over to the Sandwich Fair Grounds.
URL:https://fvoas.org/event/walkers-group/2025-09-02/
LOCATION:Fox Valley Community Services (Sandwich)\, 1406 Suydam Rd\, Sandwich\, IL\, 60548\, United States
CATEGORIES:Health and Wellness
END:VEVENT
BEGIN:VEVENT
DTSTART;TZID=UTC:20250902T103000
DTEND;TZID=UTC:20250902T111500
DTSTAMP:20260422T152800
CREATED:20230614T172136Z
LAST-MODIFIED:20260406T175746Z
UID:10010385-1756809000-1756811700@fvoas.org
SUMMARY:Bingocize
DESCRIPTION:
URL:https://fvoas.org/event/bingocize/2025-09-02/
LOCATION:Fox Valley Community Services (Sandwich)\, 1406 Suydam Rd\, Sandwich\, IL\, 60548\, United States
CATEGORIES:Health and Wellness
END:VEVENT
BEGIN:VEVENT
DTSTART;TZID=UTC:20250902T113000
DTEND;TZID=UTC:20250902T123000
DTSTAMP:20260422T152800
CREATED:20230614T201319Z
LAST-MODIFIED:20251230T162559Z
UID:10008235-1756812600-1756816200@fvoas.org
SUMMARY:Lunch
DESCRIPTION:Reserve your meal by calling 815-787-6219 ext. 2.\nThe VAC congregate lunch program is donation based.\nSuggested lunch donation of $6.00.\nLunch is available to all seniors regardless of their inability to contribute towards the cost of their lunch.
URL:https://fvoas.org/event/lunch/2025-09-02/
LOCATION:Fox Valley Community Services (Sandwich)\, 1406 Suydam Rd\, Sandwich\, IL\, 60548\, United States
CATEGORIES:Additional Services
END:VEVENT
BEGIN:VEVENT
DTSTART;TZID=UTC:20250902T164500
DTEND;TZID=UTC:20250902T180000
DTSTAMP:20260422T152800
CREATED:20230614T194150Z
LAST-MODIFIED:20251029T180032Z
UID:10026904-1756831500-1756836000@fvoas.org
SUMMARY:Stretching with Mini
DESCRIPTION:
URL:https://fvoas.org/event/stretching-with-mini/2025-09-02/
LOCATION:Fox Valley Community Services (Sandwich)\, 1406 Suydam Rd\, Sandwich\, IL\, 60548\, United States
CATEGORIES:Health and Wellness
END:VEVENT
BEGIN:VEVENT
DTSTART;TZID=UTC:20250902T180000
DTEND;TZID=UTC:20250902T190000
DTSTAMP:20260422T152800
CREATED:20250428T200635Z
LAST-MODIFIED:20250428T200638Z
UID:10023288-1756836000-1756839600@fvoas.org
SUMMARY:MS Support Group
DESCRIPTION:
URL:https://fvoas.org/event/ms-support-group-2-2-2-2/2025-09-02/
LOCATION:Fox Valley Community Services (Sandwich)\, 1406 Suydam Rd\, Sandwich\, IL\, 60548\, United States
CATEGORIES:Health and Wellness
END:VEVENT
END:VCALENDAR