BEGIN:VCALENDAR
VERSION:2.0
PRODID:-//Fox Valley Community Services - ECPv6.15.20//NONSGML v1.0//EN
CALSCALE:GREGORIAN
METHOD:PUBLISH
X-ORIGINAL-URL:https://fvoas.org
X-WR-CALDESC:Events for Fox Valley Community Services
REFRESH-INTERVAL;VALUE=DURATION:PT1H
X-Robots-Tag:noindex
X-PUBLISHED-TTL:PT1H
BEGIN:VTIMEZONE
TZID:UTC
BEGIN:STANDARD
TZOFFSETFROM:+0000
TZOFFSETTO:+0000
TZNAME:UTC
DTSTART:20250101T000000
END:STANDARD
END:VTIMEZONE
BEGIN:VEVENT
DTSTART;TZID=UTC:20260302T113000
DTEND;TZID=UTC:20260302T123000
DTSTAMP:20260421T232015
CREATED:20230614T201319Z
LAST-MODIFIED:20251230T162559Z
UID:10008416-1772451000-1772454600@fvoas.org
SUMMARY:Lunch
DESCRIPTION:Reserve your meal by calling 815-787-6219 ext. 2.\nThe VAC congregate lunch program is donation based.\nSuggested lunch donation of $6.00.\nLunch is available to all seniors regardless of their inability to contribute towards the cost of their lunch.
URL:https://fvoas.org/event/lunch/2026-03-02/
LOCATION:Fox Valley Community Services (Sandwich)\, 1406 Suydam Rd\, Sandwich\, IL\, 60548\, United States
CATEGORIES:Additional Services
END:VEVENT
BEGIN:VEVENT
DTSTART;TZID=UTC:20260303T113000
DTEND;TZID=UTC:20260303T123000
DTSTAMP:20260421T232015
CREATED:20230614T201319Z
LAST-MODIFIED:20251230T162559Z
UID:10008417-1772537400-1772541000@fvoas.org
SUMMARY:Lunch
DESCRIPTION:Reserve your meal by calling 815-787-6219 ext. 2.\nThe VAC congregate lunch program is donation based.\nSuggested lunch donation of $6.00.\nLunch is available to all seniors regardless of their inability to contribute towards the cost of their lunch.
URL:https://fvoas.org/event/lunch/2026-03-03/
LOCATION:Fox Valley Community Services (Sandwich)\, 1406 Suydam Rd\, Sandwich\, IL\, 60548\, United States
CATEGORIES:Additional Services
END:VEVENT
BEGIN:VEVENT
DTSTART;TZID=UTC:20260304T113000
DTEND;TZID=UTC:20260304T123000
DTSTAMP:20260421T232015
CREATED:20230614T201319Z
LAST-MODIFIED:20251230T162559Z
UID:10008418-1772623800-1772627400@fvoas.org
SUMMARY:Lunch
DESCRIPTION:Reserve your meal by calling 815-787-6219 ext. 2.\nThe VAC congregate lunch program is donation based.\nSuggested lunch donation of $6.00.\nLunch is available to all seniors regardless of their inability to contribute towards the cost of their lunch.
URL:https://fvoas.org/event/lunch/2026-03-04/
LOCATION:Fox Valley Community Services (Sandwich)\, 1406 Suydam Rd\, Sandwich\, IL\, 60548\, United States
CATEGORIES:Additional Services
END:VEVENT
BEGIN:VEVENT
DTSTART;TZID=UTC:20260305T113000
DTEND;TZID=UTC:20260305T123000
DTSTAMP:20260421T232015
CREATED:20230614T201319Z
LAST-MODIFIED:20251230T162559Z
UID:10008419-1772710200-1772713800@fvoas.org
SUMMARY:Lunch
DESCRIPTION:Reserve your meal by calling 815-787-6219 ext. 2.\nThe VAC congregate lunch program is donation based.\nSuggested lunch donation of $6.00.\nLunch is available to all seniors regardless of their inability to contribute towards the cost of their lunch.
URL:https://fvoas.org/event/lunch/2026-03-05/
LOCATION:Fox Valley Community Services (Sandwich)\, 1406 Suydam Rd\, Sandwich\, IL\, 60548\, United States
CATEGORIES:Additional Services
END:VEVENT
BEGIN:VEVENT
DTSTART;TZID=UTC:20260306T113000
DTEND;TZID=UTC:20260306T123000
DTSTAMP:20260421T232015
CREATED:20230614T201319Z
LAST-MODIFIED:20251230T162559Z
UID:10008420-1772796600-1772800200@fvoas.org
SUMMARY:Lunch
DESCRIPTION:Reserve your meal by calling 815-787-6219 ext. 2.\nThe VAC congregate lunch program is donation based.\nSuggested lunch donation of $6.00.\nLunch is available to all seniors regardless of their inability to contribute towards the cost of their lunch.
URL:https://fvoas.org/event/lunch/2026-03-06/
LOCATION:Fox Valley Community Services (Sandwich)\, 1406 Suydam Rd\, Sandwich\, IL\, 60548\, United States
CATEGORIES:Additional Services
END:VEVENT
BEGIN:VEVENT
DTSTART;TZID=UTC:20260309T113000
DTEND;TZID=UTC:20260309T123000
DTSTAMP:20260421T232015
CREATED:20230614T201319Z
LAST-MODIFIED:20251230T162559Z
UID:10008423-1773055800-1773059400@fvoas.org
SUMMARY:Lunch
DESCRIPTION:Reserve your meal by calling 815-787-6219 ext. 2.\nThe VAC congregate lunch program is donation based.\nSuggested lunch donation of $6.00.\nLunch is available to all seniors regardless of their inability to contribute towards the cost of their lunch.
URL:https://fvoas.org/event/lunch/2026-03-09/
LOCATION:Fox Valley Community Services (Sandwich)\, 1406 Suydam Rd\, Sandwich\, IL\, 60548\, United States
CATEGORIES:Additional Services
END:VEVENT
BEGIN:VEVENT
DTSTART;TZID=UTC:20260310T113000
DTEND;TZID=UTC:20260310T123000
DTSTAMP:20260421T232015
CREATED:20230614T201319Z
LAST-MODIFIED:20251230T162559Z
UID:10008424-1773142200-1773145800@fvoas.org
SUMMARY:Lunch
DESCRIPTION:Reserve your meal by calling 815-787-6219 ext. 2.\nThe VAC congregate lunch program is donation based.\nSuggested lunch donation of $6.00.\nLunch is available to all seniors regardless of their inability to contribute towards the cost of their lunch.
URL:https://fvoas.org/event/lunch/2026-03-10/
LOCATION:Fox Valley Community Services (Sandwich)\, 1406 Suydam Rd\, Sandwich\, IL\, 60548\, United States
CATEGORIES:Additional Services
END:VEVENT
BEGIN:VEVENT
DTSTART;TZID=UTC:20260311T113000
DTEND;TZID=UTC:20260311T123000
DTSTAMP:20260421T232015
CREATED:20230614T201319Z
LAST-MODIFIED:20251230T162559Z
UID:10008425-1773228600-1773232200@fvoas.org
SUMMARY:Lunch
DESCRIPTION:Reserve your meal by calling 815-787-6219 ext. 2.\nThe VAC congregate lunch program is donation based.\nSuggested lunch donation of $6.00.\nLunch is available to all seniors regardless of their inability to contribute towards the cost of their lunch.
URL:https://fvoas.org/event/lunch/2026-03-11/
LOCATION:Fox Valley Community Services (Sandwich)\, 1406 Suydam Rd\, Sandwich\, IL\, 60548\, United States
CATEGORIES:Additional Services
END:VEVENT
BEGIN:VEVENT
DTSTART;TZID=UTC:20260312T113000
DTEND;TZID=UTC:20260312T123000
DTSTAMP:20260421T232015
CREATED:20230614T201319Z
LAST-MODIFIED:20251230T162559Z
UID:10008426-1773315000-1773318600@fvoas.org
SUMMARY:Lunch
DESCRIPTION:Reserve your meal by calling 815-787-6219 ext. 2.\nThe VAC congregate lunch program is donation based.\nSuggested lunch donation of $6.00.\nLunch is available to all seniors regardless of their inability to contribute towards the cost of their lunch.
URL:https://fvoas.org/event/lunch/2026-03-12/
LOCATION:Fox Valley Community Services (Sandwich)\, 1406 Suydam Rd\, Sandwich\, IL\, 60548\, United States
CATEGORIES:Additional Services
END:VEVENT
BEGIN:VEVENT
DTSTART;TZID=UTC:20260312T113000
DTEND;TZID=UTC:20260312T123000
DTSTAMP:20260421T232015
CREATED:20231127T155432Z
LAST-MODIFIED:20250725T162923Z
UID:10012157-1773315000-1773318600@fvoas.org
SUMMARY:Birthday Lunch
DESCRIPTION:Delight in a birthday lunch treat from FVCS and our amazing annual sponsors Pavilion on Main. \nRemember to bring along your birthday postcard on the second Thursday of your birth month and let us celebrate your special day as a token of gratitude for being a valued member.
URL:https://fvoas.org/event/birthday-lunch/2026-03-12/
LOCATION:Fox Valley Community Services (Sandwich)\, 1406 Suydam Rd\, Sandwich\, IL\, 60548\, United States
CATEGORIES:Additional Services
ATTACH;FMTTYPE=image/jpeg:https://fvoas.org/wp-content/uploads/2023/11/Birthday-Lunch-Card.jpg
END:VEVENT
BEGIN:VEVENT
DTSTART;TZID=UTC:20260313T113000
DTEND;TZID=UTC:20260313T123000
DTSTAMP:20260421T232015
CREATED:20230614T201319Z
LAST-MODIFIED:20251230T162559Z
UID:10008427-1773401400-1773405000@fvoas.org
SUMMARY:Lunch
DESCRIPTION:Reserve your meal by calling 815-787-6219 ext. 2.\nThe VAC congregate lunch program is donation based.\nSuggested lunch donation of $6.00.\nLunch is available to all seniors regardless of their inability to contribute towards the cost of their lunch.
URL:https://fvoas.org/event/lunch/2026-03-13/
LOCATION:Fox Valley Community Services (Sandwich)\, 1406 Suydam Rd\, Sandwich\, IL\, 60548\, United States
CATEGORIES:Additional Services
END:VEVENT
BEGIN:VEVENT
DTSTART;TZID=UTC:20260316T113000
DTEND;TZID=UTC:20260316T123000
DTSTAMP:20260421T232015
CREATED:20230614T201319Z
LAST-MODIFIED:20251230T162559Z
UID:10008430-1773660600-1773664200@fvoas.org
SUMMARY:Lunch
DESCRIPTION:Reserve your meal by calling 815-787-6219 ext. 2.\nThe VAC congregate lunch program is donation based.\nSuggested lunch donation of $6.00.\nLunch is available to all seniors regardless of their inability to contribute towards the cost of their lunch.
URL:https://fvoas.org/event/lunch/2026-03-16/
LOCATION:Fox Valley Community Services (Sandwich)\, 1406 Suydam Rd\, Sandwich\, IL\, 60548\, United States
CATEGORIES:Additional Services
END:VEVENT
BEGIN:VEVENT
DTSTART;TZID=UTC:20260317T113000
DTEND;TZID=UTC:20260317T123000
DTSTAMP:20260421T232015
CREATED:20230614T201319Z
LAST-MODIFIED:20251230T162559Z
UID:10008431-1773747000-1773750600@fvoas.org
SUMMARY:Lunch
DESCRIPTION:Reserve your meal by calling 815-787-6219 ext. 2.\nThe VAC congregate lunch program is donation based.\nSuggested lunch donation of $6.00.\nLunch is available to all seniors regardless of their inability to contribute towards the cost of their lunch.
URL:https://fvoas.org/event/lunch/2026-03-17/
LOCATION:Fox Valley Community Services (Sandwich)\, 1406 Suydam Rd\, Sandwich\, IL\, 60548\, United States
CATEGORIES:Additional Services
END:VEVENT
BEGIN:VEVENT
DTSTART;TZID=UTC:20260318T113000
DTEND;TZID=UTC:20260318T123000
DTSTAMP:20260421T232015
CREATED:20230614T201319Z
LAST-MODIFIED:20251230T162559Z
UID:10008432-1773833400-1773837000@fvoas.org
SUMMARY:Lunch
DESCRIPTION:Reserve your meal by calling 815-787-6219 ext. 2.\nThe VAC congregate lunch program is donation based.\nSuggested lunch donation of $6.00.\nLunch is available to all seniors regardless of their inability to contribute towards the cost of their lunch.
URL:https://fvoas.org/event/lunch/2026-03-18/
LOCATION:Fox Valley Community Services (Sandwich)\, 1406 Suydam Rd\, Sandwich\, IL\, 60548\, United States
CATEGORIES:Additional Services
END:VEVENT
BEGIN:VEVENT
DTSTART;TZID=UTC:20260319T110000
DTEND;TZID=UTC:20260319T120000
DTSTAMP:20260421T232015
CREATED:20250630T170524Z
LAST-MODIFIED:20250630T170528Z
UID:10025224-1773918000-1773921600@fvoas.org
SUMMARY:Tech Help Desk
DESCRIPTION:Helping with phones\, laptops\, and tablets. In-home appointments can be scheduled as needed\, please contact Steve for more information.
URL:https://fvoas.org/event/tech-help-desk-2-2-2-2/2026-03-19/
LOCATION:Fox Valley Community Services (Sandwich)\, 1406 Suydam Rd\, Sandwich\, IL\, 60548\, United States
CATEGORIES:Additional Services
END:VEVENT
BEGIN:VEVENT
DTSTART;TZID=UTC:20260319T113000
DTEND;TZID=UTC:20260319T123000
DTSTAMP:20260421T232015
CREATED:20230614T201319Z
LAST-MODIFIED:20251230T162559Z
UID:10008433-1773919800-1773923400@fvoas.org
SUMMARY:Lunch
DESCRIPTION:Reserve your meal by calling 815-787-6219 ext. 2.\nThe VAC congregate lunch program is donation based.\nSuggested lunch donation of $6.00.\nLunch is available to all seniors regardless of their inability to contribute towards the cost of their lunch.
URL:https://fvoas.org/event/lunch/2026-03-19/
LOCATION:Fox Valley Community Services (Sandwich)\, 1406 Suydam Rd\, Sandwich\, IL\, 60548\, United States
CATEGORIES:Additional Services
END:VEVENT
BEGIN:VEVENT
DTSTART;TZID=UTC:20260320T113000
DTEND;TZID=UTC:20260320T123000
DTSTAMP:20260421T232015
CREATED:20230614T201319Z
LAST-MODIFIED:20251230T162559Z
UID:10008434-1774006200-1774009800@fvoas.org
SUMMARY:Lunch
DESCRIPTION:Reserve your meal by calling 815-787-6219 ext. 2.\nThe VAC congregate lunch program is donation based.\nSuggested lunch donation of $6.00.\nLunch is available to all seniors regardless of their inability to contribute towards the cost of their lunch.
URL:https://fvoas.org/event/lunch/2026-03-20/
LOCATION:Fox Valley Community Services (Sandwich)\, 1406 Suydam Rd\, Sandwich\, IL\, 60548\, United States
CATEGORIES:Additional Services
END:VEVENT
BEGIN:VEVENT
DTSTART;TZID=UTC:20260323T113000
DTEND;TZID=UTC:20260323T123000
DTSTAMP:20260421T232015
CREATED:20230614T201319Z
LAST-MODIFIED:20251230T162559Z
UID:10008437-1774265400-1774269000@fvoas.org
SUMMARY:Lunch
DESCRIPTION:Reserve your meal by calling 815-787-6219 ext. 2.\nThe VAC congregate lunch program is donation based.\nSuggested lunch donation of $6.00.\nLunch is available to all seniors regardless of their inability to contribute towards the cost of their lunch.
URL:https://fvoas.org/event/lunch/2026-03-23/
LOCATION:Fox Valley Community Services (Sandwich)\, 1406 Suydam Rd\, Sandwich\, IL\, 60548\, United States
CATEGORIES:Additional Services
END:VEVENT
BEGIN:VEVENT
DTSTART;TZID=UTC:20260324T090000
DTEND;TZID=UTC:20260324T110000
DTSTAMP:20260421T232015
CREATED:20230803T160258Z
LAST-MODIFIED:20260203T145330Z
UID:10009764-1774342800-1774350000@fvoas.org
SUMMARY:Senior Services - Dekalb
DESCRIPTION:
URL:https://fvoas.org/event/senior-services-dekalb-2/2026-03-24/
LOCATION:Fox Valley Community Services (Dekalb)\, 1701 E. Lincoln Highway\, Dekalb\, IL\, 60115\, United States
CATEGORIES:Additional Services
END:VEVENT
BEGIN:VEVENT
DTSTART;TZID=UTC:20260324T113000
DTEND;TZID=UTC:20260324T123000
DTSTAMP:20260421T232015
CREATED:20230614T201319Z
LAST-MODIFIED:20251230T162559Z
UID:10008438-1774351800-1774355400@fvoas.org
SUMMARY:Lunch
DESCRIPTION:Reserve your meal by calling 815-787-6219 ext. 2.\nThe VAC congregate lunch program is donation based.\nSuggested lunch donation of $6.00.\nLunch is available to all seniors regardless of their inability to contribute towards the cost of their lunch.
URL:https://fvoas.org/event/lunch/2026-03-24/
LOCATION:Fox Valley Community Services (Sandwich)\, 1406 Suydam Rd\, Sandwich\, IL\, 60548\, United States
CATEGORIES:Additional Services
END:VEVENT
BEGIN:VEVENT
DTSTART;TZID=UTC:20260325T113000
DTEND;TZID=UTC:20260325T123000
DTSTAMP:20260421T232015
CREATED:20230614T201319Z
LAST-MODIFIED:20251230T162559Z
UID:10008439-1774438200-1774441800@fvoas.org
SUMMARY:Lunch
DESCRIPTION:Reserve your meal by calling 815-787-6219 ext. 2.\nThe VAC congregate lunch program is donation based.\nSuggested lunch donation of $6.00.\nLunch is available to all seniors regardless of their inability to contribute towards the cost of their lunch.
URL:https://fvoas.org/event/lunch/2026-03-25/
LOCATION:Fox Valley Community Services (Sandwich)\, 1406 Suydam Rd\, Sandwich\, IL\, 60548\, United States
CATEGORIES:Additional Services
END:VEVENT
BEGIN:VEVENT
DTSTART;TZID=UTC:20260326T113000
DTEND;TZID=UTC:20260326T123000
DTSTAMP:20260421T232015
CREATED:20230614T201319Z
LAST-MODIFIED:20251230T162559Z
UID:10008440-1774524600-1774528200@fvoas.org
SUMMARY:Lunch
DESCRIPTION:Reserve your meal by calling 815-787-6219 ext. 2.\nThe VAC congregate lunch program is donation based.\nSuggested lunch donation of $6.00.\nLunch is available to all seniors regardless of their inability to contribute towards the cost of their lunch.
URL:https://fvoas.org/event/lunch/2026-03-26/
LOCATION:Fox Valley Community Services (Sandwich)\, 1406 Suydam Rd\, Sandwich\, IL\, 60548\, United States
CATEGORIES:Additional Services
END:VEVENT
BEGIN:VEVENT
DTSTART;TZID=UTC:20260327T113000
DTEND;TZID=UTC:20260327T123000
DTSTAMP:20260421T232015
CREATED:20230614T201319Z
LAST-MODIFIED:20251230T162559Z
UID:10008441-1774611000-1774614600@fvoas.org
SUMMARY:Lunch
DESCRIPTION:Reserve your meal by calling 815-787-6219 ext. 2.\nThe VAC congregate lunch program is donation based.\nSuggested lunch donation of $6.00.\nLunch is available to all seniors regardless of their inability to contribute towards the cost of their lunch.
URL:https://fvoas.org/event/lunch/2026-03-27/
LOCATION:Fox Valley Community Services (Sandwich)\, 1406 Suydam Rd\, Sandwich\, IL\, 60548\, United States
CATEGORIES:Additional Services
END:VEVENT
BEGIN:VEVENT
DTSTART;TZID=UTC:20260330T113000
DTEND;TZID=UTC:20260330T123000
DTSTAMP:20260421T232015
CREATED:20230614T201319Z
LAST-MODIFIED:20251230T162559Z
UID:10008444-1774870200-1774873800@fvoas.org
SUMMARY:Lunch
DESCRIPTION:Reserve your meal by calling 815-787-6219 ext. 2.\nThe VAC congregate lunch program is donation based.\nSuggested lunch donation of $6.00.\nLunch is available to all seniors regardless of their inability to contribute towards the cost of their lunch.
URL:https://fvoas.org/event/lunch/2026-03-30/
LOCATION:Fox Valley Community Services (Sandwich)\, 1406 Suydam Rd\, Sandwich\, IL\, 60548\, United States
CATEGORIES:Additional Services
END:VEVENT
BEGIN:VEVENT
DTSTART;TZID=UTC:20260331T113000
DTEND;TZID=UTC:20260331T123000
DTSTAMP:20260421T232015
CREATED:20230614T201319Z
LAST-MODIFIED:20251230T162559Z
UID:10008445-1774956600-1774960200@fvoas.org
SUMMARY:Lunch
DESCRIPTION:Reserve your meal by calling 815-787-6219 ext. 2.\nThe VAC congregate lunch program is donation based.\nSuggested lunch donation of $6.00.\nLunch is available to all seniors regardless of their inability to contribute towards the cost of their lunch.
URL:https://fvoas.org/event/lunch/2026-03-31/
LOCATION:Fox Valley Community Services (Sandwich)\, 1406 Suydam Rd\, Sandwich\, IL\, 60548\, United States
CATEGORIES:Additional Services
END:VEVENT
END:VCALENDAR