BEGIN:VCALENDAR
VERSION:2.0
PRODID:-//Fox Valley Community Services - ECPv6.15.20//NONSGML v1.0//EN
CALSCALE:GREGORIAN
METHOD:PUBLISH
X-ORIGINAL-URL:https://fvoas.org
X-WR-CALDESC:Events for Fox Valley Community Services
REFRESH-INTERVAL;VALUE=DURATION:PT1H
X-Robots-Tag:noindex
X-PUBLISHED-TTL:PT1H
BEGIN:VTIMEZONE
TZID:UTC
BEGIN:STANDARD
TZOFFSETFROM:+0000
TZOFFSETTO:+0000
TZNAME:UTC
DTSTART:20250101T000000
END:STANDARD
END:VTIMEZONE
BEGIN:VEVENT
DTSTART;TZID=UTC:20260414T113000
DTEND;TZID=UTC:20260414T123000
DTSTAMP:20260422T091806
CREATED:20230614T201319Z
LAST-MODIFIED:20251230T162559Z
UID:10008459-1776166200-1776169800@fvoas.org
SUMMARY:Lunch
DESCRIPTION:Reserve your meal by calling 815-787-6219 ext. 2.\nThe VAC congregate lunch program is donation based.\nSuggested lunch donation of $6.00.\nLunch is available to all seniors regardless of their inability to contribute towards the cost of their lunch.
URL:https://fvoas.org/event/lunch/2026-04-14/
LOCATION:Fox Valley Community Services (Sandwich)\, 1406 Suydam Rd\, Sandwich\, IL\, 60548\, United States
CATEGORIES:Additional Services
END:VEVENT
BEGIN:VEVENT
DTSTART;TZID=UTC:20260415T113000
DTEND;TZID=UTC:20260415T123000
DTSTAMP:20260422T091806
CREATED:20230614T201319Z
LAST-MODIFIED:20251230T162559Z
UID:10008460-1776252600-1776256200@fvoas.org
SUMMARY:Lunch
DESCRIPTION:Reserve your meal by calling 815-787-6219 ext. 2.\nThe VAC congregate lunch program is donation based.\nSuggested lunch donation of $6.00.\nLunch is available to all seniors regardless of their inability to contribute towards the cost of their lunch.
URL:https://fvoas.org/event/lunch/2026-04-15/
LOCATION:Fox Valley Community Services (Sandwich)\, 1406 Suydam Rd\, Sandwich\, IL\, 60548\, United States
CATEGORIES:Additional Services
END:VEVENT
BEGIN:VEVENT
DTSTART;TZID=UTC:20260416T110000
DTEND;TZID=UTC:20260416T120000
DTSTAMP:20260422T091806
CREATED:20250630T170524Z
LAST-MODIFIED:20250630T170528Z
UID:10025225-1776337200-1776340800@fvoas.org
SUMMARY:Tech Help Desk
DESCRIPTION:Helping with phones\, laptops\, and tablets. In-home appointments can be scheduled as needed\, please contact Steve for more information.
URL:https://fvoas.org/event/tech-help-desk-2-2-2-2/2026-04-16/
LOCATION:Fox Valley Community Services (Sandwich)\, 1406 Suydam Rd\, Sandwich\, IL\, 60548\, United States
CATEGORIES:Additional Services
END:VEVENT
BEGIN:VEVENT
DTSTART;TZID=UTC:20260416T113000
DTEND;TZID=UTC:20260416T123000
DTSTAMP:20260422T091806
CREATED:20230614T201319Z
LAST-MODIFIED:20251230T162559Z
UID:10008461-1776339000-1776342600@fvoas.org
SUMMARY:Lunch
DESCRIPTION:Reserve your meal by calling 815-787-6219 ext. 2.\nThe VAC congregate lunch program is donation based.\nSuggested lunch donation of $6.00.\nLunch is available to all seniors regardless of their inability to contribute towards the cost of their lunch.
URL:https://fvoas.org/event/lunch/2026-04-16/
LOCATION:Fox Valley Community Services (Sandwich)\, 1406 Suydam Rd\, Sandwich\, IL\, 60548\, United States
CATEGORIES:Additional Services
END:VEVENT
BEGIN:VEVENT
DTSTART;TZID=UTC:20260417T113000
DTEND;TZID=UTC:20260417T123000
DTSTAMP:20260422T091806
CREATED:20230614T201319Z
LAST-MODIFIED:20251230T162559Z
UID:10008462-1776425400-1776429000@fvoas.org
SUMMARY:Lunch
DESCRIPTION:Reserve your meal by calling 815-787-6219 ext. 2.\nThe VAC congregate lunch program is donation based.\nSuggested lunch donation of $6.00.\nLunch is available to all seniors regardless of their inability to contribute towards the cost of their lunch.
URL:https://fvoas.org/event/lunch/2026-04-17/
LOCATION:Fox Valley Community Services (Sandwich)\, 1406 Suydam Rd\, Sandwich\, IL\, 60548\, United States
CATEGORIES:Additional Services
END:VEVENT
BEGIN:VEVENT
DTSTART;TZID=UTC:20260420T113000
DTEND;TZID=UTC:20260420T123000
DTSTAMP:20260422T091806
CREATED:20230614T201319Z
LAST-MODIFIED:20251230T162559Z
UID:10008465-1776684600-1776688200@fvoas.org
SUMMARY:Lunch
DESCRIPTION:Reserve your meal by calling 815-787-6219 ext. 2.\nThe VAC congregate lunch program is donation based.\nSuggested lunch donation of $6.00.\nLunch is available to all seniors regardless of their inability to contribute towards the cost of their lunch.
URL:https://fvoas.org/event/lunch/2026-04-20/
LOCATION:Fox Valley Community Services (Sandwich)\, 1406 Suydam Rd\, Sandwich\, IL\, 60548\, United States
CATEGORIES:Additional Services
END:VEVENT
BEGIN:VEVENT
DTSTART;TZID=UTC:20260421T090000
DTEND;TZID=UTC:20260421T110000
DTSTAMP:20260422T091806
CREATED:20260406T180217Z
LAST-MODIFIED:20260406T180218Z
UID:10009347-1776762000-1776769200@fvoas.org
SUMMARY:Senior Services - Dekalb
DESCRIPTION:
URL:https://fvoas.org/event/senior-services-dekalb-2-2/2026-04-21/
LOCATION:Fox Valley Community Services (Dekalb)\, 1701 E. Lincoln Highway\, Dekalb\, IL\, 60115\, United States
CATEGORIES:Additional Services
END:VEVENT
BEGIN:VEVENT
DTSTART;TZID=UTC:20260421T113000
DTEND;TZID=UTC:20260421T123000
DTSTAMP:20260422T091806
CREATED:20230614T201319Z
LAST-MODIFIED:20251230T162559Z
UID:10008466-1776771000-1776774600@fvoas.org
SUMMARY:Lunch
DESCRIPTION:Reserve your meal by calling 815-787-6219 ext. 2.\nThe VAC congregate lunch program is donation based.\nSuggested lunch donation of $6.00.\nLunch is available to all seniors regardless of their inability to contribute towards the cost of their lunch.
URL:https://fvoas.org/event/lunch/2026-04-21/
LOCATION:Fox Valley Community Services (Sandwich)\, 1406 Suydam Rd\, Sandwich\, IL\, 60548\, United States
CATEGORIES:Additional Services
END:VEVENT
BEGIN:VEVENT
DTSTART;TZID=UTC:20260422T113000
DTEND;TZID=UTC:20260422T123000
DTSTAMP:20260422T091806
CREATED:20230614T201319Z
LAST-MODIFIED:20251230T162559Z
UID:10008467-1776857400-1776861000@fvoas.org
SUMMARY:Lunch
DESCRIPTION:Reserve your meal by calling 815-787-6219 ext. 2.\nThe VAC congregate lunch program is donation based.\nSuggested lunch donation of $6.00.\nLunch is available to all seniors regardless of their inability to contribute towards the cost of their lunch.
URL:https://fvoas.org/event/lunch/2026-04-22/
LOCATION:Fox Valley Community Services (Sandwich)\, 1406 Suydam Rd\, Sandwich\, IL\, 60548\, United States
CATEGORIES:Additional Services
END:VEVENT
BEGIN:VEVENT
DTSTART;TZID=UTC:20260423T113000
DTEND;TZID=UTC:20260423T123000
DTSTAMP:20260422T091806
CREATED:20230614T201319Z
LAST-MODIFIED:20251230T162559Z
UID:10008468-1776943800-1776947400@fvoas.org
SUMMARY:Lunch
DESCRIPTION:Reserve your meal by calling 815-787-6219 ext. 2.\nThe VAC congregate lunch program is donation based.\nSuggested lunch donation of $6.00.\nLunch is available to all seniors regardless of their inability to contribute towards the cost of their lunch.
URL:https://fvoas.org/event/lunch/2026-04-23/
LOCATION:Fox Valley Community Services (Sandwich)\, 1406 Suydam Rd\, Sandwich\, IL\, 60548\, United States
CATEGORIES:Additional Services
END:VEVENT
BEGIN:VEVENT
DTSTART;TZID=UTC:20260424T113000
DTEND;TZID=UTC:20260424T123000
DTSTAMP:20260422T091806
CREATED:20230614T201319Z
LAST-MODIFIED:20251230T162559Z
UID:10008469-1777030200-1777033800@fvoas.org
SUMMARY:Lunch
DESCRIPTION:Reserve your meal by calling 815-787-6219 ext. 2.\nThe VAC congregate lunch program is donation based.\nSuggested lunch donation of $6.00.\nLunch is available to all seniors regardless of their inability to contribute towards the cost of their lunch.
URL:https://fvoas.org/event/lunch/2026-04-24/
LOCATION:Fox Valley Community Services (Sandwich)\, 1406 Suydam Rd\, Sandwich\, IL\, 60548\, United States
CATEGORIES:Additional Services
END:VEVENT
BEGIN:VEVENT
DTSTART;TZID=UTC:20260427T113000
DTEND;TZID=UTC:20260427T123000
DTSTAMP:20260422T091806
CREATED:20230614T201319Z
LAST-MODIFIED:20251230T162559Z
UID:10008472-1777289400-1777293000@fvoas.org
SUMMARY:Lunch
DESCRIPTION:Reserve your meal by calling 815-787-6219 ext. 2.\nThe VAC congregate lunch program is donation based.\nSuggested lunch donation of $6.00.\nLunch is available to all seniors regardless of their inability to contribute towards the cost of their lunch.
URL:https://fvoas.org/event/lunch/2026-04-27/
LOCATION:Fox Valley Community Services (Sandwich)\, 1406 Suydam Rd\, Sandwich\, IL\, 60548\, United States
CATEGORIES:Additional Services
END:VEVENT
BEGIN:VEVENT
DTSTART;TZID=UTC:20260428T113000
DTEND;TZID=UTC:20260428T123000
DTSTAMP:20260422T091807
CREATED:20230614T201319Z
LAST-MODIFIED:20251230T162559Z
UID:10008473-1777375800-1777379400@fvoas.org
SUMMARY:Lunch
DESCRIPTION:Reserve your meal by calling 815-787-6219 ext. 2.\nThe VAC congregate lunch program is donation based.\nSuggested lunch donation of $6.00.\nLunch is available to all seniors regardless of their inability to contribute towards the cost of their lunch.
URL:https://fvoas.org/event/lunch/2026-04-28/
LOCATION:Fox Valley Community Services (Sandwich)\, 1406 Suydam Rd\, Sandwich\, IL\, 60548\, United States
CATEGORIES:Additional Services
END:VEVENT
BEGIN:VEVENT
DTSTART;TZID=UTC:20260429T113000
DTEND;TZID=UTC:20260429T123000
DTSTAMP:20260422T091807
CREATED:20230614T201319Z
LAST-MODIFIED:20251230T162559Z
UID:10008474-1777462200-1777465800@fvoas.org
SUMMARY:Lunch
DESCRIPTION:Reserve your meal by calling 815-787-6219 ext. 2.\nThe VAC congregate lunch program is donation based.\nSuggested lunch donation of $6.00.\nLunch is available to all seniors regardless of their inability to contribute towards the cost of their lunch.
URL:https://fvoas.org/event/lunch/2026-04-29/
LOCATION:Fox Valley Community Services (Sandwich)\, 1406 Suydam Rd\, Sandwich\, IL\, 60548\, United States
CATEGORIES:Additional Services
END:VEVENT
BEGIN:VEVENT
DTSTART;TZID=UTC:20260430T113000
DTEND;TZID=UTC:20260430T123000
DTSTAMP:20260422T091807
CREATED:20230614T201319Z
LAST-MODIFIED:20251230T162559Z
UID:10008475-1777548600-1777552200@fvoas.org
SUMMARY:Lunch
DESCRIPTION:Reserve your meal by calling 815-787-6219 ext. 2.\nThe VAC congregate lunch program is donation based.\nSuggested lunch donation of $6.00.\nLunch is available to all seniors regardless of their inability to contribute towards the cost of their lunch.
URL:https://fvoas.org/event/lunch/2026-04-30/
LOCATION:Fox Valley Community Services (Sandwich)\, 1406 Suydam Rd\, Sandwich\, IL\, 60548\, United States
CATEGORIES:Additional Services
END:VEVENT
BEGIN:VEVENT
DTSTART;TZID=UTC:20260501T113000
DTEND;TZID=UTC:20260501T123000
DTSTAMP:20260422T091807
CREATED:20230614T201319Z
LAST-MODIFIED:20251230T162559Z
UID:10008476-1777635000-1777638600@fvoas.org
SUMMARY:Lunch
DESCRIPTION:Reserve your meal by calling 815-787-6219 ext. 2.\nThe VAC congregate lunch program is donation based.\nSuggested lunch donation of $6.00.\nLunch is available to all seniors regardless of their inability to contribute towards the cost of their lunch.
URL:https://fvoas.org/event/lunch/2026-05-01/
LOCATION:Fox Valley Community Services (Sandwich)\, 1406 Suydam Rd\, Sandwich\, IL\, 60548\, United States
CATEGORIES:Additional Services
END:VEVENT
BEGIN:VEVENT
DTSTART;TZID=UTC:20260504T113000
DTEND;TZID=UTC:20260504T123000
DTSTAMP:20260422T091807
CREATED:20230614T201319Z
LAST-MODIFIED:20251230T162559Z
UID:10008479-1777894200-1777897800@fvoas.org
SUMMARY:Lunch
DESCRIPTION:Reserve your meal by calling 815-787-6219 ext. 2.\nThe VAC congregate lunch program is donation based.\nSuggested lunch donation of $6.00.\nLunch is available to all seniors regardless of their inability to contribute towards the cost of their lunch.
URL:https://fvoas.org/event/lunch/2026-05-04/
LOCATION:Fox Valley Community Services (Sandwich)\, 1406 Suydam Rd\, Sandwich\, IL\, 60548\, United States
CATEGORIES:Additional Services
END:VEVENT
BEGIN:VEVENT
DTSTART;TZID=UTC:20260505T113000
DTEND;TZID=UTC:20260505T123000
DTSTAMP:20260422T091807
CREATED:20230614T201319Z
LAST-MODIFIED:20251230T162559Z
UID:10008480-1777980600-1777984200@fvoas.org
SUMMARY:Lunch
DESCRIPTION:Reserve your meal by calling 815-787-6219 ext. 2.\nThe VAC congregate lunch program is donation based.\nSuggested lunch donation of $6.00.\nLunch is available to all seniors regardless of their inability to contribute towards the cost of their lunch.
URL:https://fvoas.org/event/lunch/2026-05-05/
LOCATION:Fox Valley Community Services (Sandwich)\, 1406 Suydam Rd\, Sandwich\, IL\, 60548\, United States
CATEGORIES:Additional Services
END:VEVENT
BEGIN:VEVENT
DTSTART;TZID=UTC:20260506T113000
DTEND;TZID=UTC:20260506T123000
DTSTAMP:20260422T091807
CREATED:20230614T201319Z
LAST-MODIFIED:20251230T162559Z
UID:10008481-1778067000-1778070600@fvoas.org
SUMMARY:Lunch
DESCRIPTION:Reserve your meal by calling 815-787-6219 ext. 2.\nThe VAC congregate lunch program is donation based.\nSuggested lunch donation of $6.00.\nLunch is available to all seniors regardless of their inability to contribute towards the cost of their lunch.
URL:https://fvoas.org/event/lunch/2026-05-06/
LOCATION:Fox Valley Community Services (Sandwich)\, 1406 Suydam Rd\, Sandwich\, IL\, 60548\, United States
CATEGORIES:Additional Services
END:VEVENT
BEGIN:VEVENT
DTSTART;TZID=UTC:20260507T113000
DTEND;TZID=UTC:20260507T123000
DTSTAMP:20260422T091807
CREATED:20230614T201319Z
LAST-MODIFIED:20251230T162559Z
UID:10008482-1778153400-1778157000@fvoas.org
SUMMARY:Lunch
DESCRIPTION:Reserve your meal by calling 815-787-6219 ext. 2.\nThe VAC congregate lunch program is donation based.\nSuggested lunch donation of $6.00.\nLunch is available to all seniors regardless of their inability to contribute towards the cost of their lunch.
URL:https://fvoas.org/event/lunch/2026-05-07/
LOCATION:Fox Valley Community Services (Sandwich)\, 1406 Suydam Rd\, Sandwich\, IL\, 60548\, United States
CATEGORIES:Additional Services
END:VEVENT
BEGIN:VEVENT
DTSTART;TZID=UTC:20260508T113000
DTEND;TZID=UTC:20260508T123000
DTSTAMP:20260422T091807
CREATED:20230614T201319Z
LAST-MODIFIED:20251230T162559Z
UID:10008483-1778239800-1778243400@fvoas.org
SUMMARY:Lunch
DESCRIPTION:Reserve your meal by calling 815-787-6219 ext. 2.\nThe VAC congregate lunch program is donation based.\nSuggested lunch donation of $6.00.\nLunch is available to all seniors regardless of their inability to contribute towards the cost of their lunch.
URL:https://fvoas.org/event/lunch/2026-05-08/
LOCATION:Fox Valley Community Services (Sandwich)\, 1406 Suydam Rd\, Sandwich\, IL\, 60548\, United States
CATEGORIES:Additional Services
END:VEVENT
BEGIN:VEVENT
DTSTART;TZID=UTC:20260511T113000
DTEND;TZID=UTC:20260511T123000
DTSTAMP:20260422T091807
CREATED:20230614T201319Z
LAST-MODIFIED:20251230T162559Z
UID:10008486-1778499000-1778502600@fvoas.org
SUMMARY:Lunch
DESCRIPTION:Reserve your meal by calling 815-787-6219 ext. 2.\nThe VAC congregate lunch program is donation based.\nSuggested lunch donation of $6.00.\nLunch is available to all seniors regardless of their inability to contribute towards the cost of their lunch.
URL:https://fvoas.org/event/lunch/2026-05-11/
LOCATION:Fox Valley Community Services (Sandwich)\, 1406 Suydam Rd\, Sandwich\, IL\, 60548\, United States
CATEGORIES:Additional Services
END:VEVENT
BEGIN:VEVENT
DTSTART;TZID=UTC:20260512T113000
DTEND;TZID=UTC:20260512T123000
DTSTAMP:20260422T091807
CREATED:20230614T201319Z
LAST-MODIFIED:20251230T162559Z
UID:10008487-1778585400-1778589000@fvoas.org
SUMMARY:Lunch
DESCRIPTION:Reserve your meal by calling 815-787-6219 ext. 2.\nThe VAC congregate lunch program is donation based.\nSuggested lunch donation of $6.00.\nLunch is available to all seniors regardless of their inability to contribute towards the cost of their lunch.
URL:https://fvoas.org/event/lunch/2026-05-12/
LOCATION:Fox Valley Community Services (Sandwich)\, 1406 Suydam Rd\, Sandwich\, IL\, 60548\, United States
CATEGORIES:Additional Services
END:VEVENT
BEGIN:VEVENT
DTSTART;TZID=UTC:20260513T100000
DTEND;TZID=UTC:20260513T140000
DTSTAMP:20260422T091807
CREATED:20260406T174721Z
LAST-MODIFIED:20260406T174723Z
UID:10031337-1778666400-1778680800@fvoas.org
SUMMARY:Senior Services - LaSalle County
DESCRIPTION:
URL:https://fvoas.org/event/senior-services-lasalle-county-2-2/2026-05-13/
LOCATION:Fox Valley Community Services (Sandwich)\, 1406 Suydam Rd\, Sandwich\, IL\, 60548\, United States
CATEGORIES:Additional Services
END:VEVENT
BEGIN:VEVENT
DTSTART;TZID=UTC:20260513T113000
DTEND;TZID=UTC:20260513T123000
DTSTAMP:20260422T091807
CREATED:20230614T201319Z
LAST-MODIFIED:20251230T162559Z
UID:10008488-1778671800-1778675400@fvoas.org
SUMMARY:Lunch
DESCRIPTION:Reserve your meal by calling 815-787-6219 ext. 2.\nThe VAC congregate lunch program is donation based.\nSuggested lunch donation of $6.00.\nLunch is available to all seniors regardless of their inability to contribute towards the cost of their lunch.
URL:https://fvoas.org/event/lunch/2026-05-13/
LOCATION:Fox Valley Community Services (Sandwich)\, 1406 Suydam Rd\, Sandwich\, IL\, 60548\, United States
CATEGORIES:Additional Services
END:VEVENT
BEGIN:VEVENT
DTSTART;TZID=UTC:20260514T113000
DTEND;TZID=UTC:20260514T123000
DTSTAMP:20260422T091807
CREATED:20230614T201319Z
LAST-MODIFIED:20251230T162559Z
UID:10008489-1778758200-1778761800@fvoas.org
SUMMARY:Lunch
DESCRIPTION:Reserve your meal by calling 815-787-6219 ext. 2.\nThe VAC congregate lunch program is donation based.\nSuggested lunch donation of $6.00.\nLunch is available to all seniors regardless of their inability to contribute towards the cost of their lunch.
URL:https://fvoas.org/event/lunch/2026-05-14/
LOCATION:Fox Valley Community Services (Sandwich)\, 1406 Suydam Rd\, Sandwich\, IL\, 60548\, United States
CATEGORIES:Additional Services
END:VEVENT
BEGIN:VEVENT
DTSTART;TZID=UTC:20260514T113000
DTEND;TZID=UTC:20260514T123000
DTSTAMP:20260422T091807
CREATED:20231127T155432Z
LAST-MODIFIED:20250725T162923Z
UID:10012159-1778758200-1778761800@fvoas.org
SUMMARY:Birthday Lunch
DESCRIPTION:Delight in a birthday lunch treat from FVCS and our amazing annual sponsors Pavilion on Main. \nRemember to bring along your birthday postcard on the second Thursday of your birth month and let us celebrate your special day as a token of gratitude for being a valued member.
URL:https://fvoas.org/event/birthday-lunch/2026-05-14/
LOCATION:Fox Valley Community Services (Sandwich)\, 1406 Suydam Rd\, Sandwich\, IL\, 60548\, United States
CATEGORIES:Additional Services
ATTACH;FMTTYPE=image/jpeg:https://fvoas.org/wp-content/uploads/2023/11/Birthday-Lunch-Card.jpg
END:VEVENT
BEGIN:VEVENT
DTSTART;TZID=UTC:20260515T113000
DTEND;TZID=UTC:20260515T123000
DTSTAMP:20260422T091807
CREATED:20230614T201319Z
LAST-MODIFIED:20251230T162559Z
UID:10008490-1778844600-1778848200@fvoas.org
SUMMARY:Lunch
DESCRIPTION:Reserve your meal by calling 815-787-6219 ext. 2.\nThe VAC congregate lunch program is donation based.\nSuggested lunch donation of $6.00.\nLunch is available to all seniors regardless of their inability to contribute towards the cost of their lunch.
URL:https://fvoas.org/event/lunch/2026-05-15/
LOCATION:Fox Valley Community Services (Sandwich)\, 1406 Suydam Rd\, Sandwich\, IL\, 60548\, United States
CATEGORIES:Additional Services
END:VEVENT
BEGIN:VEVENT
DTSTART;TZID=UTC:20260518T113000
DTEND;TZID=UTC:20260518T123000
DTSTAMP:20260422T091807
CREATED:20230614T201319Z
LAST-MODIFIED:20251230T162559Z
UID:10008493-1779103800-1779107400@fvoas.org
SUMMARY:Lunch
DESCRIPTION:Reserve your meal by calling 815-787-6219 ext. 2.\nThe VAC congregate lunch program is donation based.\nSuggested lunch donation of $6.00.\nLunch is available to all seniors regardless of their inability to contribute towards the cost of their lunch.
URL:https://fvoas.org/event/lunch/2026-05-18/
LOCATION:Fox Valley Community Services (Sandwich)\, 1406 Suydam Rd\, Sandwich\, IL\, 60548\, United States
CATEGORIES:Additional Services
END:VEVENT
BEGIN:VEVENT
DTSTART;TZID=UTC:20260519T090000
DTEND;TZID=UTC:20260519T110000
DTSTAMP:20260422T091807
CREATED:20260406T180217Z
LAST-MODIFIED:20260406T180218Z
UID:10031578-1779181200-1779188400@fvoas.org
SUMMARY:Senior Services - Dekalb
DESCRIPTION:
URL:https://fvoas.org/event/senior-services-dekalb-2-2/2026-05-19/
LOCATION:Fox Valley Community Services (Dekalb)\, 1701 E. Lincoln Highway\, Dekalb\, IL\, 60115\, United States
CATEGORIES:Additional Services
END:VEVENT
END:VCALENDAR