BEGIN:VCALENDAR
VERSION:2.0
PRODID:-//Fox Valley Community Services - ECPv6.15.20//NONSGML v1.0//EN
CALSCALE:GREGORIAN
METHOD:PUBLISH
X-WR-CALNAME:Fox Valley Community Services
X-ORIGINAL-URL:https://fvoas.org
X-WR-CALDESC:Events for Fox Valley Community Services
REFRESH-INTERVAL;VALUE=DURATION:PT1H
X-Robots-Tag:noindex
X-PUBLISHED-TTL:PT1H
BEGIN:VTIMEZONE
TZID:UTC
BEGIN:STANDARD
TZOFFSETFROM:+0000
TZOFFSETTO:+0000
TZNAME:UTC
DTSTART:20260101T000000
END:STANDARD
END:VTIMEZONE
BEGIN:VEVENT
DTSTART;TZID=UTC:20270108T113000
DTEND;TZID=UTC:20270108T123000
DTSTAMP:20260423T184403
CREATED:20230614T201319Z
LAST-MODIFIED:20251230T162559Z
UID:10008728-1799407800-1799411400@fvoas.org
SUMMARY:Lunch
DESCRIPTION:Reserve your meal by calling 815-787-6219 ext. 2.\nThe VAC congregate lunch program is donation based.\nSuggested lunch donation of $6.00.\nLunch is available to all seniors regardless of their inability to contribute towards the cost of their lunch.
URL:https://fvoas.org/event/lunch/2027-01-08/
LOCATION:Fox Valley Community Services (Sandwich)\, 1406 Suydam Rd\, Sandwich\, IL\, 60548\, United States
CATEGORIES:Additional Services
END:VEVENT
BEGIN:VEVENT
DTSTART;TZID=UTC:20270111T113000
DTEND;TZID=UTC:20270111T123000
DTSTAMP:20260423T184403
CREATED:20230614T201319Z
LAST-MODIFIED:20251230T162559Z
UID:10008731-1799667000-1799670600@fvoas.org
SUMMARY:Lunch
DESCRIPTION:Reserve your meal by calling 815-787-6219 ext. 2.\nThe VAC congregate lunch program is donation based.\nSuggested lunch donation of $6.00.\nLunch is available to all seniors regardless of their inability to contribute towards the cost of their lunch.
URL:https://fvoas.org/event/lunch/2027-01-11/
LOCATION:Fox Valley Community Services (Sandwich)\, 1406 Suydam Rd\, Sandwich\, IL\, 60548\, United States
CATEGORIES:Additional Services
END:VEVENT
BEGIN:VEVENT
DTSTART;TZID=UTC:20270112T113000
DTEND;TZID=UTC:20270112T123000
DTSTAMP:20260423T184403
CREATED:20230614T201319Z
LAST-MODIFIED:20251230T162559Z
UID:10008732-1799753400-1799757000@fvoas.org
SUMMARY:Lunch
DESCRIPTION:Reserve your meal by calling 815-787-6219 ext. 2.\nThe VAC congregate lunch program is donation based.\nSuggested lunch donation of $6.00.\nLunch is available to all seniors regardless of their inability to contribute towards the cost of their lunch.
URL:https://fvoas.org/event/lunch/2027-01-12/
LOCATION:Fox Valley Community Services (Sandwich)\, 1406 Suydam Rd\, Sandwich\, IL\, 60548\, United States
CATEGORIES:Additional Services
END:VEVENT
BEGIN:VEVENT
DTSTART;TZID=UTC:20270113T100000
DTEND;TZID=UTC:20270113T140000
DTSTAMP:20260423T184403
CREATED:20260406T174721Z
LAST-MODIFIED:20260406T174723Z
UID:10031345-1799834400-1799848800@fvoas.org
SUMMARY:Senior Services - LaSalle County
DESCRIPTION:
URL:https://fvoas.org/event/senior-services-lasalle-county-2-2/2027-01-13/
LOCATION:Fox Valley Community Services (Sandwich)\, 1406 Suydam Rd\, Sandwich\, IL\, 60548\, United States
CATEGORIES:Additional Services
END:VEVENT
BEGIN:VEVENT
DTSTART;TZID=UTC:20270113T113000
DTEND;TZID=UTC:20270113T123000
DTSTAMP:20260423T184403
CREATED:20230614T201319Z
LAST-MODIFIED:20251230T162559Z
UID:10008733-1799839800-1799843400@fvoas.org
SUMMARY:Lunch
DESCRIPTION:Reserve your meal by calling 815-787-6219 ext. 2.\nThe VAC congregate lunch program is donation based.\nSuggested lunch donation of $6.00.\nLunch is available to all seniors regardless of their inability to contribute towards the cost of their lunch.
URL:https://fvoas.org/event/lunch/2027-01-13/
LOCATION:Fox Valley Community Services (Sandwich)\, 1406 Suydam Rd\, Sandwich\, IL\, 60548\, United States
CATEGORIES:Additional Services
END:VEVENT
BEGIN:VEVENT
DTSTART;TZID=UTC:20270114T113000
DTEND;TZID=UTC:20270114T123000
DTSTAMP:20260423T184403
CREATED:20230614T201319Z
LAST-MODIFIED:20251230T162559Z
UID:10008734-1799926200-1799929800@fvoas.org
SUMMARY:Lunch
DESCRIPTION:Reserve your meal by calling 815-787-6219 ext. 2.\nThe VAC congregate lunch program is donation based.\nSuggested lunch donation of $6.00.\nLunch is available to all seniors regardless of their inability to contribute towards the cost of their lunch.
URL:https://fvoas.org/event/lunch/2027-01-14/
LOCATION:Fox Valley Community Services (Sandwich)\, 1406 Suydam Rd\, Sandwich\, IL\, 60548\, United States
CATEGORIES:Additional Services
END:VEVENT
BEGIN:VEVENT
DTSTART;TZID=UTC:20270114T113000
DTEND;TZID=UTC:20270114T123000
DTSTAMP:20260423T184403
CREATED:20231127T155432Z
LAST-MODIFIED:20250725T162923Z
UID:10012167-1799926200-1799929800@fvoas.org
SUMMARY:Birthday Lunch
DESCRIPTION:Delight in a birthday lunch treat from FVCS and our amazing annual sponsors Pavilion on Main. \nRemember to bring along your birthday postcard on the second Thursday of your birth month and let us celebrate your special day as a token of gratitude for being a valued member.
URL:https://fvoas.org/event/birthday-lunch/2027-01-14/
LOCATION:Fox Valley Community Services (Sandwich)\, 1406 Suydam Rd\, Sandwich\, IL\, 60548\, United States
CATEGORIES:Additional Services
ATTACH;FMTTYPE=image/jpeg:https://fvoas.org/wp-content/uploads/2023/11/Birthday-Lunch-Card.jpg
END:VEVENT
BEGIN:VEVENT
DTSTART;TZID=UTC:20270115T113000
DTEND;TZID=UTC:20270115T123000
DTSTAMP:20260423T184403
CREATED:20230614T201319Z
LAST-MODIFIED:20251230T162559Z
UID:10008735-1800012600-1800016200@fvoas.org
SUMMARY:Lunch
DESCRIPTION:Reserve your meal by calling 815-787-6219 ext. 2.\nThe VAC congregate lunch program is donation based.\nSuggested lunch donation of $6.00.\nLunch is available to all seniors regardless of their inability to contribute towards the cost of their lunch.
URL:https://fvoas.org/event/lunch/2027-01-15/
LOCATION:Fox Valley Community Services (Sandwich)\, 1406 Suydam Rd\, Sandwich\, IL\, 60548\, United States
CATEGORIES:Additional Services
END:VEVENT
BEGIN:VEVENT
DTSTART;TZID=UTC:20270118T113000
DTEND;TZID=UTC:20270118T123000
DTSTAMP:20260423T184403
CREATED:20230614T201319Z
LAST-MODIFIED:20251230T162559Z
UID:10008738-1800271800-1800275400@fvoas.org
SUMMARY:Lunch
DESCRIPTION:Reserve your meal by calling 815-787-6219 ext. 2.\nThe VAC congregate lunch program is donation based.\nSuggested lunch donation of $6.00.\nLunch is available to all seniors regardless of their inability to contribute towards the cost of their lunch.
URL:https://fvoas.org/event/lunch/2027-01-18/
LOCATION:Fox Valley Community Services (Sandwich)\, 1406 Suydam Rd\, Sandwich\, IL\, 60548\, United States
CATEGORIES:Additional Services
END:VEVENT
BEGIN:VEVENT
DTSTART;TZID=UTC:20270119T090000
DTEND;TZID=UTC:20270119T110000
DTSTAMP:20260423T184403
CREATED:20260406T180217Z
LAST-MODIFIED:20260406T180218Z
UID:10031586-1800349200-1800356400@fvoas.org
SUMMARY:Senior Services - Dekalb
DESCRIPTION:
URL:https://fvoas.org/event/senior-services-dekalb-2-2/2027-01-19/
LOCATION:Fox Valley Community Services (Dekalb)\, 1701 E. Lincoln Highway\, Dekalb\, IL\, 60115\, United States
CATEGORIES:Additional Services
END:VEVENT
BEGIN:VEVENT
DTSTART;TZID=UTC:20270119T113000
DTEND;TZID=UTC:20270119T123000
DTSTAMP:20260423T184403
CREATED:20230614T201319Z
LAST-MODIFIED:20251230T162559Z
UID:10008739-1800358200-1800361800@fvoas.org
SUMMARY:Lunch
DESCRIPTION:Reserve your meal by calling 815-787-6219 ext. 2.\nThe VAC congregate lunch program is donation based.\nSuggested lunch donation of $6.00.\nLunch is available to all seniors regardless of their inability to contribute towards the cost of their lunch.
URL:https://fvoas.org/event/lunch/2027-01-19/
LOCATION:Fox Valley Community Services (Sandwich)\, 1406 Suydam Rd\, Sandwich\, IL\, 60548\, United States
CATEGORIES:Additional Services
END:VEVENT
BEGIN:VEVENT
DTSTART;TZID=UTC:20270120T113000
DTEND;TZID=UTC:20270120T123000
DTSTAMP:20260423T184403
CREATED:20230614T201319Z
LAST-MODIFIED:20251230T162559Z
UID:10008740-1800444600-1800448200@fvoas.org
SUMMARY:Lunch
DESCRIPTION:Reserve your meal by calling 815-787-6219 ext. 2.\nThe VAC congregate lunch program is donation based.\nSuggested lunch donation of $6.00.\nLunch is available to all seniors regardless of their inability to contribute towards the cost of their lunch.
URL:https://fvoas.org/event/lunch/2027-01-20/
LOCATION:Fox Valley Community Services (Sandwich)\, 1406 Suydam Rd\, Sandwich\, IL\, 60548\, United States
CATEGORIES:Additional Services
END:VEVENT
BEGIN:VEVENT
DTSTART;TZID=UTC:20270121T110000
DTEND;TZID=UTC:20270121T120000
DTSTAMP:20260423T184403
CREATED:20250630T170524Z
LAST-MODIFIED:20250630T170528Z
UID:10025234-1800529200-1800532800@fvoas.org
SUMMARY:Tech Help Desk
DESCRIPTION:Helping with phones\, laptops\, and tablets. In-home appointments can be scheduled as needed\, please contact Steve for more information.
URL:https://fvoas.org/event/tech-help-desk-2-2-2-2/2027-01-21/
LOCATION:Fox Valley Community Services (Sandwich)\, 1406 Suydam Rd\, Sandwich\, IL\, 60548\, United States
CATEGORIES:Additional Services
END:VEVENT
BEGIN:VEVENT
DTSTART;TZID=UTC:20270121T113000
DTEND;TZID=UTC:20270121T123000
DTSTAMP:20260423T184403
CREATED:20230614T201319Z
LAST-MODIFIED:20251230T162559Z
UID:10008741-1800531000-1800534600@fvoas.org
SUMMARY:Lunch
DESCRIPTION:Reserve your meal by calling 815-787-6219 ext. 2.\nThe VAC congregate lunch program is donation based.\nSuggested lunch donation of $6.00.\nLunch is available to all seniors regardless of their inability to contribute towards the cost of their lunch.
URL:https://fvoas.org/event/lunch/2027-01-21/
LOCATION:Fox Valley Community Services (Sandwich)\, 1406 Suydam Rd\, Sandwich\, IL\, 60548\, United States
CATEGORIES:Additional Services
END:VEVENT
BEGIN:VEVENT
DTSTART;TZID=UTC:20270122T113000
DTEND;TZID=UTC:20270122T123000
DTSTAMP:20260423T184403
CREATED:20230614T201319Z
LAST-MODIFIED:20251230T162559Z
UID:10008742-1800617400-1800621000@fvoas.org
SUMMARY:Lunch
DESCRIPTION:Reserve your meal by calling 815-787-6219 ext. 2.\nThe VAC congregate lunch program is donation based.\nSuggested lunch donation of $6.00.\nLunch is available to all seniors regardless of their inability to contribute towards the cost of their lunch.
URL:https://fvoas.org/event/lunch/2027-01-22/
LOCATION:Fox Valley Community Services (Sandwich)\, 1406 Suydam Rd\, Sandwich\, IL\, 60548\, United States
CATEGORIES:Additional Services
END:VEVENT
BEGIN:VEVENT
DTSTART;TZID=UTC:20270125T113000
DTEND;TZID=UTC:20270125T123000
DTSTAMP:20260423T184403
CREATED:20230614T201319Z
LAST-MODIFIED:20251230T162559Z
UID:10008745-1800876600-1800880200@fvoas.org
SUMMARY:Lunch
DESCRIPTION:Reserve your meal by calling 815-787-6219 ext. 2.\nThe VAC congregate lunch program is donation based.\nSuggested lunch donation of $6.00.\nLunch is available to all seniors regardless of their inability to contribute towards the cost of their lunch.
URL:https://fvoas.org/event/lunch/2027-01-25/
LOCATION:Fox Valley Community Services (Sandwich)\, 1406 Suydam Rd\, Sandwich\, IL\, 60548\, United States
CATEGORIES:Additional Services
END:VEVENT
BEGIN:VEVENT
DTSTART;TZID=UTC:20270126T113000
DTEND;TZID=UTC:20270126T123000
DTSTAMP:20260423T184403
CREATED:20230614T201319Z
LAST-MODIFIED:20251230T162559Z
UID:10008746-1800963000-1800966600@fvoas.org
SUMMARY:Lunch
DESCRIPTION:Reserve your meal by calling 815-787-6219 ext. 2.\nThe VAC congregate lunch program is donation based.\nSuggested lunch donation of $6.00.\nLunch is available to all seniors regardless of their inability to contribute towards the cost of their lunch.
URL:https://fvoas.org/event/lunch/2027-01-26/
LOCATION:Fox Valley Community Services (Sandwich)\, 1406 Suydam Rd\, Sandwich\, IL\, 60548\, United States
CATEGORIES:Additional Services
END:VEVENT
BEGIN:VEVENT
DTSTART;TZID=UTC:20270127T113000
DTEND;TZID=UTC:20270127T123000
DTSTAMP:20260423T184403
CREATED:20230614T201319Z
LAST-MODIFIED:20251230T162559Z
UID:10008747-1801049400-1801053000@fvoas.org
SUMMARY:Lunch
DESCRIPTION:Reserve your meal by calling 815-787-6219 ext. 2.\nThe VAC congregate lunch program is donation based.\nSuggested lunch donation of $6.00.\nLunch is available to all seniors regardless of their inability to contribute towards the cost of their lunch.
URL:https://fvoas.org/event/lunch/2027-01-27/
LOCATION:Fox Valley Community Services (Sandwich)\, 1406 Suydam Rd\, Sandwich\, IL\, 60548\, United States
CATEGORIES:Additional Services
END:VEVENT
BEGIN:VEVENT
DTSTART;TZID=UTC:20270128T113000
DTEND;TZID=UTC:20270128T123000
DTSTAMP:20260423T184403
CREATED:20230614T201319Z
LAST-MODIFIED:20251230T162559Z
UID:10008748-1801135800-1801139400@fvoas.org
SUMMARY:Lunch
DESCRIPTION:Reserve your meal by calling 815-787-6219 ext. 2.\nThe VAC congregate lunch program is donation based.\nSuggested lunch donation of $6.00.\nLunch is available to all seniors regardless of their inability to contribute towards the cost of their lunch.
URL:https://fvoas.org/event/lunch/2027-01-28/
LOCATION:Fox Valley Community Services (Sandwich)\, 1406 Suydam Rd\, Sandwich\, IL\, 60548\, United States
CATEGORIES:Additional Services
END:VEVENT
BEGIN:VEVENT
DTSTART;TZID=UTC:20270129T113000
DTEND;TZID=UTC:20270129T123000
DTSTAMP:20260423T184403
CREATED:20230614T201319Z
LAST-MODIFIED:20251230T162559Z
UID:10008749-1801222200-1801225800@fvoas.org
SUMMARY:Lunch
DESCRIPTION:Reserve your meal by calling 815-787-6219 ext. 2.\nThe VAC congregate lunch program is donation based.\nSuggested lunch donation of $6.00.\nLunch is available to all seniors regardless of their inability to contribute towards the cost of their lunch.
URL:https://fvoas.org/event/lunch/2027-01-29/
LOCATION:Fox Valley Community Services (Sandwich)\, 1406 Suydam Rd\, Sandwich\, IL\, 60548\, United States
CATEGORIES:Additional Services
END:VEVENT
BEGIN:VEVENT
DTSTART;TZID=UTC:20270201T113000
DTEND;TZID=UTC:20270201T123000
DTSTAMP:20260423T184403
CREATED:20230614T201319Z
LAST-MODIFIED:20251230T162559Z
UID:10008752-1801481400-1801485000@fvoas.org
SUMMARY:Lunch
DESCRIPTION:Reserve your meal by calling 815-787-6219 ext. 2.\nThe VAC congregate lunch program is donation based.\nSuggested lunch donation of $6.00.\nLunch is available to all seniors regardless of their inability to contribute towards the cost of their lunch.
URL:https://fvoas.org/event/lunch/2027-02-01/
LOCATION:Fox Valley Community Services (Sandwich)\, 1406 Suydam Rd\, Sandwich\, IL\, 60548\, United States
CATEGORIES:Additional Services
END:VEVENT
BEGIN:VEVENT
DTSTART;TZID=UTC:20270202T113000
DTEND;TZID=UTC:20270202T123000
DTSTAMP:20260423T184403
CREATED:20230614T201319Z
LAST-MODIFIED:20251230T162559Z
UID:10008753-1801567800-1801571400@fvoas.org
SUMMARY:Lunch
DESCRIPTION:Reserve your meal by calling 815-787-6219 ext. 2.\nThe VAC congregate lunch program is donation based.\nSuggested lunch donation of $6.00.\nLunch is available to all seniors regardless of their inability to contribute towards the cost of their lunch.
URL:https://fvoas.org/event/lunch/2027-02-02/
LOCATION:Fox Valley Community Services (Sandwich)\, 1406 Suydam Rd\, Sandwich\, IL\, 60548\, United States
CATEGORIES:Additional Services
END:VEVENT
BEGIN:VEVENT
DTSTART;TZID=UTC:20270203T113000
DTEND;TZID=UTC:20270203T123000
DTSTAMP:20260423T184403
CREATED:20230614T201319Z
LAST-MODIFIED:20251230T162559Z
UID:10008754-1801654200-1801657800@fvoas.org
SUMMARY:Lunch
DESCRIPTION:Reserve your meal by calling 815-787-6219 ext. 2.\nThe VAC congregate lunch program is donation based.\nSuggested lunch donation of $6.00.\nLunch is available to all seniors regardless of their inability to contribute towards the cost of their lunch.
URL:https://fvoas.org/event/lunch/2027-02-03/
LOCATION:Fox Valley Community Services (Sandwich)\, 1406 Suydam Rd\, Sandwich\, IL\, 60548\, United States
CATEGORIES:Additional Services
END:VEVENT
BEGIN:VEVENT
DTSTART;TZID=UTC:20270204T113000
DTEND;TZID=UTC:20270204T123000
DTSTAMP:20260423T184403
CREATED:20230614T201319Z
LAST-MODIFIED:20251230T162559Z
UID:10008755-1801740600-1801744200@fvoas.org
SUMMARY:Lunch
DESCRIPTION:Reserve your meal by calling 815-787-6219 ext. 2.\nThe VAC congregate lunch program is donation based.\nSuggested lunch donation of $6.00.\nLunch is available to all seniors regardless of their inability to contribute towards the cost of their lunch.
URL:https://fvoas.org/event/lunch/2027-02-04/
LOCATION:Fox Valley Community Services (Sandwich)\, 1406 Suydam Rd\, Sandwich\, IL\, 60548\, United States
CATEGORIES:Additional Services
END:VEVENT
BEGIN:VEVENT
DTSTART;TZID=UTC:20270205T113000
DTEND;TZID=UTC:20270205T123000
DTSTAMP:20260423T184403
CREATED:20230614T201319Z
LAST-MODIFIED:20251230T162559Z
UID:10008756-1801827000-1801830600@fvoas.org
SUMMARY:Lunch
DESCRIPTION:Reserve your meal by calling 815-787-6219 ext. 2.\nThe VAC congregate lunch program is donation based.\nSuggested lunch donation of $6.00.\nLunch is available to all seniors regardless of their inability to contribute towards the cost of their lunch.
URL:https://fvoas.org/event/lunch/2027-02-05/
LOCATION:Fox Valley Community Services (Sandwich)\, 1406 Suydam Rd\, Sandwich\, IL\, 60548\, United States
CATEGORIES:Additional Services
END:VEVENT
BEGIN:VEVENT
DTSTART;TZID=UTC:20270208T113000
DTEND;TZID=UTC:20270208T123000
DTSTAMP:20260423T184403
CREATED:20230614T201319Z
LAST-MODIFIED:20251230T162559Z
UID:10008759-1802086200-1802089800@fvoas.org
SUMMARY:Lunch
DESCRIPTION:Reserve your meal by calling 815-787-6219 ext. 2.\nThe VAC congregate lunch program is donation based.\nSuggested lunch donation of $6.00.\nLunch is available to all seniors regardless of their inability to contribute towards the cost of their lunch.
URL:https://fvoas.org/event/lunch/2027-02-08/
LOCATION:Fox Valley Community Services (Sandwich)\, 1406 Suydam Rd\, Sandwich\, IL\, 60548\, United States
CATEGORIES:Additional Services
END:VEVENT
BEGIN:VEVENT
DTSTART;TZID=UTC:20270209T113000
DTEND;TZID=UTC:20270209T123000
DTSTAMP:20260423T184403
CREATED:20230614T201319Z
LAST-MODIFIED:20251230T162559Z
UID:10008760-1802172600-1802176200@fvoas.org
SUMMARY:Lunch
DESCRIPTION:Reserve your meal by calling 815-787-6219 ext. 2.\nThe VAC congregate lunch program is donation based.\nSuggested lunch donation of $6.00.\nLunch is available to all seniors regardless of their inability to contribute towards the cost of their lunch.
URL:https://fvoas.org/event/lunch/2027-02-09/
LOCATION:Fox Valley Community Services (Sandwich)\, 1406 Suydam Rd\, Sandwich\, IL\, 60548\, United States
CATEGORIES:Additional Services
END:VEVENT
BEGIN:VEVENT
DTSTART;TZID=UTC:20270210T100000
DTEND;TZID=UTC:20270210T140000
DTSTAMP:20260423T184403
CREATED:20260406T174721Z
LAST-MODIFIED:20260406T174723Z
UID:10031346-1802253600-1802268000@fvoas.org
SUMMARY:Senior Services - LaSalle County
DESCRIPTION:
URL:https://fvoas.org/event/senior-services-lasalle-county-2-2/2027-02-10/
LOCATION:Fox Valley Community Services (Sandwich)\, 1406 Suydam Rd\, Sandwich\, IL\, 60548\, United States
CATEGORIES:Additional Services
END:VEVENT
BEGIN:VEVENT
DTSTART;TZID=UTC:20270210T113000
DTEND;TZID=UTC:20270210T123000
DTSTAMP:20260423T184403
CREATED:20230614T201319Z
LAST-MODIFIED:20251230T162559Z
UID:10008761-1802259000-1802262600@fvoas.org
SUMMARY:Lunch
DESCRIPTION:Reserve your meal by calling 815-787-6219 ext. 2.\nThe VAC congregate lunch program is donation based.\nSuggested lunch donation of $6.00.\nLunch is available to all seniors regardless of their inability to contribute towards the cost of their lunch.
URL:https://fvoas.org/event/lunch/2027-02-10/
LOCATION:Fox Valley Community Services (Sandwich)\, 1406 Suydam Rd\, Sandwich\, IL\, 60548\, United States
CATEGORIES:Additional Services
END:VEVENT
BEGIN:VEVENT
DTSTART;TZID=UTC:20270211T113000
DTEND;TZID=UTC:20270211T123000
DTSTAMP:20260423T184403
CREATED:20230614T201319Z
LAST-MODIFIED:20251230T162559Z
UID:10008762-1802345400-1802349000@fvoas.org
SUMMARY:Lunch
DESCRIPTION:Reserve your meal by calling 815-787-6219 ext. 2.\nThe VAC congregate lunch program is donation based.\nSuggested lunch donation of $6.00.\nLunch is available to all seniors regardless of their inability to contribute towards the cost of their lunch.
URL:https://fvoas.org/event/lunch/2027-02-11/
LOCATION:Fox Valley Community Services (Sandwich)\, 1406 Suydam Rd\, Sandwich\, IL\, 60548\, United States
CATEGORIES:Additional Services
END:VEVENT
END:VCALENDAR