BEGIN:VCALENDAR
VERSION:2.0
PRODID:-//Fox Valley Community Services - ECPv6.15.20//NONSGML v1.0//EN
CALSCALE:GREGORIAN
METHOD:PUBLISH
X-WR-CALNAME:Fox Valley Community Services
X-ORIGINAL-URL:https://fvoas.org
X-WR-CALDESC:Events for Fox Valley Community Services
REFRESH-INTERVAL;VALUE=DURATION:PT1H
X-Robots-Tag:noindex
X-PUBLISHED-TTL:PT1H
BEGIN:VTIMEZONE
TZID:UTC
BEGIN:STANDARD
TZOFFSETFROM:+0000
TZOFFSETTO:+0000
TZNAME:UTC
DTSTART:20240101T000000
END:STANDARD
END:VTIMEZONE
BEGIN:VEVENT
DTSTART;TZID=UTC:20251003T090000
DTEND;TZID=UTC:20251003T100000
DTSTAMP:20260423T161251
CREATED:20230614T201217Z
LAST-MODIFIED:20260406T180510Z
UID:10007274-1759482000-1759485600@fvoas.org
SUMMARY:Line Dancing
DESCRIPTION:
URL:https://fvoas.org/event/line-dancing/2025-10-03/
LOCATION:Fox Valley Community Services (Sandwich)\, 1406 Suydam Rd\, Sandwich\, IL\, 60548\, United States
CATEGORIES:Entertainment
END:VEVENT
BEGIN:VEVENT
DTSTART;TZID=UTC:20251007T113000
DTEND;TZID=UTC:20251007T133000
DTSTAMP:20260423T161251
CREATED:20250923T142336Z
LAST-MODIFIED:20250923T142339Z
UID:10026245-1759836600-1759843800@fvoas.org
SUMMARY:Boomer Bowling
DESCRIPTION:Hometown Lanes – Plano\, IL \nCall Becky for more details at (815) 786-9404
URL:https://fvoas.org/event/boomer-bowling-2/2025-10-07/
LOCATION:Fox Valley Community Services (Sandwich)\, 1406 Suydam Rd\, Sandwich\, IL\, 60548\, United States
CATEGORIES:Entertainment
END:VEVENT
BEGIN:VEVENT
DTSTART;TZID=UTC:20251010T090000
DTEND;TZID=UTC:20251010T100000
DTSTAMP:20260423T161251
CREATED:20230614T201217Z
LAST-MODIFIED:20260406T180510Z
UID:10007275-1760086800-1760090400@fvoas.org
SUMMARY:Line Dancing
DESCRIPTION:
URL:https://fvoas.org/event/line-dancing/2025-10-10/
LOCATION:Fox Valley Community Services (Sandwich)\, 1406 Suydam Rd\, Sandwich\, IL\, 60548\, United States
CATEGORIES:Entertainment
END:VEVENT
BEGIN:VEVENT
DTSTART;TZID=UTC:20251014T113000
DTEND;TZID=UTC:20251014T133000
DTSTAMP:20260423T161251
CREATED:20250923T142336Z
LAST-MODIFIED:20250923T142339Z
UID:10026246-1760441400-1760448600@fvoas.org
SUMMARY:Boomer Bowling
DESCRIPTION:Hometown Lanes – Plano\, IL \nCall Becky for more details at (815) 786-9404
URL:https://fvoas.org/event/boomer-bowling-2/2025-10-14/
LOCATION:Fox Valley Community Services (Sandwich)\, 1406 Suydam Rd\, Sandwich\, IL\, 60548\, United States
CATEGORIES:Entertainment
END:VEVENT
BEGIN:VEVENT
DTSTART;TZID=UTC:20251017T090000
DTEND;TZID=UTC:20251017T100000
DTSTAMP:20260423T161251
CREATED:20230614T201217Z
LAST-MODIFIED:20260406T180510Z
UID:10007276-1760691600-1760695200@fvoas.org
SUMMARY:Line Dancing
DESCRIPTION:
URL:https://fvoas.org/event/line-dancing/2025-10-17/
LOCATION:Fox Valley Community Services (Sandwich)\, 1406 Suydam Rd\, Sandwich\, IL\, 60548\, United States
CATEGORIES:Entertainment
END:VEVENT
BEGIN:VEVENT
DTSTART;TZID=UTC:20251021T113000
DTEND;TZID=UTC:20251021T133000
DTSTAMP:20260423T161251
CREATED:20250923T142336Z
LAST-MODIFIED:20250923T142339Z
UID:10026247-1761046200-1761053400@fvoas.org
SUMMARY:Boomer Bowling
DESCRIPTION:Hometown Lanes – Plano\, IL \nCall Becky for more details at (815) 786-9404
URL:https://fvoas.org/event/boomer-bowling-2/2025-10-21/
LOCATION:Fox Valley Community Services (Sandwich)\, 1406 Suydam Rd\, Sandwich\, IL\, 60548\, United States
CATEGORIES:Entertainment
END:VEVENT
BEGIN:VEVENT
DTSTART;TZID=UTC:20251024T090000
DTEND;TZID=UTC:20251024T100000
DTSTAMP:20260423T161251
CREATED:20230614T201217Z
LAST-MODIFIED:20260406T180510Z
UID:10007277-1761296400-1761300000@fvoas.org
SUMMARY:Line Dancing
DESCRIPTION:
URL:https://fvoas.org/event/line-dancing/2025-10-24/
LOCATION:Fox Valley Community Services (Sandwich)\, 1406 Suydam Rd\, Sandwich\, IL\, 60548\, United States
CATEGORIES:Entertainment
END:VEVENT
BEGIN:VEVENT
DTSTART;TZID=UTC:20251028T113000
DTEND;TZID=UTC:20251028T133000
DTSTAMP:20260423T161251
CREATED:20250923T142336Z
LAST-MODIFIED:20250923T142339Z
UID:10026248-1761651000-1761658200@fvoas.org
SUMMARY:Boomer Bowling
DESCRIPTION:Hometown Lanes – Plano\, IL \nCall Becky for more details at (815) 786-9404
URL:https://fvoas.org/event/boomer-bowling-2/2025-10-28/
LOCATION:Fox Valley Community Services (Sandwich)\, 1406 Suydam Rd\, Sandwich\, IL\, 60548\, United States
CATEGORIES:Entertainment
END:VEVENT
BEGIN:VEVENT
DTSTART;TZID=UTC:20251031T090000
DTEND;TZID=UTC:20251031T100000
DTSTAMP:20260423T161251
CREATED:20230614T201217Z
LAST-MODIFIED:20260406T180510Z
UID:10007278-1761901200-1761904800@fvoas.org
SUMMARY:Line Dancing
DESCRIPTION:
URL:https://fvoas.org/event/line-dancing/2025-10-31/
LOCATION:Fox Valley Community Services (Sandwich)\, 1406 Suydam Rd\, Sandwich\, IL\, 60548\, United States
CATEGORIES:Entertainment
END:VEVENT
END:VCALENDAR