BEGIN:VCALENDAR
VERSION:2.0
PRODID:-//Fox Valley Community Services - ECPv6.15.20//NONSGML v1.0//EN
CALSCALE:GREGORIAN
METHOD:PUBLISH
X-WR-CALNAME:Fox Valley Community Services
X-ORIGINAL-URL:https://fvoas.org
X-WR-CALDESC:Events for Fox Valley Community Services
REFRESH-INTERVAL;VALUE=DURATION:PT1H
X-Robots-Tag:noindex
X-PUBLISHED-TTL:PT1H
BEGIN:VTIMEZONE
TZID:UTC
BEGIN:STANDARD
TZOFFSETFROM:+0000
TZOFFSETTO:+0000
TZNAME:UTC
DTSTART:20240101T000000
END:STANDARD
END:VTIMEZONE
BEGIN:VEVENT
DTSTART;TZID=UTC:20251202T113000
DTEND;TZID=UTC:20251202T133000
DTSTAMP:20260423T032238
CREATED:20250923T142336Z
LAST-MODIFIED:20250923T142339Z
UID:10026253-1764675000-1764682200@fvoas.org
SUMMARY:Boomer Bowling
DESCRIPTION:Hometown Lanes – Plano\, IL \nCall Becky for more details at (815) 786-9404
URL:https://fvoas.org/event/boomer-bowling-2/2025-12-02/
LOCATION:Fox Valley Community Services (Sandwich)\, 1406 Suydam Rd\, Sandwich\, IL\, 60548\, United States
CATEGORIES:Entertainment
END:VEVENT
BEGIN:VEVENT
DTSTART;TZID=UTC:20251203T113000
DTEND;TZID=UTC:20251203T123000
DTSTAMP:20260423T032238
CREATED:20251201T200407Z
LAST-MODIFIED:20251202T194855Z
UID:10029051-1764761400-1764765000@fvoas.org
SUMMARY:VAC`s Christmas Show
DESCRIPTION:You are invited to a Christmas Show with Live Music by the Blue Rocket Band. \nLunch will be at 11:30 am
URL:https://fvoas.org/event/vacs-christmas-show/
LOCATION:Fox Valley Community Services (Sandwich)\, 1406 Suydam Rd\, Sandwich\, IL\, 60548\, United States
CATEGORIES:Entertainment,Rec Games,Social Activities,Special Events
ATTACH;FMTTYPE=image/png:https://fvoas.org/wp-content/uploads/2025/12/Screenshot-2025-12-02-102546.png
END:VEVENT
BEGIN:VEVENT
DTSTART;TZID=UTC:20251205T090000
DTEND;TZID=UTC:20251205T100000
DTSTAMP:20260423T032238
CREATED:20230614T201217Z
LAST-MODIFIED:20260406T180510Z
UID:10007283-1764925200-1764928800@fvoas.org
SUMMARY:Line Dancing
DESCRIPTION:
URL:https://fvoas.org/event/line-dancing/2025-12-05/
LOCATION:Fox Valley Community Services (Sandwich)\, 1406 Suydam Rd\, Sandwich\, IL\, 60548\, United States
CATEGORIES:Entertainment
END:VEVENT
BEGIN:VEVENT
DTSTART;TZID=UTC:20251209T113000
DTEND;TZID=UTC:20251209T133000
DTSTAMP:20260423T032238
CREATED:20250923T142336Z
LAST-MODIFIED:20250923T142339Z
UID:10026254-1765279800-1765287000@fvoas.org
SUMMARY:Boomer Bowling
DESCRIPTION:Hometown Lanes – Plano\, IL \nCall Becky for more details at (815) 786-9404
URL:https://fvoas.org/event/boomer-bowling-2/2025-12-09/
LOCATION:Fox Valley Community Services (Sandwich)\, 1406 Suydam Rd\, Sandwich\, IL\, 60548\, United States
CATEGORIES:Entertainment
END:VEVENT
BEGIN:VEVENT
DTSTART;TZID=UTC:20251212T090000
DTEND;TZID=UTC:20251212T100000
DTSTAMP:20260423T032238
CREATED:20230614T201217Z
LAST-MODIFIED:20260406T180510Z
UID:10007284-1765530000-1765533600@fvoas.org
SUMMARY:Line Dancing
DESCRIPTION:
URL:https://fvoas.org/event/line-dancing/2025-12-12/
LOCATION:Fox Valley Community Services (Sandwich)\, 1406 Suydam Rd\, Sandwich\, IL\, 60548\, United States
CATEGORIES:Entertainment
END:VEVENT
BEGIN:VEVENT
DTSTART;TZID=UTC:20251216T113000
DTEND;TZID=UTC:20251216T133000
DTSTAMP:20260423T032238
CREATED:20250923T142336Z
LAST-MODIFIED:20250923T142339Z
UID:10026255-1765884600-1765891800@fvoas.org
SUMMARY:Boomer Bowling
DESCRIPTION:Hometown Lanes – Plano\, IL \nCall Becky for more details at (815) 786-9404
URL:https://fvoas.org/event/boomer-bowling-2/2025-12-16/
LOCATION:Fox Valley Community Services (Sandwich)\, 1406 Suydam Rd\, Sandwich\, IL\, 60548\, United States
CATEGORIES:Entertainment
END:VEVENT
BEGIN:VEVENT
DTSTART;TZID=UTC:20251219T090000
DTEND;TZID=UTC:20251219T100000
DTSTAMP:20260423T032238
CREATED:20230614T201217Z
LAST-MODIFIED:20260406T180510Z
UID:10031637-1766134800-1766138400@fvoas.org
SUMMARY:Line Dancing
DESCRIPTION:
URL:https://fvoas.org/event/line-dancing/2025-12-19/
LOCATION:Fox Valley Community Services (Sandwich)\, 1406 Suydam Rd\, Sandwich\, IL\, 60548\, United States
CATEGORIES:Entertainment
END:VEVENT
BEGIN:VEVENT
DTSTART;TZID=UTC:20251219T090000
DTEND;TZID=UTC:20251219T123000
DTSTAMP:20260423T032238
CREATED:20251201T193649Z
LAST-MODIFIED:20251201T193649Z
UID:10028969-1766134800-1766147400@fvoas.org
SUMMARY:Hallmark Day
DESCRIPTION:Be sure to dress cozy for a fun day at Jingle Bell Junction with a full tree lighting ceremony\, crafts\, caroling\, lunch\, games\, and more. \nDon`t be too quick to head home we will be enjoying a classic Hallmark Christmas movie with popcorn after at the fun festivities will start at 12:30 pm. \nThis event is hosted by our amazing sponsors at A&B Exteriors.
URL:https://fvoas.org/event/hallmark-day/
LOCATION:Fox Valley Community Services (Sandwich)\, 1406 Suydam Rd\, Sandwich\, IL\, 60548\, United States
CATEGORIES:Entertainment,Rec Games,Social Activities,Special Events
ATTACH;FMTTYPE=image/jpeg:https://fvoas.org/wp-content/uploads/2025/12/Hallmark-Day.jpg
END:VEVENT
BEGIN:VEVENT
DTSTART;TZID=UTC:20251223T113000
DTEND;TZID=UTC:20251223T133000
DTSTAMP:20260423T032238
CREATED:20250923T142336Z
LAST-MODIFIED:20250923T142339Z
UID:10026256-1766489400-1766496600@fvoas.org
SUMMARY:Boomer Bowling
DESCRIPTION:Hometown Lanes – Plano\, IL \nCall Becky for more details at (815) 786-9404
URL:https://fvoas.org/event/boomer-bowling-2/2025-12-23/
LOCATION:Fox Valley Community Services (Sandwich)\, 1406 Suydam Rd\, Sandwich\, IL\, 60548\, United States
CATEGORIES:Entertainment
END:VEVENT
BEGIN:VEVENT
DTSTART;TZID=UTC:20251226T090000
DTEND;TZID=UTC:20251226T100000
DTSTAMP:20260423T032238
CREATED:20230614T201217Z
LAST-MODIFIED:20260406T180510Z
UID:10007286-1766739600-1766743200@fvoas.org
SUMMARY:Line Dancing
DESCRIPTION:
URL:https://fvoas.org/event/line-dancing/2025-12-26/
LOCATION:Fox Valley Community Services (Sandwich)\, 1406 Suydam Rd\, Sandwich\, IL\, 60548\, United States
CATEGORIES:Entertainment
END:VEVENT
BEGIN:VEVENT
DTSTART;TZID=UTC:20251230T113000
DTEND;TZID=UTC:20251230T133000
DTSTAMP:20260423T032238
CREATED:20250923T142336Z
LAST-MODIFIED:20250923T142339Z
UID:10026257-1767094200-1767101400@fvoas.org
SUMMARY:Boomer Bowling
DESCRIPTION:Hometown Lanes – Plano\, IL \nCall Becky for more details at (815) 786-9404
URL:https://fvoas.org/event/boomer-bowling-2/2025-12-30/
LOCATION:Fox Valley Community Services (Sandwich)\, 1406 Suydam Rd\, Sandwich\, IL\, 60548\, United States
CATEGORIES:Entertainment
END:VEVENT
END:VCALENDAR