BEGIN:VCALENDAR
VERSION:2.0
PRODID:-//Fox Valley Community Services - ECPv6.15.20//NONSGML v1.0//EN
CALSCALE:GREGORIAN
METHOD:PUBLISH
X-WR-CALNAME:Fox Valley Community Services
X-ORIGINAL-URL:https://fvoas.org
X-WR-CALDESC:Events for Fox Valley Community Services
REFRESH-INTERVAL;VALUE=DURATION:PT1H
X-Robots-Tag:noindex
X-PUBLISHED-TTL:PT1H
BEGIN:VTIMEZONE
TZID:UTC
BEGIN:STANDARD
TZOFFSETFROM:+0000
TZOFFSETTO:+0000
TZNAME:UTC
DTSTART:20250101T000000
END:STANDARD
END:VTIMEZONE
BEGIN:VEVENT
DTSTART;TZID=UTC:20260106T113000
DTEND;TZID=UTC:20260106T133000
DTSTAMP:20260423T020019
CREATED:20250923T142336Z
LAST-MODIFIED:20250923T142339Z
UID:10026258-1767699000-1767706200@fvoas.org
SUMMARY:Boomer Bowling
DESCRIPTION:Hometown Lanes – Plano\, IL \nCall Becky for more details at (815) 786-9404
URL:https://fvoas.org/event/boomer-bowling-2/2026-01-06/
LOCATION:Fox Valley Community Services (Sandwich)\, 1406 Suydam Rd\, Sandwich\, IL\, 60548\, United States
CATEGORIES:Entertainment
END:VEVENT
BEGIN:VEVENT
DTSTART;TZID=UTC:20260109T090000
DTEND;TZID=UTC:20260109T100000
DTSTAMP:20260423T020019
CREATED:20230614T201217Z
LAST-MODIFIED:20260406T180510Z
UID:10007288-1767949200-1767952800@fvoas.org
SUMMARY:Line Dancing
DESCRIPTION:
URL:https://fvoas.org/event/line-dancing/2026-01-09/
LOCATION:Fox Valley Community Services (Sandwich)\, 1406 Suydam Rd\, Sandwich\, IL\, 60548\, United States
CATEGORIES:Entertainment
END:VEVENT
BEGIN:VEVENT
DTSTART;TZID=UTC:20260113T113000
DTEND;TZID=UTC:20260113T133000
DTSTAMP:20260423T020019
CREATED:20250923T142336Z
LAST-MODIFIED:20250923T142339Z
UID:10026259-1768303800-1768311000@fvoas.org
SUMMARY:Boomer Bowling
DESCRIPTION:Hometown Lanes – Plano\, IL \nCall Becky for more details at (815) 786-9404
URL:https://fvoas.org/event/boomer-bowling-2/2026-01-13/
LOCATION:Fox Valley Community Services (Sandwich)\, 1406 Suydam Rd\, Sandwich\, IL\, 60548\, United States
CATEGORIES:Entertainment
END:VEVENT
BEGIN:VEVENT
DTSTART;TZID=UTC:20260116T090000
DTEND;TZID=UTC:20260116T100000
DTSTAMP:20260423T020019
CREATED:20230614T201217Z
LAST-MODIFIED:20260406T180510Z
UID:10007289-1768554000-1768557600@fvoas.org
SUMMARY:Line Dancing
DESCRIPTION:
URL:https://fvoas.org/event/line-dancing/2026-01-16/
LOCATION:Fox Valley Community Services (Sandwich)\, 1406 Suydam Rd\, Sandwich\, IL\, 60548\, United States
CATEGORIES:Entertainment
END:VEVENT
BEGIN:VEVENT
DTSTART;TZID=UTC:20260120T113000
DTEND;TZID=UTC:20260120T133000
DTSTAMP:20260423T020019
CREATED:20250923T142336Z
LAST-MODIFIED:20250923T142339Z
UID:10026260-1768908600-1768915800@fvoas.org
SUMMARY:Boomer Bowling
DESCRIPTION:Hometown Lanes – Plano\, IL \nCall Becky for more details at (815) 786-9404
URL:https://fvoas.org/event/boomer-bowling-2/2026-01-20/
LOCATION:Fox Valley Community Services (Sandwich)\, 1406 Suydam Rd\, Sandwich\, IL\, 60548\, United States
CATEGORIES:Entertainment
END:VEVENT
BEGIN:VEVENT
DTSTART;TZID=UTC:20260123T090000
DTEND;TZID=UTC:20260123T100000
DTSTAMP:20260423T020019
CREATED:20230614T201217Z
LAST-MODIFIED:20260406T180510Z
UID:10007290-1769158800-1769162400@fvoas.org
SUMMARY:Line Dancing
DESCRIPTION:
URL:https://fvoas.org/event/line-dancing/2026-01-23/
LOCATION:Fox Valley Community Services (Sandwich)\, 1406 Suydam Rd\, Sandwich\, IL\, 60548\, United States
CATEGORIES:Entertainment
END:VEVENT
BEGIN:VEVENT
DTSTART;TZID=UTC:20260123T103000
DTEND;TZID=UTC:20260123T143000
DTSTAMP:20260423T020019
CREATED:20251230T165133Z
LAST-MODIFIED:20251230T165136Z
UID:10028371-1769164200-1769178600@fvoas.org
SUMMARY:Book2Movie
DESCRIPTION:Book Discussion Begins at 10:30 AM\, Movie begins at 12:30 PM.
URL:https://fvoas.org/event/book2movie-2-2-2-2/2026-01-23/
LOCATION:Fox Valley Community Services (Sandwich)\, 1406 Suydam Rd\, Sandwich\, IL\, 60548\, United States
CATEGORIES:Entertainment
END:VEVENT
BEGIN:VEVENT
DTSTART;TZID=UTC:20260127T113000
DTEND;TZID=UTC:20260127T133000
DTSTAMP:20260423T020019
CREATED:20250923T142336Z
LAST-MODIFIED:20250923T142339Z
UID:10026261-1769513400-1769520600@fvoas.org
SUMMARY:Boomer Bowling
DESCRIPTION:Hometown Lanes – Plano\, IL \nCall Becky for more details at (815) 786-9404
URL:https://fvoas.org/event/boomer-bowling-2/2026-01-27/
LOCATION:Fox Valley Community Services (Sandwich)\, 1406 Suydam Rd\, Sandwich\, IL\, 60548\, United States
CATEGORIES:Entertainment
END:VEVENT
BEGIN:VEVENT
DTSTART;TZID=UTC:20260130T090000
DTEND;TZID=UTC:20260130T100000
DTSTAMP:20260423T020019
CREATED:20230614T201217Z
LAST-MODIFIED:20260406T180510Z
UID:10007291-1769763600-1769767200@fvoas.org
SUMMARY:Line Dancing
DESCRIPTION:
URL:https://fvoas.org/event/line-dancing/2026-01-30/
LOCATION:Fox Valley Community Services (Sandwich)\, 1406 Suydam Rd\, Sandwich\, IL\, 60548\, United States
CATEGORIES:Entertainment
END:VEVENT
END:VCALENDAR