BEGIN:VCALENDAR
VERSION:2.0
PRODID:-//Fox Valley Community Services - ECPv6.15.20//NONSGML v1.0//EN
CALSCALE:GREGORIAN
METHOD:PUBLISH
X-ORIGINAL-URL:https://fvoas.org
X-WR-CALDESC:Events for Fox Valley Community Services
REFRESH-INTERVAL;VALUE=DURATION:PT1H
X-Robots-Tag:noindex
X-PUBLISHED-TTL:PT1H
BEGIN:VTIMEZONE
TZID:UTC
BEGIN:STANDARD
TZOFFSETFROM:+0000
TZOFFSETTO:+0000
TZNAME:UTC
DTSTART:20260101T000000
END:STANDARD
END:VTIMEZONE
BEGIN:VEVENT
DTSTART;TZID=UTC:20270528T103000
DTEND;TZID=UTC:20270528T143000
DTSTAMP:20260425T124851
CREATED:20251230T165133Z
LAST-MODIFIED:20251230T165136Z
UID:10030652-1811500200-1811514600@fvoas.org
SUMMARY:Book2Movie
DESCRIPTION:Book Discussion Begins at 10:30 AM\, Movie begins at 12:30 PM.
URL:https://fvoas.org/event/book2movie-2-2-2-2/2027-05-28/
LOCATION:Fox Valley Community Services (Sandwich)\, 1406 Suydam Rd\, Sandwich\, IL\, 60548\, United States
CATEGORIES:Entertainment
END:VEVENT
BEGIN:VEVENT
DTSTART;TZID=UTC:20270601T113000
DTEND;TZID=UTC:20270601T133000
DTSTAMP:20260425T124851
CREATED:20250923T142336Z
LAST-MODIFIED:20250923T142339Z
UID:10026331-1811849400-1811856600@fvoas.org
SUMMARY:Boomer Bowling
DESCRIPTION:Hometown Lanes – Plano\, IL \nCall Becky for more details at (815) 786-9404
URL:https://fvoas.org/event/boomer-bowling-2/2027-06-01/
LOCATION:Fox Valley Community Services (Sandwich)\, 1406 Suydam Rd\, Sandwich\, IL\, 60548\, United States
CATEGORIES:Entertainment
END:VEVENT
BEGIN:VEVENT
DTSTART;TZID=UTC:20270604T090000
DTEND;TZID=UTC:20270604T100000
DTSTAMP:20260425T124851
CREATED:20230614T201217Z
LAST-MODIFIED:20260406T180510Z
UID:10007361-1812099600-1812103200@fvoas.org
SUMMARY:Line Dancing
DESCRIPTION:
URL:https://fvoas.org/event/line-dancing/2027-06-04/
LOCATION:Fox Valley Community Services (Sandwich)\, 1406 Suydam Rd\, Sandwich\, IL\, 60548\, United States
CATEGORIES:Entertainment
END:VEVENT
BEGIN:VEVENT
DTSTART;TZID=UTC:20270608T113000
DTEND;TZID=UTC:20270608T133000
DTSTAMP:20260425T124851
CREATED:20250923T142336Z
LAST-MODIFIED:20250923T142339Z
UID:10026332-1812454200-1812461400@fvoas.org
SUMMARY:Boomer Bowling
DESCRIPTION:Hometown Lanes – Plano\, IL \nCall Becky for more details at (815) 786-9404
URL:https://fvoas.org/event/boomer-bowling-2/2027-06-08/
LOCATION:Fox Valley Community Services (Sandwich)\, 1406 Suydam Rd\, Sandwich\, IL\, 60548\, United States
CATEGORIES:Entertainment
END:VEVENT
BEGIN:VEVENT
DTSTART;TZID=UTC:20270611T090000
DTEND;TZID=UTC:20270611T100000
DTSTAMP:20260425T124851
CREATED:20230614T201217Z
LAST-MODIFIED:20260406T180510Z
UID:10007362-1812704400-1812708000@fvoas.org
SUMMARY:Line Dancing
DESCRIPTION:
URL:https://fvoas.org/event/line-dancing/2027-06-11/
LOCATION:Fox Valley Community Services (Sandwich)\, 1406 Suydam Rd\, Sandwich\, IL\, 60548\, United States
CATEGORIES:Entertainment
END:VEVENT
BEGIN:VEVENT
DTSTART;TZID=UTC:20270615T113000
DTEND;TZID=UTC:20270615T133000
DTSTAMP:20260425T124851
CREATED:20250923T142336Z
LAST-MODIFIED:20250923T142339Z
UID:10026333-1813059000-1813066200@fvoas.org
SUMMARY:Boomer Bowling
DESCRIPTION:Hometown Lanes – Plano\, IL \nCall Becky for more details at (815) 786-9404
URL:https://fvoas.org/event/boomer-bowling-2/2027-06-15/
LOCATION:Fox Valley Community Services (Sandwich)\, 1406 Suydam Rd\, Sandwich\, IL\, 60548\, United States
CATEGORIES:Entertainment
END:VEVENT
BEGIN:VEVENT
DTSTART;TZID=UTC:20270618T090000
DTEND;TZID=UTC:20270618T100000
DTSTAMP:20260425T124851
CREATED:20230614T201217Z
LAST-MODIFIED:20260406T180510Z
UID:10007363-1813309200-1813312800@fvoas.org
SUMMARY:Line Dancing
DESCRIPTION:
URL:https://fvoas.org/event/line-dancing/2027-06-18/
LOCATION:Fox Valley Community Services (Sandwich)\, 1406 Suydam Rd\, Sandwich\, IL\, 60548\, United States
CATEGORIES:Entertainment
END:VEVENT
BEGIN:VEVENT
DTSTART;TZID=UTC:20270622T113000
DTEND;TZID=UTC:20270622T133000
DTSTAMP:20260425T124851
CREATED:20250923T142336Z
LAST-MODIFIED:20250923T142339Z
UID:10026334-1813663800-1813671000@fvoas.org
SUMMARY:Boomer Bowling
DESCRIPTION:Hometown Lanes – Plano\, IL \nCall Becky for more details at (815) 786-9404
URL:https://fvoas.org/event/boomer-bowling-2/2027-06-22/
LOCATION:Fox Valley Community Services (Sandwich)\, 1406 Suydam Rd\, Sandwich\, IL\, 60548\, United States
CATEGORIES:Entertainment
END:VEVENT
BEGIN:VEVENT
DTSTART;TZID=UTC:20270625T090000
DTEND;TZID=UTC:20270625T100000
DTSTAMP:20260425T124851
CREATED:20230614T201217Z
LAST-MODIFIED:20260406T180510Z
UID:10007364-1813914000-1813917600@fvoas.org
SUMMARY:Line Dancing
DESCRIPTION:
URL:https://fvoas.org/event/line-dancing/2027-06-25/
LOCATION:Fox Valley Community Services (Sandwich)\, 1406 Suydam Rd\, Sandwich\, IL\, 60548\, United States
CATEGORIES:Entertainment
END:VEVENT
BEGIN:VEVENT
DTSTART;TZID=UTC:20270625T103000
DTEND;TZID=UTC:20270625T143000
DTSTAMP:20260425T124851
CREATED:20251230T165133Z
LAST-MODIFIED:20251230T165136Z
UID:10030653-1813919400-1813933800@fvoas.org
SUMMARY:Book2Movie
DESCRIPTION:Book Discussion Begins at 10:30 AM\, Movie begins at 12:30 PM.
URL:https://fvoas.org/event/book2movie-2-2-2-2/2027-06-25/
LOCATION:Fox Valley Community Services (Sandwich)\, 1406 Suydam Rd\, Sandwich\, IL\, 60548\, United States
CATEGORIES:Entertainment
END:VEVENT
BEGIN:VEVENT
DTSTART;TZID=UTC:20270629T113000
DTEND;TZID=UTC:20270629T133000
DTSTAMP:20260425T124851
CREATED:20250923T142336Z
LAST-MODIFIED:20250923T142339Z
UID:10026335-1814268600-1814275800@fvoas.org
SUMMARY:Boomer Bowling
DESCRIPTION:Hometown Lanes – Plano\, IL \nCall Becky for more details at (815) 786-9404
URL:https://fvoas.org/event/boomer-bowling-2/2027-06-29/
LOCATION:Fox Valley Community Services (Sandwich)\, 1406 Suydam Rd\, Sandwich\, IL\, 60548\, United States
CATEGORIES:Entertainment
END:VEVENT
BEGIN:VEVENT
DTSTART;TZID=UTC:20270702T090000
DTEND;TZID=UTC:20270702T100000
DTSTAMP:20260425T124851
CREATED:20230614T201217Z
LAST-MODIFIED:20260406T180510Z
UID:10007365-1814518800-1814522400@fvoas.org
SUMMARY:Line Dancing
DESCRIPTION:
URL:https://fvoas.org/event/line-dancing/2027-07-02/
LOCATION:Fox Valley Community Services (Sandwich)\, 1406 Suydam Rd\, Sandwich\, IL\, 60548\, United States
CATEGORIES:Entertainment
END:VEVENT
BEGIN:VEVENT
DTSTART;TZID=UTC:20270706T113000
DTEND;TZID=UTC:20270706T133000
DTSTAMP:20260425T124851
CREATED:20250923T142336Z
LAST-MODIFIED:20250923T142339Z
UID:10026336-1814873400-1814880600@fvoas.org
SUMMARY:Boomer Bowling
DESCRIPTION:Hometown Lanes – Plano\, IL \nCall Becky for more details at (815) 786-9404
URL:https://fvoas.org/event/boomer-bowling-2/2027-07-06/
LOCATION:Fox Valley Community Services (Sandwich)\, 1406 Suydam Rd\, Sandwich\, IL\, 60548\, United States
CATEGORIES:Entertainment
END:VEVENT
BEGIN:VEVENT
DTSTART;TZID=UTC:20270709T090000
DTEND;TZID=UTC:20270709T100000
DTSTAMP:20260425T124851
CREATED:20230614T201217Z
LAST-MODIFIED:20260406T180510Z
UID:10007366-1815123600-1815127200@fvoas.org
SUMMARY:Line Dancing
DESCRIPTION:
URL:https://fvoas.org/event/line-dancing/2027-07-09/
LOCATION:Fox Valley Community Services (Sandwich)\, 1406 Suydam Rd\, Sandwich\, IL\, 60548\, United States
CATEGORIES:Entertainment
END:VEVENT
BEGIN:VEVENT
DTSTART;TZID=UTC:20270713T113000
DTEND;TZID=UTC:20270713T133000
DTSTAMP:20260425T124851
CREATED:20250923T142336Z
LAST-MODIFIED:20250923T142339Z
UID:10026337-1815478200-1815485400@fvoas.org
SUMMARY:Boomer Bowling
DESCRIPTION:Hometown Lanes – Plano\, IL \nCall Becky for more details at (815) 786-9404
URL:https://fvoas.org/event/boomer-bowling-2/2027-07-13/
LOCATION:Fox Valley Community Services (Sandwich)\, 1406 Suydam Rd\, Sandwich\, IL\, 60548\, United States
CATEGORIES:Entertainment
END:VEVENT
BEGIN:VEVENT
DTSTART;TZID=UTC:20270716T090000
DTEND;TZID=UTC:20270716T100000
DTSTAMP:20260425T124851
CREATED:20230614T201217Z
LAST-MODIFIED:20260406T180510Z
UID:10007367-1815728400-1815732000@fvoas.org
SUMMARY:Line Dancing
DESCRIPTION:
URL:https://fvoas.org/event/line-dancing/2027-07-16/
LOCATION:Fox Valley Community Services (Sandwich)\, 1406 Suydam Rd\, Sandwich\, IL\, 60548\, United States
CATEGORIES:Entertainment
END:VEVENT
BEGIN:VEVENT
DTSTART;TZID=UTC:20270720T113000
DTEND;TZID=UTC:20270720T133000
DTSTAMP:20260425T124851
CREATED:20250923T142336Z
LAST-MODIFIED:20250923T142339Z
UID:10026338-1816083000-1816090200@fvoas.org
SUMMARY:Boomer Bowling
DESCRIPTION:Hometown Lanes – Plano\, IL \nCall Becky for more details at (815) 786-9404
URL:https://fvoas.org/event/boomer-bowling-2/2027-07-20/
LOCATION:Fox Valley Community Services (Sandwich)\, 1406 Suydam Rd\, Sandwich\, IL\, 60548\, United States
CATEGORIES:Entertainment
END:VEVENT
BEGIN:VEVENT
DTSTART;TZID=UTC:20270723T090000
DTEND;TZID=UTC:20270723T100000
DTSTAMP:20260425T124851
CREATED:20230614T201217Z
LAST-MODIFIED:20260406T180510Z
UID:10007368-1816333200-1816336800@fvoas.org
SUMMARY:Line Dancing
DESCRIPTION:
URL:https://fvoas.org/event/line-dancing/2027-07-23/
LOCATION:Fox Valley Community Services (Sandwich)\, 1406 Suydam Rd\, Sandwich\, IL\, 60548\, United States
CATEGORIES:Entertainment
END:VEVENT
BEGIN:VEVENT
DTSTART;TZID=UTC:20270723T103000
DTEND;TZID=UTC:20270723T143000
DTSTAMP:20260425T124851
CREATED:20251230T165133Z
LAST-MODIFIED:20251230T165136Z
UID:10030654-1816338600-1816353000@fvoas.org
SUMMARY:Book2Movie
DESCRIPTION:Book Discussion Begins at 10:30 AM\, Movie begins at 12:30 PM.
URL:https://fvoas.org/event/book2movie-2-2-2-2/2027-07-23/
LOCATION:Fox Valley Community Services (Sandwich)\, 1406 Suydam Rd\, Sandwich\, IL\, 60548\, United States
CATEGORIES:Entertainment
END:VEVENT
BEGIN:VEVENT
DTSTART;TZID=UTC:20270727T113000
DTEND;TZID=UTC:20270727T133000
DTSTAMP:20260425T124851
CREATED:20250923T142336Z
LAST-MODIFIED:20250923T142339Z
UID:10026339-1816687800-1816695000@fvoas.org
SUMMARY:Boomer Bowling
DESCRIPTION:Hometown Lanes – Plano\, IL \nCall Becky for more details at (815) 786-9404
URL:https://fvoas.org/event/boomer-bowling-2/2027-07-27/
LOCATION:Fox Valley Community Services (Sandwich)\, 1406 Suydam Rd\, Sandwich\, IL\, 60548\, United States
CATEGORIES:Entertainment
END:VEVENT
BEGIN:VEVENT
DTSTART;TZID=UTC:20270730T090000
DTEND;TZID=UTC:20270730T100000
DTSTAMP:20260425T124851
CREATED:20230614T201217Z
LAST-MODIFIED:20260406T180510Z
UID:10007369-1816938000-1816941600@fvoas.org
SUMMARY:Line Dancing
DESCRIPTION:
URL:https://fvoas.org/event/line-dancing/2027-07-30/
LOCATION:Fox Valley Community Services (Sandwich)\, 1406 Suydam Rd\, Sandwich\, IL\, 60548\, United States
CATEGORIES:Entertainment
END:VEVENT
BEGIN:VEVENT
DTSTART;TZID=UTC:20270803T113000
DTEND;TZID=UTC:20270803T133000
DTSTAMP:20260425T124851
CREATED:20250923T142336Z
LAST-MODIFIED:20250923T142339Z
UID:10026340-1817292600-1817299800@fvoas.org
SUMMARY:Boomer Bowling
DESCRIPTION:Hometown Lanes – Plano\, IL \nCall Becky for more details at (815) 786-9404
URL:https://fvoas.org/event/boomer-bowling-2/2027-08-03/
LOCATION:Fox Valley Community Services (Sandwich)\, 1406 Suydam Rd\, Sandwich\, IL\, 60548\, United States
CATEGORIES:Entertainment
END:VEVENT
BEGIN:VEVENT
DTSTART;TZID=UTC:20270806T090000
DTEND;TZID=UTC:20270806T100000
DTSTAMP:20260425T124851
CREATED:20230614T201217Z
LAST-MODIFIED:20260406T180510Z
UID:10007370-1817542800-1817546400@fvoas.org
SUMMARY:Line Dancing
DESCRIPTION:
URL:https://fvoas.org/event/line-dancing/2027-08-06/
LOCATION:Fox Valley Community Services (Sandwich)\, 1406 Suydam Rd\, Sandwich\, IL\, 60548\, United States
CATEGORIES:Entertainment
END:VEVENT
BEGIN:VEVENT
DTSTART;TZID=UTC:20270810T113000
DTEND;TZID=UTC:20270810T133000
DTSTAMP:20260425T124851
CREATED:20250923T142336Z
LAST-MODIFIED:20250923T142339Z
UID:10026341-1817897400-1817904600@fvoas.org
SUMMARY:Boomer Bowling
DESCRIPTION:Hometown Lanes – Plano\, IL \nCall Becky for more details at (815) 786-9404
URL:https://fvoas.org/event/boomer-bowling-2/2027-08-10/
LOCATION:Fox Valley Community Services (Sandwich)\, 1406 Suydam Rd\, Sandwich\, IL\, 60548\, United States
CATEGORIES:Entertainment
END:VEVENT
BEGIN:VEVENT
DTSTART;TZID=UTC:20270813T090000
DTEND;TZID=UTC:20270813T100000
DTSTAMP:20260425T124851
CREATED:20230614T201217Z
LAST-MODIFIED:20260406T180510Z
UID:10007371-1818147600-1818151200@fvoas.org
SUMMARY:Line Dancing
DESCRIPTION:
URL:https://fvoas.org/event/line-dancing/2027-08-13/
LOCATION:Fox Valley Community Services (Sandwich)\, 1406 Suydam Rd\, Sandwich\, IL\, 60548\, United States
CATEGORIES:Entertainment
END:VEVENT
BEGIN:VEVENT
DTSTART;TZID=UTC:20270817T113000
DTEND;TZID=UTC:20270817T133000
DTSTAMP:20260425T124851
CREATED:20250923T142336Z
LAST-MODIFIED:20250923T142339Z
UID:10026342-1818502200-1818509400@fvoas.org
SUMMARY:Boomer Bowling
DESCRIPTION:Hometown Lanes – Plano\, IL \nCall Becky for more details at (815) 786-9404
URL:https://fvoas.org/event/boomer-bowling-2/2027-08-17/
LOCATION:Fox Valley Community Services (Sandwich)\, 1406 Suydam Rd\, Sandwich\, IL\, 60548\, United States
CATEGORIES:Entertainment
END:VEVENT
BEGIN:VEVENT
DTSTART;TZID=UTC:20270820T090000
DTEND;TZID=UTC:20270820T100000
DTSTAMP:20260425T124851
CREATED:20230614T201217Z
LAST-MODIFIED:20260406T180510Z
UID:10007372-1818752400-1818756000@fvoas.org
SUMMARY:Line Dancing
DESCRIPTION:
URL:https://fvoas.org/event/line-dancing/2027-08-20/
LOCATION:Fox Valley Community Services (Sandwich)\, 1406 Suydam Rd\, Sandwich\, IL\, 60548\, United States
CATEGORIES:Entertainment
END:VEVENT
BEGIN:VEVENT
DTSTART;TZID=UTC:20270824T113000
DTEND;TZID=UTC:20270824T133000
DTSTAMP:20260425T124851
CREATED:20250923T142336Z
LAST-MODIFIED:20250923T142339Z
UID:10026343-1819107000-1819114200@fvoas.org
SUMMARY:Boomer Bowling
DESCRIPTION:Hometown Lanes – Plano\, IL \nCall Becky for more details at (815) 786-9404
URL:https://fvoas.org/event/boomer-bowling-2/2027-08-24/
LOCATION:Fox Valley Community Services (Sandwich)\, 1406 Suydam Rd\, Sandwich\, IL\, 60548\, United States
CATEGORIES:Entertainment
END:VEVENT
BEGIN:VEVENT
DTSTART;TZID=UTC:20270827T090000
DTEND;TZID=UTC:20270827T100000
DTSTAMP:20260425T124851
CREATED:20230614T201217Z
LAST-MODIFIED:20260406T180510Z
UID:10007373-1819357200-1819360800@fvoas.org
SUMMARY:Line Dancing
DESCRIPTION:
URL:https://fvoas.org/event/line-dancing/2027-08-27/
LOCATION:Fox Valley Community Services (Sandwich)\, 1406 Suydam Rd\, Sandwich\, IL\, 60548\, United States
CATEGORIES:Entertainment
END:VEVENT
BEGIN:VEVENT
DTSTART;TZID=UTC:20270827T103000
DTEND;TZID=UTC:20270827T143000
DTSTAMP:20260425T124851
CREATED:20251230T165133Z
LAST-MODIFIED:20251230T165136Z
UID:10030655-1819362600-1819377000@fvoas.org
SUMMARY:Book2Movie
DESCRIPTION:Book Discussion Begins at 10:30 AM\, Movie begins at 12:30 PM.
URL:https://fvoas.org/event/book2movie-2-2-2-2/2027-08-27/
LOCATION:Fox Valley Community Services (Sandwich)\, 1406 Suydam Rd\, Sandwich\, IL\, 60548\, United States
CATEGORIES:Entertainment
END:VEVENT
END:VCALENDAR