BEGIN:VCALENDAR
VERSION:2.0
PRODID:-//Fox Valley Community Services - ECPv6.15.20//NONSGML v1.0//EN
CALSCALE:GREGORIAN
METHOD:PUBLISH
X-WR-CALNAME:Fox Valley Community Services
X-ORIGINAL-URL:https://fvoas.org
X-WR-CALDESC:Events for Fox Valley Community Services
REFRESH-INTERVAL;VALUE=DURATION:PT1H
X-Robots-Tag:noindex
X-PUBLISHED-TTL:PT1H
BEGIN:VTIMEZONE
TZID:UTC
BEGIN:STANDARD
TZOFFSETFROM:+0000
TZOFFSETTO:+0000
TZNAME:UTC
DTSTART:20260101T000000
END:STANDARD
END:VTIMEZONE
BEGIN:VEVENT
DTSTART;TZID=UTC:20271207T113000
DTEND;TZID=UTC:20271207T133000
DTSTAMP:20260425T152832
CREATED:20250923T142336Z
LAST-MODIFIED:20250923T142339Z
UID:10026358-1828179000-1828186200@fvoas.org
SUMMARY:Boomer Bowling
DESCRIPTION:Hometown Lanes – Plano\, IL \nCall Becky for more details at (815) 786-9404
URL:https://fvoas.org/event/boomer-bowling-2/2027-12-07/
LOCATION:Fox Valley Community Services (Sandwich)\, 1406 Suydam Rd\, Sandwich\, IL\, 60548\, United States
CATEGORIES:Entertainment
END:VEVENT
BEGIN:VEVENT
DTSTART;TZID=UTC:20271210T090000
DTEND;TZID=UTC:20271210T100000
DTSTAMP:20260425T152832
CREATED:20230614T201217Z
LAST-MODIFIED:20260406T180510Z
UID:10007388-1828429200-1828432800@fvoas.org
SUMMARY:Line Dancing
DESCRIPTION:
URL:https://fvoas.org/event/line-dancing/2027-12-10/
LOCATION:Fox Valley Community Services (Sandwich)\, 1406 Suydam Rd\, Sandwich\, IL\, 60548\, United States
CATEGORIES:Entertainment
END:VEVENT
BEGIN:VEVENT
DTSTART;TZID=UTC:20271214T113000
DTEND;TZID=UTC:20271214T133000
DTSTAMP:20260425T152832
CREATED:20250923T142336Z
LAST-MODIFIED:20250923T142339Z
UID:10026359-1828783800-1828791000@fvoas.org
SUMMARY:Boomer Bowling
DESCRIPTION:Hometown Lanes – Plano\, IL \nCall Becky for more details at (815) 786-9404
URL:https://fvoas.org/event/boomer-bowling-2/2027-12-14/
LOCATION:Fox Valley Community Services (Sandwich)\, 1406 Suydam Rd\, Sandwich\, IL\, 60548\, United States
CATEGORIES:Entertainment
END:VEVENT
BEGIN:VEVENT
DTSTART;TZID=UTC:20271217T090000
DTEND;TZID=UTC:20271217T100000
DTSTAMP:20260425T152832
CREATED:20230614T201217Z
LAST-MODIFIED:20260406T180510Z
UID:10007389-1829034000-1829037600@fvoas.org
SUMMARY:Line Dancing
DESCRIPTION:
URL:https://fvoas.org/event/line-dancing/2027-12-17/
LOCATION:Fox Valley Community Services (Sandwich)\, 1406 Suydam Rd\, Sandwich\, IL\, 60548\, United States
CATEGORIES:Entertainment
END:VEVENT
BEGIN:VEVENT
DTSTART;TZID=UTC:20271221T113000
DTEND;TZID=UTC:20271221T133000
DTSTAMP:20260425T152832
CREATED:20250923T142336Z
LAST-MODIFIED:20250923T142339Z
UID:10026360-1829388600-1829395800@fvoas.org
SUMMARY:Boomer Bowling
DESCRIPTION:Hometown Lanes – Plano\, IL \nCall Becky for more details at (815) 786-9404
URL:https://fvoas.org/event/boomer-bowling-2/2027-12-21/
LOCATION:Fox Valley Community Services (Sandwich)\, 1406 Suydam Rd\, Sandwich\, IL\, 60548\, United States
CATEGORIES:Entertainment
END:VEVENT
BEGIN:VEVENT
DTSTART;TZID=UTC:20271224T090000
DTEND;TZID=UTC:20271224T100000
DTSTAMP:20260425T152832
CREATED:20230614T201217Z
LAST-MODIFIED:20260406T180510Z
UID:10007390-1829638800-1829642400@fvoas.org
SUMMARY:Line Dancing
DESCRIPTION:
URL:https://fvoas.org/event/line-dancing/2027-12-24/
LOCATION:Fox Valley Community Services (Sandwich)\, 1406 Suydam Rd\, Sandwich\, IL\, 60548\, United States
CATEGORIES:Entertainment
END:VEVENT
BEGIN:VEVENT
DTSTART;TZID=UTC:20271224T103000
DTEND;TZID=UTC:20271224T143000
DTSTAMP:20260425T152832
CREATED:20251230T165133Z
LAST-MODIFIED:20251230T165136Z
UID:10030659-1829644200-1829658600@fvoas.org
SUMMARY:Book2Movie
DESCRIPTION:Book Discussion Begins at 10:30 AM\, Movie begins at 12:30 PM.
URL:https://fvoas.org/event/book2movie-2-2-2-2/2027-12-24/
LOCATION:Fox Valley Community Services (Sandwich)\, 1406 Suydam Rd\, Sandwich\, IL\, 60548\, United States
CATEGORIES:Entertainment
END:VEVENT
BEGIN:VEVENT
DTSTART;TZID=UTC:20271228T113000
DTEND;TZID=UTC:20271228T133000
DTSTAMP:20260425T152832
CREATED:20250923T142336Z
LAST-MODIFIED:20250923T142339Z
UID:10026361-1829993400-1830000600@fvoas.org
SUMMARY:Boomer Bowling
DESCRIPTION:Hometown Lanes – Plano\, IL \nCall Becky for more details at (815) 786-9404
URL:https://fvoas.org/event/boomer-bowling-2/2027-12-28/
LOCATION:Fox Valley Community Services (Sandwich)\, 1406 Suydam Rd\, Sandwich\, IL\, 60548\, United States
CATEGORIES:Entertainment
END:VEVENT
BEGIN:VEVENT
DTSTART;TZID=UTC:20271231T090000
DTEND;TZID=UTC:20271231T100000
DTSTAMP:20260425T152832
CREATED:20230614T201217Z
LAST-MODIFIED:20260406T180510Z
UID:10007391-1830243600-1830247200@fvoas.org
SUMMARY:Line Dancing
DESCRIPTION:
URL:https://fvoas.org/event/line-dancing/2027-12-31/
LOCATION:Fox Valley Community Services (Sandwich)\, 1406 Suydam Rd\, Sandwich\, IL\, 60548\, United States
CATEGORIES:Entertainment
END:VEVENT
BEGIN:VEVENT
DTSTART;TZID=UTC:20280104T113000
DTEND;TZID=UTC:20280104T133000
DTSTAMP:20260425T152832
CREATED:20250923T142336Z
LAST-MODIFIED:20250923T142339Z
UID:10026362-1830598200-1830605400@fvoas.org
SUMMARY:Boomer Bowling
DESCRIPTION:Hometown Lanes – Plano\, IL \nCall Becky for more details at (815) 786-9404
URL:https://fvoas.org/event/boomer-bowling-2/2028-01-04/
LOCATION:Fox Valley Community Services (Sandwich)\, 1406 Suydam Rd\, Sandwich\, IL\, 60548\, United States
CATEGORIES:Entertainment
END:VEVENT
BEGIN:VEVENT
DTSTART;TZID=UTC:20280107T090000
DTEND;TZID=UTC:20280107T100000
DTSTAMP:20260425T152832
CREATED:20230614T201217Z
LAST-MODIFIED:20260406T180510Z
UID:10007392-1830848400-1830852000@fvoas.org
SUMMARY:Line Dancing
DESCRIPTION:
URL:https://fvoas.org/event/line-dancing/2028-01-07/
LOCATION:Fox Valley Community Services (Sandwich)\, 1406 Suydam Rd\, Sandwich\, IL\, 60548\, United States
CATEGORIES:Entertainment
END:VEVENT
BEGIN:VEVENT
DTSTART;TZID=UTC:20280111T113000
DTEND;TZID=UTC:20280111T133000
DTSTAMP:20260425T152832
CREATED:20250923T142336Z
LAST-MODIFIED:20250923T142339Z
UID:10026363-1831203000-1831210200@fvoas.org
SUMMARY:Boomer Bowling
DESCRIPTION:Hometown Lanes – Plano\, IL \nCall Becky for more details at (815) 786-9404
URL:https://fvoas.org/event/boomer-bowling-2/2028-01-11/
LOCATION:Fox Valley Community Services (Sandwich)\, 1406 Suydam Rd\, Sandwich\, IL\, 60548\, United States
CATEGORIES:Entertainment
END:VEVENT
BEGIN:VEVENT
DTSTART;TZID=UTC:20280114T090000
DTEND;TZID=UTC:20280114T100000
DTSTAMP:20260425T152832
CREATED:20230614T201217Z
LAST-MODIFIED:20260406T180510Z
UID:10007393-1831453200-1831456800@fvoas.org
SUMMARY:Line Dancing
DESCRIPTION:
URL:https://fvoas.org/event/line-dancing/2028-01-14/
LOCATION:Fox Valley Community Services (Sandwich)\, 1406 Suydam Rd\, Sandwich\, IL\, 60548\, United States
CATEGORIES:Entertainment
END:VEVENT
BEGIN:VEVENT
DTSTART;TZID=UTC:20280118T113000
DTEND;TZID=UTC:20280118T133000
DTSTAMP:20260425T152832
CREATED:20250923T142336Z
LAST-MODIFIED:20250923T142339Z
UID:10026364-1831807800-1831815000@fvoas.org
SUMMARY:Boomer Bowling
DESCRIPTION:Hometown Lanes – Plano\, IL \nCall Becky for more details at (815) 786-9404
URL:https://fvoas.org/event/boomer-bowling-2/2028-01-18/
LOCATION:Fox Valley Community Services (Sandwich)\, 1406 Suydam Rd\, Sandwich\, IL\, 60548\, United States
CATEGORIES:Entertainment
END:VEVENT
BEGIN:VEVENT
DTSTART;TZID=UTC:20280121T090000
DTEND;TZID=UTC:20280121T100000
DTSTAMP:20260425T152832
CREATED:20230614T201217Z
LAST-MODIFIED:20260406T180510Z
UID:10007394-1832058000-1832061600@fvoas.org
SUMMARY:Line Dancing
DESCRIPTION:
URL:https://fvoas.org/event/line-dancing/2028-01-21/
LOCATION:Fox Valley Community Services (Sandwich)\, 1406 Suydam Rd\, Sandwich\, IL\, 60548\, United States
CATEGORIES:Entertainment
END:VEVENT
BEGIN:VEVENT
DTSTART;TZID=UTC:20280125T113000
DTEND;TZID=UTC:20280125T133000
DTSTAMP:20260425T152832
CREATED:20250923T142336Z
LAST-MODIFIED:20250923T142339Z
UID:10026365-1832412600-1832419800@fvoas.org
SUMMARY:Boomer Bowling
DESCRIPTION:Hometown Lanes – Plano\, IL \nCall Becky for more details at (815) 786-9404
URL:https://fvoas.org/event/boomer-bowling-2/2028-01-25/
LOCATION:Fox Valley Community Services (Sandwich)\, 1406 Suydam Rd\, Sandwich\, IL\, 60548\, United States
CATEGORIES:Entertainment
END:VEVENT
BEGIN:VEVENT
DTSTART;TZID=UTC:20280128T090000
DTEND;TZID=UTC:20280128T100000
DTSTAMP:20260425T152832
CREATED:20230614T201217Z
LAST-MODIFIED:20260406T180510Z
UID:10007395-1832662800-1832666400@fvoas.org
SUMMARY:Line Dancing
DESCRIPTION:
URL:https://fvoas.org/event/line-dancing/2028-01-28/
LOCATION:Fox Valley Community Services (Sandwich)\, 1406 Suydam Rd\, Sandwich\, IL\, 60548\, United States
CATEGORIES:Entertainment
END:VEVENT
BEGIN:VEVENT
DTSTART;TZID=UTC:20280128T103000
DTEND;TZID=UTC:20280128T143000
DTSTAMP:20260425T152832
CREATED:20251230T165133Z
LAST-MODIFIED:20251230T165136Z
UID:10030660-1832668200-1832682600@fvoas.org
SUMMARY:Book2Movie
DESCRIPTION:Book Discussion Begins at 10:30 AM\, Movie begins at 12:30 PM.
URL:https://fvoas.org/event/book2movie-2-2-2-2/2028-01-28/
LOCATION:Fox Valley Community Services (Sandwich)\, 1406 Suydam Rd\, Sandwich\, IL\, 60548\, United States
CATEGORIES:Entertainment
END:VEVENT
BEGIN:VEVENT
DTSTART;TZID=UTC:20280201T113000
DTEND;TZID=UTC:20280201T133000
DTSTAMP:20260425T152832
CREATED:20250923T142336Z
LAST-MODIFIED:20250923T142339Z
UID:10026366-1833017400-1833024600@fvoas.org
SUMMARY:Boomer Bowling
DESCRIPTION:Hometown Lanes – Plano\, IL \nCall Becky for more details at (815) 786-9404
URL:https://fvoas.org/event/boomer-bowling-2/2028-02-01/
LOCATION:Fox Valley Community Services (Sandwich)\, 1406 Suydam Rd\, Sandwich\, IL\, 60548\, United States
CATEGORIES:Entertainment
END:VEVENT
BEGIN:VEVENT
DTSTART;TZID=UTC:20280204T090000
DTEND;TZID=UTC:20280204T100000
DTSTAMP:20260425T152832
CREATED:20230614T201217Z
LAST-MODIFIED:20260406T180510Z
UID:10007396-1833267600-1833271200@fvoas.org
SUMMARY:Line Dancing
DESCRIPTION:
URL:https://fvoas.org/event/line-dancing/2028-02-04/
LOCATION:Fox Valley Community Services (Sandwich)\, 1406 Suydam Rd\, Sandwich\, IL\, 60548\, United States
CATEGORIES:Entertainment
END:VEVENT
BEGIN:VEVENT
DTSTART;TZID=UTC:20280208T113000
DTEND;TZID=UTC:20280208T133000
DTSTAMP:20260425T152832
CREATED:20250923T142336Z
LAST-MODIFIED:20250923T142339Z
UID:10026367-1833622200-1833629400@fvoas.org
SUMMARY:Boomer Bowling
DESCRIPTION:Hometown Lanes – Plano\, IL \nCall Becky for more details at (815) 786-9404
URL:https://fvoas.org/event/boomer-bowling-2/2028-02-08/
LOCATION:Fox Valley Community Services (Sandwich)\, 1406 Suydam Rd\, Sandwich\, IL\, 60548\, United States
CATEGORIES:Entertainment
END:VEVENT
BEGIN:VEVENT
DTSTART;TZID=UTC:20280211T090000
DTEND;TZID=UTC:20280211T100000
DTSTAMP:20260425T152832
CREATED:20230614T201217Z
LAST-MODIFIED:20260406T180510Z
UID:10007397-1833872400-1833876000@fvoas.org
SUMMARY:Line Dancing
DESCRIPTION:
URL:https://fvoas.org/event/line-dancing/2028-02-11/
LOCATION:Fox Valley Community Services (Sandwich)\, 1406 Suydam Rd\, Sandwich\, IL\, 60548\, United States
CATEGORIES:Entertainment
END:VEVENT
BEGIN:VEVENT
DTSTART;TZID=UTC:20280215T113000
DTEND;TZID=UTC:20280215T133000
DTSTAMP:20260425T152832
CREATED:20250923T142336Z
LAST-MODIFIED:20250923T142339Z
UID:10026368-1834227000-1834234200@fvoas.org
SUMMARY:Boomer Bowling
DESCRIPTION:Hometown Lanes – Plano\, IL \nCall Becky for more details at (815) 786-9404
URL:https://fvoas.org/event/boomer-bowling-2/2028-02-15/
LOCATION:Fox Valley Community Services (Sandwich)\, 1406 Suydam Rd\, Sandwich\, IL\, 60548\, United States
CATEGORIES:Entertainment
END:VEVENT
BEGIN:VEVENT
DTSTART;TZID=UTC:20280218T090000
DTEND;TZID=UTC:20280218T100000
DTSTAMP:20260425T152832
CREATED:20230614T201217Z
LAST-MODIFIED:20260406T180510Z
UID:10007398-1834477200-1834480800@fvoas.org
SUMMARY:Line Dancing
DESCRIPTION:
URL:https://fvoas.org/event/line-dancing/2028-02-18/
LOCATION:Fox Valley Community Services (Sandwich)\, 1406 Suydam Rd\, Sandwich\, IL\, 60548\, United States
CATEGORIES:Entertainment
END:VEVENT
BEGIN:VEVENT
DTSTART;TZID=UTC:20280222T113000
DTEND;TZID=UTC:20280222T133000
DTSTAMP:20260425T152832
CREATED:20250923T142336Z
LAST-MODIFIED:20250923T142339Z
UID:10026369-1834831800-1834839000@fvoas.org
SUMMARY:Boomer Bowling
DESCRIPTION:Hometown Lanes – Plano\, IL \nCall Becky for more details at (815) 786-9404
URL:https://fvoas.org/event/boomer-bowling-2/2028-02-22/
LOCATION:Fox Valley Community Services (Sandwich)\, 1406 Suydam Rd\, Sandwich\, IL\, 60548\, United States
CATEGORIES:Entertainment
END:VEVENT
BEGIN:VEVENT
DTSTART;TZID=UTC:20280225T090000
DTEND;TZID=UTC:20280225T100000
DTSTAMP:20260425T152832
CREATED:20230614T201217Z
LAST-MODIFIED:20260406T180510Z
UID:10007399-1835082000-1835085600@fvoas.org
SUMMARY:Line Dancing
DESCRIPTION:
URL:https://fvoas.org/event/line-dancing/2028-02-25/
LOCATION:Fox Valley Community Services (Sandwich)\, 1406 Suydam Rd\, Sandwich\, IL\, 60548\, United States
CATEGORIES:Entertainment
END:VEVENT
BEGIN:VEVENT
DTSTART;TZID=UTC:20280225T103000
DTEND;TZID=UTC:20280225T143000
DTSTAMP:20260425T152832
CREATED:20251230T165133Z
LAST-MODIFIED:20251230T165136Z
UID:10030661-1835087400-1835101800@fvoas.org
SUMMARY:Book2Movie
DESCRIPTION:Book Discussion Begins at 10:30 AM\, Movie begins at 12:30 PM.
URL:https://fvoas.org/event/book2movie-2-2-2-2/2028-02-25/
LOCATION:Fox Valley Community Services (Sandwich)\, 1406 Suydam Rd\, Sandwich\, IL\, 60548\, United States
CATEGORIES:Entertainment
END:VEVENT
BEGIN:VEVENT
DTSTART;TZID=UTC:20280229T113000
DTEND;TZID=UTC:20280229T133000
DTSTAMP:20260425T152832
CREATED:20250923T142336Z
LAST-MODIFIED:20250923T142339Z
UID:10026370-1835436600-1835443800@fvoas.org
SUMMARY:Boomer Bowling
DESCRIPTION:Hometown Lanes – Plano\, IL \nCall Becky for more details at (815) 786-9404
URL:https://fvoas.org/event/boomer-bowling-2/2028-02-29/
LOCATION:Fox Valley Community Services (Sandwich)\, 1406 Suydam Rd\, Sandwich\, IL\, 60548\, United States
CATEGORIES:Entertainment
END:VEVENT
BEGIN:VEVENT
DTSTART;TZID=UTC:20280303T090000
DTEND;TZID=UTC:20280303T100000
DTSTAMP:20260425T152832
CREATED:20230614T201217Z
LAST-MODIFIED:20260406T180510Z
UID:10007400-1835686800-1835690400@fvoas.org
SUMMARY:Line Dancing
DESCRIPTION:
URL:https://fvoas.org/event/line-dancing/2028-03-03/
LOCATION:Fox Valley Community Services (Sandwich)\, 1406 Suydam Rd\, Sandwich\, IL\, 60548\, United States
CATEGORIES:Entertainment
END:VEVENT
BEGIN:VEVENT
DTSTART;TZID=UTC:20280307T113000
DTEND;TZID=UTC:20280307T133000
DTSTAMP:20260425T152832
CREATED:20250923T142336Z
LAST-MODIFIED:20250923T142339Z
UID:10026371-1836041400-1836048600@fvoas.org
SUMMARY:Boomer Bowling
DESCRIPTION:Hometown Lanes – Plano\, IL \nCall Becky for more details at (815) 786-9404
URL:https://fvoas.org/event/boomer-bowling-2/2028-03-07/
LOCATION:Fox Valley Community Services (Sandwich)\, 1406 Suydam Rd\, Sandwich\, IL\, 60548\, United States
CATEGORIES:Entertainment
END:VEVENT
END:VCALENDAR