BEGIN:VCALENDAR
VERSION:2.0
PRODID:-//Fox Valley Community Services - ECPv6.15.20//NONSGML v1.0//EN
CALSCALE:GREGORIAN
METHOD:PUBLISH
X-WR-CALNAME:Fox Valley Community Services
X-ORIGINAL-URL:https://fvoas.org
X-WR-CALDESC:Events for Fox Valley Community Services
REFRESH-INTERVAL;VALUE=DURATION:PT1H
X-Robots-Tag:noindex
X-PUBLISHED-TTL:PT1H
BEGIN:VTIMEZONE
TZID:UTC
BEGIN:STANDARD
TZOFFSETFROM:+0000
TZOFFSETTO:+0000
TZNAME:UTC
DTSTART:20250101T000000
END:STANDARD
END:VTIMEZONE
BEGIN:VEVENT
DTSTART;TZID=UTC:20260807T090000
DTEND;TZID=UTC:20260807T100000
DTSTAMP:20260422T223937
CREATED:20230614T201217Z
LAST-MODIFIED:20260406T180510Z
UID:10007318-1786093200-1786096800@fvoas.org
SUMMARY:Line Dancing
DESCRIPTION:
URL:https://fvoas.org/event/line-dancing/2026-08-07/
LOCATION:Fox Valley Community Services (Sandwich)\, 1406 Suydam Rd\, Sandwich\, IL\, 60548\, United States
CATEGORIES:Entertainment
END:VEVENT
BEGIN:VEVENT
DTSTART;TZID=UTC:20260811T113000
DTEND;TZID=UTC:20260811T133000
DTSTAMP:20260422T223937
CREATED:20250923T142336Z
LAST-MODIFIED:20250923T142339Z
UID:10026289-1786447800-1786455000@fvoas.org
SUMMARY:Boomer Bowling
DESCRIPTION:Hometown Lanes – Plano\, IL \nCall Becky for more details at (815) 786-9404
URL:https://fvoas.org/event/boomer-bowling-2/2026-08-11/
LOCATION:Fox Valley Community Services (Sandwich)\, 1406 Suydam Rd\, Sandwich\, IL\, 60548\, United States
CATEGORIES:Entertainment
END:VEVENT
BEGIN:VEVENT
DTSTART;TZID=UTC:20260814T090000
DTEND;TZID=UTC:20260814T100000
DTSTAMP:20260422T223937
CREATED:20230614T201217Z
LAST-MODIFIED:20260406T180510Z
UID:10007319-1786698000-1786701600@fvoas.org
SUMMARY:Line Dancing
DESCRIPTION:
URL:https://fvoas.org/event/line-dancing/2026-08-14/
LOCATION:Fox Valley Community Services (Sandwich)\, 1406 Suydam Rd\, Sandwich\, IL\, 60548\, United States
CATEGORIES:Entertainment
END:VEVENT
BEGIN:VEVENT
DTSTART;TZID=UTC:20260818T113000
DTEND;TZID=UTC:20260818T133000
DTSTAMP:20260422T223937
CREATED:20250923T142336Z
LAST-MODIFIED:20250923T142339Z
UID:10026290-1787052600-1787059800@fvoas.org
SUMMARY:Boomer Bowling
DESCRIPTION:Hometown Lanes – Plano\, IL \nCall Becky for more details at (815) 786-9404
URL:https://fvoas.org/event/boomer-bowling-2/2026-08-18/
LOCATION:Fox Valley Community Services (Sandwich)\, 1406 Suydam Rd\, Sandwich\, IL\, 60548\, United States
CATEGORIES:Entertainment
END:VEVENT
BEGIN:VEVENT
DTSTART;TZID=UTC:20260821T090000
DTEND;TZID=UTC:20260821T100000
DTSTAMP:20260422T223937
CREATED:20230614T201217Z
LAST-MODIFIED:20260406T180510Z
UID:10007320-1787302800-1787306400@fvoas.org
SUMMARY:Line Dancing
DESCRIPTION:
URL:https://fvoas.org/event/line-dancing/2026-08-21/
LOCATION:Fox Valley Community Services (Sandwich)\, 1406 Suydam Rd\, Sandwich\, IL\, 60548\, United States
CATEGORIES:Entertainment
END:VEVENT
BEGIN:VEVENT
DTSTART;TZID=UTC:20260825T113000
DTEND;TZID=UTC:20260825T133000
DTSTAMP:20260422T223937
CREATED:20250923T142336Z
LAST-MODIFIED:20250923T142339Z
UID:10026291-1787657400-1787664600@fvoas.org
SUMMARY:Boomer Bowling
DESCRIPTION:Hometown Lanes – Plano\, IL \nCall Becky for more details at (815) 786-9404
URL:https://fvoas.org/event/boomer-bowling-2/2026-08-25/
LOCATION:Fox Valley Community Services (Sandwich)\, 1406 Suydam Rd\, Sandwich\, IL\, 60548\, United States
CATEGORIES:Entertainment
END:VEVENT
BEGIN:VEVENT
DTSTART;TZID=UTC:20260828T090000
DTEND;TZID=UTC:20260828T100000
DTSTAMP:20260422T223937
CREATED:20230614T201217Z
LAST-MODIFIED:20260406T180510Z
UID:10007321-1787907600-1787911200@fvoas.org
SUMMARY:Line Dancing
DESCRIPTION:
URL:https://fvoas.org/event/line-dancing/2026-08-28/
LOCATION:Fox Valley Community Services (Sandwich)\, 1406 Suydam Rd\, Sandwich\, IL\, 60548\, United States
CATEGORIES:Entertainment
END:VEVENT
BEGIN:VEVENT
DTSTART;TZID=UTC:20260828T103000
DTEND;TZID=UTC:20260828T143000
DTSTAMP:20260422T223937
CREATED:20251230T165133Z
LAST-MODIFIED:20251230T165136Z
UID:10030643-1787913000-1787927400@fvoas.org
SUMMARY:Book2Movie
DESCRIPTION:Book Discussion Begins at 10:30 AM\, Movie begins at 12:30 PM.
URL:https://fvoas.org/event/book2movie-2-2-2-2/2026-08-28/
LOCATION:Fox Valley Community Services (Sandwich)\, 1406 Suydam Rd\, Sandwich\, IL\, 60548\, United States
CATEGORIES:Entertainment
END:VEVENT
BEGIN:VEVENT
DTSTART;TZID=UTC:20260901T113000
DTEND;TZID=UTC:20260901T133000
DTSTAMP:20260422T223937
CREATED:20250923T142336Z
LAST-MODIFIED:20250923T142339Z
UID:10026292-1788262200-1788269400@fvoas.org
SUMMARY:Boomer Bowling
DESCRIPTION:Hometown Lanes – Plano\, IL \nCall Becky for more details at (815) 786-9404
URL:https://fvoas.org/event/boomer-bowling-2/2026-09-01/
LOCATION:Fox Valley Community Services (Sandwich)\, 1406 Suydam Rd\, Sandwich\, IL\, 60548\, United States
CATEGORIES:Entertainment
END:VEVENT
BEGIN:VEVENT
DTSTART;TZID=UTC:20260904T090000
DTEND;TZID=UTC:20260904T100000
DTSTAMP:20260422T223937
CREATED:20230614T201217Z
LAST-MODIFIED:20260406T180510Z
UID:10007322-1788512400-1788516000@fvoas.org
SUMMARY:Line Dancing
DESCRIPTION:
URL:https://fvoas.org/event/line-dancing/2026-09-04/
LOCATION:Fox Valley Community Services (Sandwich)\, 1406 Suydam Rd\, Sandwich\, IL\, 60548\, United States
CATEGORIES:Entertainment
END:VEVENT
BEGIN:VEVENT
DTSTART;TZID=UTC:20260908T113000
DTEND;TZID=UTC:20260908T133000
DTSTAMP:20260422T223937
CREATED:20250923T142336Z
LAST-MODIFIED:20250923T142339Z
UID:10026293-1788867000-1788874200@fvoas.org
SUMMARY:Boomer Bowling
DESCRIPTION:Hometown Lanes – Plano\, IL \nCall Becky for more details at (815) 786-9404
URL:https://fvoas.org/event/boomer-bowling-2/2026-09-08/
LOCATION:Fox Valley Community Services (Sandwich)\, 1406 Suydam Rd\, Sandwich\, IL\, 60548\, United States
CATEGORIES:Entertainment
END:VEVENT
BEGIN:VEVENT
DTSTART;TZID=UTC:20260911T090000
DTEND;TZID=UTC:20260911T100000
DTSTAMP:20260422T223937
CREATED:20230614T201217Z
LAST-MODIFIED:20260406T180510Z
UID:10007323-1789117200-1789120800@fvoas.org
SUMMARY:Line Dancing
DESCRIPTION:
URL:https://fvoas.org/event/line-dancing/2026-09-11/
LOCATION:Fox Valley Community Services (Sandwich)\, 1406 Suydam Rd\, Sandwich\, IL\, 60548\, United States
CATEGORIES:Entertainment
END:VEVENT
BEGIN:VEVENT
DTSTART;TZID=UTC:20260915T113000
DTEND;TZID=UTC:20260915T133000
DTSTAMP:20260422T223937
CREATED:20250923T142336Z
LAST-MODIFIED:20250923T142339Z
UID:10026294-1789471800-1789479000@fvoas.org
SUMMARY:Boomer Bowling
DESCRIPTION:Hometown Lanes – Plano\, IL \nCall Becky for more details at (815) 786-9404
URL:https://fvoas.org/event/boomer-bowling-2/2026-09-15/
LOCATION:Fox Valley Community Services (Sandwich)\, 1406 Suydam Rd\, Sandwich\, IL\, 60548\, United States
CATEGORIES:Entertainment
END:VEVENT
BEGIN:VEVENT
DTSTART;TZID=UTC:20260918T090000
DTEND;TZID=UTC:20260918T100000
DTSTAMP:20260422T223937
CREATED:20230614T201217Z
LAST-MODIFIED:20260406T180510Z
UID:10007324-1789722000-1789725600@fvoas.org
SUMMARY:Line Dancing
DESCRIPTION:
URL:https://fvoas.org/event/line-dancing/2026-09-18/
LOCATION:Fox Valley Community Services (Sandwich)\, 1406 Suydam Rd\, Sandwich\, IL\, 60548\, United States
CATEGORIES:Entertainment
END:VEVENT
BEGIN:VEVENT
DTSTART;TZID=UTC:20260922T113000
DTEND;TZID=UTC:20260922T133000
DTSTAMP:20260422T223937
CREATED:20250923T142336Z
LAST-MODIFIED:20250923T142339Z
UID:10026295-1790076600-1790083800@fvoas.org
SUMMARY:Boomer Bowling
DESCRIPTION:Hometown Lanes – Plano\, IL \nCall Becky for more details at (815) 786-9404
URL:https://fvoas.org/event/boomer-bowling-2/2026-09-22/
LOCATION:Fox Valley Community Services (Sandwich)\, 1406 Suydam Rd\, Sandwich\, IL\, 60548\, United States
CATEGORIES:Entertainment
END:VEVENT
BEGIN:VEVENT
DTSTART;TZID=UTC:20260925T090000
DTEND;TZID=UTC:20260925T100000
DTSTAMP:20260422T223937
CREATED:20230614T201217Z
LAST-MODIFIED:20260406T180510Z
UID:10007325-1790326800-1790330400@fvoas.org
SUMMARY:Line Dancing
DESCRIPTION:
URL:https://fvoas.org/event/line-dancing/2026-09-25/
LOCATION:Fox Valley Community Services (Sandwich)\, 1406 Suydam Rd\, Sandwich\, IL\, 60548\, United States
CATEGORIES:Entertainment
END:VEVENT
BEGIN:VEVENT
DTSTART;TZID=UTC:20260925T103000
DTEND;TZID=UTC:20260925T143000
DTSTAMP:20260422T223937
CREATED:20251230T165133Z
LAST-MODIFIED:20251230T165136Z
UID:10030644-1790332200-1790346600@fvoas.org
SUMMARY:Book2Movie
DESCRIPTION:Book Discussion Begins at 10:30 AM\, Movie begins at 12:30 PM.
URL:https://fvoas.org/event/book2movie-2-2-2-2/2026-09-25/
LOCATION:Fox Valley Community Services (Sandwich)\, 1406 Suydam Rd\, Sandwich\, IL\, 60548\, United States
CATEGORIES:Entertainment
END:VEVENT
BEGIN:VEVENT
DTSTART;TZID=UTC:20260929T113000
DTEND;TZID=UTC:20260929T133000
DTSTAMP:20260422T223937
CREATED:20250923T142336Z
LAST-MODIFIED:20250923T142339Z
UID:10026296-1790681400-1790688600@fvoas.org
SUMMARY:Boomer Bowling
DESCRIPTION:Hometown Lanes – Plano\, IL \nCall Becky for more details at (815) 786-9404
URL:https://fvoas.org/event/boomer-bowling-2/2026-09-29/
LOCATION:Fox Valley Community Services (Sandwich)\, 1406 Suydam Rd\, Sandwich\, IL\, 60548\, United States
CATEGORIES:Entertainment
END:VEVENT
BEGIN:VEVENT
DTSTART;TZID=UTC:20261002T090000
DTEND;TZID=UTC:20261002T100000
DTSTAMP:20260422T223937
CREATED:20230614T201217Z
LAST-MODIFIED:20260406T180510Z
UID:10007326-1790931600-1790935200@fvoas.org
SUMMARY:Line Dancing
DESCRIPTION:
URL:https://fvoas.org/event/line-dancing/2026-10-02/
LOCATION:Fox Valley Community Services (Sandwich)\, 1406 Suydam Rd\, Sandwich\, IL\, 60548\, United States
CATEGORIES:Entertainment
END:VEVENT
BEGIN:VEVENT
DTSTART;TZID=UTC:20261006T113000
DTEND;TZID=UTC:20261006T133000
DTSTAMP:20260422T223937
CREATED:20250923T142336Z
LAST-MODIFIED:20250923T142339Z
UID:10026297-1791286200-1791293400@fvoas.org
SUMMARY:Boomer Bowling
DESCRIPTION:Hometown Lanes – Plano\, IL \nCall Becky for more details at (815) 786-9404
URL:https://fvoas.org/event/boomer-bowling-2/2026-10-06/
LOCATION:Fox Valley Community Services (Sandwich)\, 1406 Suydam Rd\, Sandwich\, IL\, 60548\, United States
CATEGORIES:Entertainment
END:VEVENT
BEGIN:VEVENT
DTSTART;TZID=UTC:20261009T090000
DTEND;TZID=UTC:20261009T100000
DTSTAMP:20260422T223937
CREATED:20230614T201217Z
LAST-MODIFIED:20260406T180510Z
UID:10007327-1791536400-1791540000@fvoas.org
SUMMARY:Line Dancing
DESCRIPTION:
URL:https://fvoas.org/event/line-dancing/2026-10-09/
LOCATION:Fox Valley Community Services (Sandwich)\, 1406 Suydam Rd\, Sandwich\, IL\, 60548\, United States
CATEGORIES:Entertainment
END:VEVENT
BEGIN:VEVENT
DTSTART;TZID=UTC:20261013T113000
DTEND;TZID=UTC:20261013T133000
DTSTAMP:20260422T223937
CREATED:20250923T142336Z
LAST-MODIFIED:20250923T142339Z
UID:10026298-1791891000-1791898200@fvoas.org
SUMMARY:Boomer Bowling
DESCRIPTION:Hometown Lanes – Plano\, IL \nCall Becky for more details at (815) 786-9404
URL:https://fvoas.org/event/boomer-bowling-2/2026-10-13/
LOCATION:Fox Valley Community Services (Sandwich)\, 1406 Suydam Rd\, Sandwich\, IL\, 60548\, United States
CATEGORIES:Entertainment
END:VEVENT
BEGIN:VEVENT
DTSTART;TZID=UTC:20261016T090000
DTEND;TZID=UTC:20261016T100000
DTSTAMP:20260422T223937
CREATED:20230614T201217Z
LAST-MODIFIED:20260406T180510Z
UID:10007328-1792141200-1792144800@fvoas.org
SUMMARY:Line Dancing
DESCRIPTION:
URL:https://fvoas.org/event/line-dancing/2026-10-16/
LOCATION:Fox Valley Community Services (Sandwich)\, 1406 Suydam Rd\, Sandwich\, IL\, 60548\, United States
CATEGORIES:Entertainment
END:VEVENT
BEGIN:VEVENT
DTSTART;TZID=UTC:20261020T113000
DTEND;TZID=UTC:20261020T133000
DTSTAMP:20260422T223937
CREATED:20250923T142336Z
LAST-MODIFIED:20250923T142339Z
UID:10026299-1792495800-1792503000@fvoas.org
SUMMARY:Boomer Bowling
DESCRIPTION:Hometown Lanes – Plano\, IL \nCall Becky for more details at (815) 786-9404
URL:https://fvoas.org/event/boomer-bowling-2/2026-10-20/
LOCATION:Fox Valley Community Services (Sandwich)\, 1406 Suydam Rd\, Sandwich\, IL\, 60548\, United States
CATEGORIES:Entertainment
END:VEVENT
BEGIN:VEVENT
DTSTART;TZID=UTC:20261023T090000
DTEND;TZID=UTC:20261023T100000
DTSTAMP:20260422T223937
CREATED:20230614T201217Z
LAST-MODIFIED:20260406T180510Z
UID:10007329-1792746000-1792749600@fvoas.org
SUMMARY:Line Dancing
DESCRIPTION:
URL:https://fvoas.org/event/line-dancing/2026-10-23/
LOCATION:Fox Valley Community Services (Sandwich)\, 1406 Suydam Rd\, Sandwich\, IL\, 60548\, United States
CATEGORIES:Entertainment
END:VEVENT
BEGIN:VEVENT
DTSTART;TZID=UTC:20261023T103000
DTEND;TZID=UTC:20261023T143000
DTSTAMP:20260422T223937
CREATED:20251230T165133Z
LAST-MODIFIED:20251230T165136Z
UID:10030645-1792751400-1792765800@fvoas.org
SUMMARY:Book2Movie
DESCRIPTION:Book Discussion Begins at 10:30 AM\, Movie begins at 12:30 PM.
URL:https://fvoas.org/event/book2movie-2-2-2-2/2026-10-23/
LOCATION:Fox Valley Community Services (Sandwich)\, 1406 Suydam Rd\, Sandwich\, IL\, 60548\, United States
CATEGORIES:Entertainment
END:VEVENT
BEGIN:VEVENT
DTSTART;TZID=UTC:20261027T113000
DTEND;TZID=UTC:20261027T133000
DTSTAMP:20260422T223937
CREATED:20250923T142336Z
LAST-MODIFIED:20250923T142339Z
UID:10026300-1793100600-1793107800@fvoas.org
SUMMARY:Boomer Bowling
DESCRIPTION:Hometown Lanes – Plano\, IL \nCall Becky for more details at (815) 786-9404
URL:https://fvoas.org/event/boomer-bowling-2/2026-10-27/
LOCATION:Fox Valley Community Services (Sandwich)\, 1406 Suydam Rd\, Sandwich\, IL\, 60548\, United States
CATEGORIES:Entertainment
END:VEVENT
BEGIN:VEVENT
DTSTART;TZID=UTC:20261030T090000
DTEND;TZID=UTC:20261030T100000
DTSTAMP:20260422T223937
CREATED:20230614T201217Z
LAST-MODIFIED:20260406T180510Z
UID:10007330-1793350800-1793354400@fvoas.org
SUMMARY:Line Dancing
DESCRIPTION:
URL:https://fvoas.org/event/line-dancing/2026-10-30/
LOCATION:Fox Valley Community Services (Sandwich)\, 1406 Suydam Rd\, Sandwich\, IL\, 60548\, United States
CATEGORIES:Entertainment
END:VEVENT
BEGIN:VEVENT
DTSTART;TZID=UTC:20261103T113000
DTEND;TZID=UTC:20261103T133000
DTSTAMP:20260422T223937
CREATED:20250923T142336Z
LAST-MODIFIED:20250923T142339Z
UID:10026301-1793705400-1793712600@fvoas.org
SUMMARY:Boomer Bowling
DESCRIPTION:Hometown Lanes – Plano\, IL \nCall Becky for more details at (815) 786-9404
URL:https://fvoas.org/event/boomer-bowling-2/2026-11-03/
LOCATION:Fox Valley Community Services (Sandwich)\, 1406 Suydam Rd\, Sandwich\, IL\, 60548\, United States
CATEGORIES:Entertainment
END:VEVENT
BEGIN:VEVENT
DTSTART;TZID=UTC:20261106T090000
DTEND;TZID=UTC:20261106T100000
DTSTAMP:20260422T223937
CREATED:20230614T201217Z
LAST-MODIFIED:20260406T180510Z
UID:10007331-1793955600-1793959200@fvoas.org
SUMMARY:Line Dancing
DESCRIPTION:
URL:https://fvoas.org/event/line-dancing/2026-11-06/
LOCATION:Fox Valley Community Services (Sandwich)\, 1406 Suydam Rd\, Sandwich\, IL\, 60548\, United States
CATEGORIES:Entertainment
END:VEVENT
END:VCALENDAR