BEGIN:VCALENDAR
VERSION:2.0
PRODID:-//Fox Valley Community Services - ECPv6.15.20//NONSGML v1.0//EN
CALSCALE:GREGORIAN
METHOD:PUBLISH
X-ORIGINAL-URL:https://fvoas.org
X-WR-CALDESC:Events for Fox Valley Community Services
REFRESH-INTERVAL;VALUE=DURATION:PT1H
X-Robots-Tag:noindex
X-PUBLISHED-TTL:PT1H
BEGIN:VTIMEZONE
TZID:UTC
BEGIN:STANDARD
TZOFFSETFROM:+0000
TZOFFSETTO:+0000
TZNAME:UTC
DTSTART:20270101T000000
END:STANDARD
END:VTIMEZONE
BEGIN:VEVENT
DTSTART;TZID=UTC:20280801T113000
DTEND;TZID=UTC:20280801T133000
DTSTAMP:20260425T224310
CREATED:20250923T142336Z
LAST-MODIFIED:20250923T142339Z
UID:10026392-1848742200-1848749400@fvoas.org
SUMMARY:Boomer Bowling
DESCRIPTION:Hometown Lanes – Plano\, IL \nCall Becky for more details at (815) 786-9404
URL:https://fvoas.org/event/boomer-bowling-2/2028-08-01/
LOCATION:Fox Valley Community Services (Sandwich)\, 1406 Suydam Rd\, Sandwich\, IL\, 60548\, United States
CATEGORIES:Entertainment
END:VEVENT
BEGIN:VEVENT
DTSTART;TZID=UTC:20280804T090000
DTEND;TZID=UTC:20280804T100000
DTSTAMP:20260425T224310
CREATED:20230614T201217Z
LAST-MODIFIED:20260406T180510Z
UID:10011449-1848992400-1848996000@fvoas.org
SUMMARY:Line Dancing
DESCRIPTION:
URL:https://fvoas.org/event/line-dancing/2028-08-04/
LOCATION:Fox Valley Community Services (Sandwich)\, 1406 Suydam Rd\, Sandwich\, IL\, 60548\, United States
CATEGORIES:Entertainment
END:VEVENT
BEGIN:VEVENT
DTSTART;TZID=UTC:20280808T113000
DTEND;TZID=UTC:20280808T133000
DTSTAMP:20260425T224310
CREATED:20250923T142336Z
LAST-MODIFIED:20250923T142339Z
UID:10026393-1849347000-1849354200@fvoas.org
SUMMARY:Boomer Bowling
DESCRIPTION:Hometown Lanes – Plano\, IL \nCall Becky for more details at (815) 786-9404
URL:https://fvoas.org/event/boomer-bowling-2/2028-08-08/
LOCATION:Fox Valley Community Services (Sandwich)\, 1406 Suydam Rd\, Sandwich\, IL\, 60548\, United States
CATEGORIES:Entertainment
END:VEVENT
BEGIN:VEVENT
DTSTART;TZID=UTC:20280811T090000
DTEND;TZID=UTC:20280811T100000
DTSTAMP:20260425T224310
CREATED:20230614T201217Z
LAST-MODIFIED:20260406T180510Z
UID:10011450-1849597200-1849600800@fvoas.org
SUMMARY:Line Dancing
DESCRIPTION:
URL:https://fvoas.org/event/line-dancing/2028-08-11/
LOCATION:Fox Valley Community Services (Sandwich)\, 1406 Suydam Rd\, Sandwich\, IL\, 60548\, United States
CATEGORIES:Entertainment
END:VEVENT
BEGIN:VEVENT
DTSTART;TZID=UTC:20280815T113000
DTEND;TZID=UTC:20280815T133000
DTSTAMP:20260425T224310
CREATED:20250923T142336Z
LAST-MODIFIED:20250923T142339Z
UID:10026394-1849951800-1849959000@fvoas.org
SUMMARY:Boomer Bowling
DESCRIPTION:Hometown Lanes – Plano\, IL \nCall Becky for more details at (815) 786-9404
URL:https://fvoas.org/event/boomer-bowling-2/2028-08-15/
LOCATION:Fox Valley Community Services (Sandwich)\, 1406 Suydam Rd\, Sandwich\, IL\, 60548\, United States
CATEGORIES:Entertainment
END:VEVENT
BEGIN:VEVENT
DTSTART;TZID=UTC:20280818T090000
DTEND;TZID=UTC:20280818T100000
DTSTAMP:20260425T224310
CREATED:20230614T201217Z
LAST-MODIFIED:20260406T180510Z
UID:10011451-1850202000-1850205600@fvoas.org
SUMMARY:Line Dancing
DESCRIPTION:
URL:https://fvoas.org/event/line-dancing/2028-08-18/
LOCATION:Fox Valley Community Services (Sandwich)\, 1406 Suydam Rd\, Sandwich\, IL\, 60548\, United States
CATEGORIES:Entertainment
END:VEVENT
BEGIN:VEVENT
DTSTART;TZID=UTC:20280822T113000
DTEND;TZID=UTC:20280822T133000
DTSTAMP:20260425T224310
CREATED:20250923T142336Z
LAST-MODIFIED:20250923T142339Z
UID:10026395-1850556600-1850563800@fvoas.org
SUMMARY:Boomer Bowling
DESCRIPTION:Hometown Lanes – Plano\, IL \nCall Becky for more details at (815) 786-9404
URL:https://fvoas.org/event/boomer-bowling-2/2028-08-22/
LOCATION:Fox Valley Community Services (Sandwich)\, 1406 Suydam Rd\, Sandwich\, IL\, 60548\, United States
CATEGORIES:Entertainment
END:VEVENT
BEGIN:VEVENT
DTSTART;TZID=UTC:20280825T090000
DTEND;TZID=UTC:20280825T100000
DTSTAMP:20260425T224310
CREATED:20230614T201217Z
LAST-MODIFIED:20260406T180510Z
UID:10011452-1850806800-1850810400@fvoas.org
SUMMARY:Line Dancing
DESCRIPTION:
URL:https://fvoas.org/event/line-dancing/2028-08-25/
LOCATION:Fox Valley Community Services (Sandwich)\, 1406 Suydam Rd\, Sandwich\, IL\, 60548\, United States
CATEGORIES:Entertainment
END:VEVENT
BEGIN:VEVENT
DTSTART;TZID=UTC:20280825T103000
DTEND;TZID=UTC:20280825T143000
DTSTAMP:20260425T224310
CREATED:20251230T165133Z
LAST-MODIFIED:20251230T165136Z
UID:10030667-1850812200-1850826600@fvoas.org
SUMMARY:Book2Movie
DESCRIPTION:Book Discussion Begins at 10:30 AM\, Movie begins at 12:30 PM.
URL:https://fvoas.org/event/book2movie-2-2-2-2/2028-08-25/
LOCATION:Fox Valley Community Services (Sandwich)\, 1406 Suydam Rd\, Sandwich\, IL\, 60548\, United States
CATEGORIES:Entertainment
END:VEVENT
BEGIN:VEVENT
DTSTART;TZID=UTC:20280829T113000
DTEND;TZID=UTC:20280829T133000
DTSTAMP:20260425T224310
CREATED:20250923T142336Z
LAST-MODIFIED:20250923T142339Z
UID:10026396-1851161400-1851168600@fvoas.org
SUMMARY:Boomer Bowling
DESCRIPTION:Hometown Lanes – Plano\, IL \nCall Becky for more details at (815) 786-9404
URL:https://fvoas.org/event/boomer-bowling-2/2028-08-29/
LOCATION:Fox Valley Community Services (Sandwich)\, 1406 Suydam Rd\, Sandwich\, IL\, 60548\, United States
CATEGORIES:Entertainment
END:VEVENT
BEGIN:VEVENT
DTSTART;TZID=UTC:20280901T090000
DTEND;TZID=UTC:20280901T100000
DTSTAMP:20260425T224310
CREATED:20230614T201217Z
LAST-MODIFIED:20260406T180510Z
UID:10011453-1851411600-1851415200@fvoas.org
SUMMARY:Line Dancing
DESCRIPTION:
URL:https://fvoas.org/event/line-dancing/2028-09-01/
LOCATION:Fox Valley Community Services (Sandwich)\, 1406 Suydam Rd\, Sandwich\, IL\, 60548\, United States
CATEGORIES:Entertainment
END:VEVENT
BEGIN:VEVENT
DTSTART;TZID=UTC:20280905T113000
DTEND;TZID=UTC:20280905T133000
DTSTAMP:20260425T224310
CREATED:20250923T142336Z
LAST-MODIFIED:20250923T142339Z
UID:10026397-1851766200-1851773400@fvoas.org
SUMMARY:Boomer Bowling
DESCRIPTION:Hometown Lanes – Plano\, IL \nCall Becky for more details at (815) 786-9404
URL:https://fvoas.org/event/boomer-bowling-2/2028-09-05/
LOCATION:Fox Valley Community Services (Sandwich)\, 1406 Suydam Rd\, Sandwich\, IL\, 60548\, United States
CATEGORIES:Entertainment
END:VEVENT
BEGIN:VEVENT
DTSTART;TZID=UTC:20280908T090000
DTEND;TZID=UTC:20280908T100000
DTSTAMP:20260425T224310
CREATED:20230614T201217Z
LAST-MODIFIED:20260406T180510Z
UID:10011454-1852016400-1852020000@fvoas.org
SUMMARY:Line Dancing
DESCRIPTION:
URL:https://fvoas.org/event/line-dancing/2028-09-08/
LOCATION:Fox Valley Community Services (Sandwich)\, 1406 Suydam Rd\, Sandwich\, IL\, 60548\, United States
CATEGORIES:Entertainment
END:VEVENT
BEGIN:VEVENT
DTSTART;TZID=UTC:20280912T113000
DTEND;TZID=UTC:20280912T133000
DTSTAMP:20260425T224310
CREATED:20250923T142336Z
LAST-MODIFIED:20250923T142339Z
UID:10026398-1852371000-1852378200@fvoas.org
SUMMARY:Boomer Bowling
DESCRIPTION:Hometown Lanes – Plano\, IL \nCall Becky for more details at (815) 786-9404
URL:https://fvoas.org/event/boomer-bowling-2/2028-09-12/
LOCATION:Fox Valley Community Services (Sandwich)\, 1406 Suydam Rd\, Sandwich\, IL\, 60548\, United States
CATEGORIES:Entertainment
END:VEVENT
BEGIN:VEVENT
DTSTART;TZID=UTC:20280915T090000
DTEND;TZID=UTC:20280915T100000
DTSTAMP:20260425T224310
CREATED:20230614T201217Z
LAST-MODIFIED:20260406T180510Z
UID:10011455-1852621200-1852624800@fvoas.org
SUMMARY:Line Dancing
DESCRIPTION:
URL:https://fvoas.org/event/line-dancing/2028-09-15/
LOCATION:Fox Valley Community Services (Sandwich)\, 1406 Suydam Rd\, Sandwich\, IL\, 60548\, United States
CATEGORIES:Entertainment
END:VEVENT
BEGIN:VEVENT
DTSTART;TZID=UTC:20280919T113000
DTEND;TZID=UTC:20280919T133000
DTSTAMP:20260425T224310
CREATED:20250923T142336Z
LAST-MODIFIED:20250923T142339Z
UID:10026399-1852975800-1852983000@fvoas.org
SUMMARY:Boomer Bowling
DESCRIPTION:Hometown Lanes – Plano\, IL \nCall Becky for more details at (815) 786-9404
URL:https://fvoas.org/event/boomer-bowling-2/2028-09-19/
LOCATION:Fox Valley Community Services (Sandwich)\, 1406 Suydam Rd\, Sandwich\, IL\, 60548\, United States
CATEGORIES:Entertainment
END:VEVENT
BEGIN:VEVENT
DTSTART;TZID=UTC:20280922T090000
DTEND;TZID=UTC:20280922T100000
DTSTAMP:20260425T224310
CREATED:20230614T201217Z
LAST-MODIFIED:20260406T180510Z
UID:10011456-1853226000-1853229600@fvoas.org
SUMMARY:Line Dancing
DESCRIPTION:
URL:https://fvoas.org/event/line-dancing/2028-09-22/
LOCATION:Fox Valley Community Services (Sandwich)\, 1406 Suydam Rd\, Sandwich\, IL\, 60548\, United States
CATEGORIES:Entertainment
END:VEVENT
BEGIN:VEVENT
DTSTART;TZID=UTC:20280922T103000
DTEND;TZID=UTC:20280922T143000
DTSTAMP:20260425T224310
CREATED:20251230T165133Z
LAST-MODIFIED:20251230T165136Z
UID:10030668-1853231400-1853245800@fvoas.org
SUMMARY:Book2Movie
DESCRIPTION:Book Discussion Begins at 10:30 AM\, Movie begins at 12:30 PM.
URL:https://fvoas.org/event/book2movie-2-2-2-2/2028-09-22/
LOCATION:Fox Valley Community Services (Sandwich)\, 1406 Suydam Rd\, Sandwich\, IL\, 60548\, United States
CATEGORIES:Entertainment
END:VEVENT
BEGIN:VEVENT
DTSTART;TZID=UTC:20280926T113000
DTEND;TZID=UTC:20280926T133000
DTSTAMP:20260425T224310
CREATED:20250923T142336Z
LAST-MODIFIED:20250923T142339Z
UID:10026400-1853580600-1853587800@fvoas.org
SUMMARY:Boomer Bowling
DESCRIPTION:Hometown Lanes – Plano\, IL \nCall Becky for more details at (815) 786-9404
URL:https://fvoas.org/event/boomer-bowling-2/2028-09-26/
LOCATION:Fox Valley Community Services (Sandwich)\, 1406 Suydam Rd\, Sandwich\, IL\, 60548\, United States
CATEGORIES:Entertainment
END:VEVENT
BEGIN:VEVENT
DTSTART;TZID=UTC:20280929T090000
DTEND;TZID=UTC:20280929T100000
DTSTAMP:20260425T224310
CREATED:20230614T201217Z
LAST-MODIFIED:20260406T180510Z
UID:10011457-1853830800-1853834400@fvoas.org
SUMMARY:Line Dancing
DESCRIPTION:
URL:https://fvoas.org/event/line-dancing/2028-09-29/
LOCATION:Fox Valley Community Services (Sandwich)\, 1406 Suydam Rd\, Sandwich\, IL\, 60548\, United States
CATEGORIES:Entertainment
END:VEVENT
BEGIN:VEVENT
DTSTART;TZID=UTC:20281003T113000
DTEND;TZID=UTC:20281003T133000
DTSTAMP:20260425T224310
CREATED:20250923T142336Z
LAST-MODIFIED:20250923T142339Z
UID:10026401-1854185400-1854192600@fvoas.org
SUMMARY:Boomer Bowling
DESCRIPTION:Hometown Lanes – Plano\, IL \nCall Becky for more details at (815) 786-9404
URL:https://fvoas.org/event/boomer-bowling-2/2028-10-03/
LOCATION:Fox Valley Community Services (Sandwich)\, 1406 Suydam Rd\, Sandwich\, IL\, 60548\, United States
CATEGORIES:Entertainment
END:VEVENT
BEGIN:VEVENT
DTSTART;TZID=UTC:20281006T090000
DTEND;TZID=UTC:20281006T100000
DTSTAMP:20260425T224310
CREATED:20230614T201217Z
LAST-MODIFIED:20260406T180510Z
UID:10011458-1854435600-1854439200@fvoas.org
SUMMARY:Line Dancing
DESCRIPTION:
URL:https://fvoas.org/event/line-dancing/2028-10-06/
LOCATION:Fox Valley Community Services (Sandwich)\, 1406 Suydam Rd\, Sandwich\, IL\, 60548\, United States
CATEGORIES:Entertainment
END:VEVENT
BEGIN:VEVENT
DTSTART;TZID=UTC:20281010T113000
DTEND;TZID=UTC:20281010T133000
DTSTAMP:20260425T224310
CREATED:20250923T142336Z
LAST-MODIFIED:20250923T142339Z
UID:10026402-1854790200-1854797400@fvoas.org
SUMMARY:Boomer Bowling
DESCRIPTION:Hometown Lanes – Plano\, IL \nCall Becky for more details at (815) 786-9404
URL:https://fvoas.org/event/boomer-bowling-2/2028-10-10/
LOCATION:Fox Valley Community Services (Sandwich)\, 1406 Suydam Rd\, Sandwich\, IL\, 60548\, United States
CATEGORIES:Entertainment
END:VEVENT
BEGIN:VEVENT
DTSTART;TZID=UTC:20281013T090000
DTEND;TZID=UTC:20281013T100000
DTSTAMP:20260425T224310
CREATED:20230614T201217Z
LAST-MODIFIED:20260406T180510Z
UID:10011459-1855040400-1855044000@fvoas.org
SUMMARY:Line Dancing
DESCRIPTION:
URL:https://fvoas.org/event/line-dancing/2028-10-13/
LOCATION:Fox Valley Community Services (Sandwich)\, 1406 Suydam Rd\, Sandwich\, IL\, 60548\, United States
CATEGORIES:Entertainment
END:VEVENT
BEGIN:VEVENT
DTSTART;TZID=UTC:20281017T113000
DTEND;TZID=UTC:20281017T133000
DTSTAMP:20260425T224310
CREATED:20250923T142336Z
LAST-MODIFIED:20250923T142339Z
UID:10026403-1855395000-1855402200@fvoas.org
SUMMARY:Boomer Bowling
DESCRIPTION:Hometown Lanes – Plano\, IL \nCall Becky for more details at (815) 786-9404
URL:https://fvoas.org/event/boomer-bowling-2/2028-10-17/
LOCATION:Fox Valley Community Services (Sandwich)\, 1406 Suydam Rd\, Sandwich\, IL\, 60548\, United States
CATEGORIES:Entertainment
END:VEVENT
BEGIN:VEVENT
DTSTART;TZID=UTC:20281020T090000
DTEND;TZID=UTC:20281020T100000
DTSTAMP:20260425T224310
CREATED:20230614T201217Z
LAST-MODIFIED:20260406T180510Z
UID:10011460-1855645200-1855648800@fvoas.org
SUMMARY:Line Dancing
DESCRIPTION:
URL:https://fvoas.org/event/line-dancing/2028-10-20/
LOCATION:Fox Valley Community Services (Sandwich)\, 1406 Suydam Rd\, Sandwich\, IL\, 60548\, United States
CATEGORIES:Entertainment
END:VEVENT
BEGIN:VEVENT
DTSTART;TZID=UTC:20281024T113000
DTEND;TZID=UTC:20281024T133000
DTSTAMP:20260425T224310
CREATED:20250923T142336Z
LAST-MODIFIED:20250923T142339Z
UID:10026404-1855999800-1856007000@fvoas.org
SUMMARY:Boomer Bowling
DESCRIPTION:Hometown Lanes – Plano\, IL \nCall Becky for more details at (815) 786-9404
URL:https://fvoas.org/event/boomer-bowling-2/2028-10-24/
LOCATION:Fox Valley Community Services (Sandwich)\, 1406 Suydam Rd\, Sandwich\, IL\, 60548\, United States
CATEGORIES:Entertainment
END:VEVENT
BEGIN:VEVENT
DTSTART;TZID=UTC:20281027T090000
DTEND;TZID=UTC:20281027T100000
DTSTAMP:20260425T224310
CREATED:20230614T201217Z
LAST-MODIFIED:20260406T180510Z
UID:10011813-1856250000-1856253600@fvoas.org
SUMMARY:Line Dancing
DESCRIPTION:
URL:https://fvoas.org/event/line-dancing/2028-10-27/
LOCATION:Fox Valley Community Services (Sandwich)\, 1406 Suydam Rd\, Sandwich\, IL\, 60548\, United States
CATEGORIES:Entertainment
END:VEVENT
BEGIN:VEVENT
DTSTART;TZID=UTC:20281027T103000
DTEND;TZID=UTC:20281027T143000
DTSTAMP:20260425T224310
CREATED:20251230T165133Z
LAST-MODIFIED:20251230T165136Z
UID:10030669-1856255400-1856269800@fvoas.org
SUMMARY:Book2Movie
DESCRIPTION:Book Discussion Begins at 10:30 AM\, Movie begins at 12:30 PM.
URL:https://fvoas.org/event/book2movie-2-2-2-2/2028-10-27/
LOCATION:Fox Valley Community Services (Sandwich)\, 1406 Suydam Rd\, Sandwich\, IL\, 60548\, United States
CATEGORIES:Entertainment
END:VEVENT
BEGIN:VEVENT
DTSTART;TZID=UTC:20281031T113000
DTEND;TZID=UTC:20281031T133000
DTSTAMP:20260425T224310
CREATED:20250923T142336Z
LAST-MODIFIED:20250923T142339Z
UID:10026405-1856604600-1856611800@fvoas.org
SUMMARY:Boomer Bowling
DESCRIPTION:Hometown Lanes – Plano\, IL \nCall Becky for more details at (815) 786-9404
URL:https://fvoas.org/event/boomer-bowling-2/2028-10-31/
LOCATION:Fox Valley Community Services (Sandwich)\, 1406 Suydam Rd\, Sandwich\, IL\, 60548\, United States
CATEGORIES:Entertainment
END:VEVENT
END:VCALENDAR