BEGIN:VCALENDAR
VERSION:2.0
PRODID:-//Fox Valley Community Services - ECPv6.15.20//NONSGML v1.0//EN
CALSCALE:GREGORIAN
METHOD:PUBLISH
X-WR-CALNAME:Fox Valley Community Services
X-ORIGINAL-URL:https://fvoas.org
X-WR-CALDESC:Events for Fox Valley Community Services
REFRESH-INTERVAL;VALUE=DURATION:PT1H
X-Robots-Tag:noindex
X-PUBLISHED-TTL:PT1H
BEGIN:VTIMEZONE
TZID:UTC
BEGIN:STANDARD
TZOFFSETFROM:+0000
TZOFFSETTO:+0000
TZNAME:UTC
DTSTART:20270101T000000
END:STANDARD
END:VTIMEZONE
BEGIN:VEVENT
DTSTART;TZID=UTC:20280613T113000
DTEND;TZID=UTC:20280613T133000
DTSTAMP:20260425T224544
CREATED:20250923T142336Z
LAST-MODIFIED:20250923T142339Z
UID:10026385-1844508600-1844515800@fvoas.org
SUMMARY:Boomer Bowling
DESCRIPTION:Hometown Lanes – Plano\, IL \nCall Becky for more details at (815) 786-9404
URL:https://fvoas.org/event/boomer-bowling-2/2028-06-13/
LOCATION:Fox Valley Community Services (Sandwich)\, 1406 Suydam Rd\, Sandwich\, IL\, 60548\, United States
CATEGORIES:Entertainment
END:VEVENT
BEGIN:VEVENT
DTSTART;TZID=UTC:20280616T090000
DTEND;TZID=UTC:20280616T100000
DTSTAMP:20260425T224544
CREATED:20230614T201217Z
LAST-MODIFIED:20260406T180510Z
UID:10011442-1844758800-1844762400@fvoas.org
SUMMARY:Line Dancing
DESCRIPTION:
URL:https://fvoas.org/event/line-dancing/2028-06-16/
LOCATION:Fox Valley Community Services (Sandwich)\, 1406 Suydam Rd\, Sandwich\, IL\, 60548\, United States
CATEGORIES:Entertainment
END:VEVENT
BEGIN:VEVENT
DTSTART;TZID=UTC:20280620T113000
DTEND;TZID=UTC:20280620T133000
DTSTAMP:20260425T224544
CREATED:20250923T142336Z
LAST-MODIFIED:20250923T142339Z
UID:10026386-1845113400-1845120600@fvoas.org
SUMMARY:Boomer Bowling
DESCRIPTION:Hometown Lanes – Plano\, IL \nCall Becky for more details at (815) 786-9404
URL:https://fvoas.org/event/boomer-bowling-2/2028-06-20/
LOCATION:Fox Valley Community Services (Sandwich)\, 1406 Suydam Rd\, Sandwich\, IL\, 60548\, United States
CATEGORIES:Entertainment
END:VEVENT
BEGIN:VEVENT
DTSTART;TZID=UTC:20280623T090000
DTEND;TZID=UTC:20280623T100000
DTSTAMP:20260425T224544
CREATED:20230614T201217Z
LAST-MODIFIED:20260406T180510Z
UID:10011443-1845363600-1845367200@fvoas.org
SUMMARY:Line Dancing
DESCRIPTION:
URL:https://fvoas.org/event/line-dancing/2028-06-23/
LOCATION:Fox Valley Community Services (Sandwich)\, 1406 Suydam Rd\, Sandwich\, IL\, 60548\, United States
CATEGORIES:Entertainment
END:VEVENT
BEGIN:VEVENT
DTSTART;TZID=UTC:20280623T103000
DTEND;TZID=UTC:20280623T143000
DTSTAMP:20260425T224544
CREATED:20251230T165133Z
LAST-MODIFIED:20251230T165136Z
UID:10030665-1845369000-1845383400@fvoas.org
SUMMARY:Book2Movie
DESCRIPTION:Book Discussion Begins at 10:30 AM\, Movie begins at 12:30 PM.
URL:https://fvoas.org/event/book2movie-2-2-2-2/2028-06-23/
LOCATION:Fox Valley Community Services (Sandwich)\, 1406 Suydam Rd\, Sandwich\, IL\, 60548\, United States
CATEGORIES:Entertainment
END:VEVENT
BEGIN:VEVENT
DTSTART;TZID=UTC:20280627T113000
DTEND;TZID=UTC:20280627T133000
DTSTAMP:20260425T224544
CREATED:20250923T142336Z
LAST-MODIFIED:20250923T142339Z
UID:10026387-1845718200-1845725400@fvoas.org
SUMMARY:Boomer Bowling
DESCRIPTION:Hometown Lanes – Plano\, IL \nCall Becky for more details at (815) 786-9404
URL:https://fvoas.org/event/boomer-bowling-2/2028-06-27/
LOCATION:Fox Valley Community Services (Sandwich)\, 1406 Suydam Rd\, Sandwich\, IL\, 60548\, United States
CATEGORIES:Entertainment
END:VEVENT
BEGIN:VEVENT
DTSTART;TZID=UTC:20280630T090000
DTEND;TZID=UTC:20280630T100000
DTSTAMP:20260425T224544
CREATED:20230614T201217Z
LAST-MODIFIED:20260406T180510Z
UID:10011444-1845968400-1845972000@fvoas.org
SUMMARY:Line Dancing
DESCRIPTION:
URL:https://fvoas.org/event/line-dancing/2028-06-30/
LOCATION:Fox Valley Community Services (Sandwich)\, 1406 Suydam Rd\, Sandwich\, IL\, 60548\, United States
CATEGORIES:Entertainment
END:VEVENT
BEGIN:VEVENT
DTSTART;TZID=UTC:20280704T113000
DTEND;TZID=UTC:20280704T133000
DTSTAMP:20260425T224544
CREATED:20250923T142336Z
LAST-MODIFIED:20250923T142339Z
UID:10026388-1846323000-1846330200@fvoas.org
SUMMARY:Boomer Bowling
DESCRIPTION:Hometown Lanes – Plano\, IL \nCall Becky for more details at (815) 786-9404
URL:https://fvoas.org/event/boomer-bowling-2/2028-07-04/
LOCATION:Fox Valley Community Services (Sandwich)\, 1406 Suydam Rd\, Sandwich\, IL\, 60548\, United States
CATEGORIES:Entertainment
END:VEVENT
BEGIN:VEVENT
DTSTART;TZID=UTC:20280707T090000
DTEND;TZID=UTC:20280707T100000
DTSTAMP:20260425T224544
CREATED:20230614T201217Z
LAST-MODIFIED:20260406T180510Z
UID:10011445-1846573200-1846576800@fvoas.org
SUMMARY:Line Dancing
DESCRIPTION:
URL:https://fvoas.org/event/line-dancing/2028-07-07/
LOCATION:Fox Valley Community Services (Sandwich)\, 1406 Suydam Rd\, Sandwich\, IL\, 60548\, United States
CATEGORIES:Entertainment
END:VEVENT
BEGIN:VEVENT
DTSTART;TZID=UTC:20280711T113000
DTEND;TZID=UTC:20280711T133000
DTSTAMP:20260425T224544
CREATED:20250923T142336Z
LAST-MODIFIED:20250923T142339Z
UID:10026389-1846927800-1846935000@fvoas.org
SUMMARY:Boomer Bowling
DESCRIPTION:Hometown Lanes – Plano\, IL \nCall Becky for more details at (815) 786-9404
URL:https://fvoas.org/event/boomer-bowling-2/2028-07-11/
LOCATION:Fox Valley Community Services (Sandwich)\, 1406 Suydam Rd\, Sandwich\, IL\, 60548\, United States
CATEGORIES:Entertainment
END:VEVENT
BEGIN:VEVENT
DTSTART;TZID=UTC:20280714T090000
DTEND;TZID=UTC:20280714T100000
DTSTAMP:20260425T224544
CREATED:20230614T201217Z
LAST-MODIFIED:20260406T180510Z
UID:10011446-1847178000-1847181600@fvoas.org
SUMMARY:Line Dancing
DESCRIPTION:
URL:https://fvoas.org/event/line-dancing/2028-07-14/
LOCATION:Fox Valley Community Services (Sandwich)\, 1406 Suydam Rd\, Sandwich\, IL\, 60548\, United States
CATEGORIES:Entertainment
END:VEVENT
BEGIN:VEVENT
DTSTART;TZID=UTC:20280718T113000
DTEND;TZID=UTC:20280718T133000
DTSTAMP:20260425T224544
CREATED:20250923T142336Z
LAST-MODIFIED:20250923T142339Z
UID:10026390-1847532600-1847539800@fvoas.org
SUMMARY:Boomer Bowling
DESCRIPTION:Hometown Lanes – Plano\, IL \nCall Becky for more details at (815) 786-9404
URL:https://fvoas.org/event/boomer-bowling-2/2028-07-18/
LOCATION:Fox Valley Community Services (Sandwich)\, 1406 Suydam Rd\, Sandwich\, IL\, 60548\, United States
CATEGORIES:Entertainment
END:VEVENT
BEGIN:VEVENT
DTSTART;TZID=UTC:20280721T090000
DTEND;TZID=UTC:20280721T100000
DTSTAMP:20260425T224544
CREATED:20230614T201217Z
LAST-MODIFIED:20260406T180510Z
UID:10011447-1847782800-1847786400@fvoas.org
SUMMARY:Line Dancing
DESCRIPTION:
URL:https://fvoas.org/event/line-dancing/2028-07-21/
LOCATION:Fox Valley Community Services (Sandwich)\, 1406 Suydam Rd\, Sandwich\, IL\, 60548\, United States
CATEGORIES:Entertainment
END:VEVENT
BEGIN:VEVENT
DTSTART;TZID=UTC:20280725T113000
DTEND;TZID=UTC:20280725T133000
DTSTAMP:20260425T224544
CREATED:20250923T142336Z
LAST-MODIFIED:20250923T142339Z
UID:10026391-1848137400-1848144600@fvoas.org
SUMMARY:Boomer Bowling
DESCRIPTION:Hometown Lanes – Plano\, IL \nCall Becky for more details at (815) 786-9404
URL:https://fvoas.org/event/boomer-bowling-2/2028-07-25/
LOCATION:Fox Valley Community Services (Sandwich)\, 1406 Suydam Rd\, Sandwich\, IL\, 60548\, United States
CATEGORIES:Entertainment
END:VEVENT
BEGIN:VEVENT
DTSTART;TZID=UTC:20280728T090000
DTEND;TZID=UTC:20280728T100000
DTSTAMP:20260425T224544
CREATED:20230614T201217Z
LAST-MODIFIED:20260406T180510Z
UID:10011448-1848387600-1848391200@fvoas.org
SUMMARY:Line Dancing
DESCRIPTION:
URL:https://fvoas.org/event/line-dancing/2028-07-28/
LOCATION:Fox Valley Community Services (Sandwich)\, 1406 Suydam Rd\, Sandwich\, IL\, 60548\, United States
CATEGORIES:Entertainment
END:VEVENT
BEGIN:VEVENT
DTSTART;TZID=UTC:20280728T103000
DTEND;TZID=UTC:20280728T143000
DTSTAMP:20260425T224544
CREATED:20251230T165133Z
LAST-MODIFIED:20251230T165136Z
UID:10030666-1848393000-1848407400@fvoas.org
SUMMARY:Book2Movie
DESCRIPTION:Book Discussion Begins at 10:30 AM\, Movie begins at 12:30 PM.
URL:https://fvoas.org/event/book2movie-2-2-2-2/2028-07-28/
LOCATION:Fox Valley Community Services (Sandwich)\, 1406 Suydam Rd\, Sandwich\, IL\, 60548\, United States
CATEGORIES:Entertainment
END:VEVENT
BEGIN:VEVENT
DTSTART;TZID=UTC:20280801T113000
DTEND;TZID=UTC:20280801T133000
DTSTAMP:20260425T224544
CREATED:20250923T142336Z
LAST-MODIFIED:20250923T142339Z
UID:10026392-1848742200-1848749400@fvoas.org
SUMMARY:Boomer Bowling
DESCRIPTION:Hometown Lanes – Plano\, IL \nCall Becky for more details at (815) 786-9404
URL:https://fvoas.org/event/boomer-bowling-2/2028-08-01/
LOCATION:Fox Valley Community Services (Sandwich)\, 1406 Suydam Rd\, Sandwich\, IL\, 60548\, United States
CATEGORIES:Entertainment
END:VEVENT
BEGIN:VEVENT
DTSTART;TZID=UTC:20280804T090000
DTEND;TZID=UTC:20280804T100000
DTSTAMP:20260425T224544
CREATED:20230614T201217Z
LAST-MODIFIED:20260406T180510Z
UID:10011449-1848992400-1848996000@fvoas.org
SUMMARY:Line Dancing
DESCRIPTION:
URL:https://fvoas.org/event/line-dancing/2028-08-04/
LOCATION:Fox Valley Community Services (Sandwich)\, 1406 Suydam Rd\, Sandwich\, IL\, 60548\, United States
CATEGORIES:Entertainment
END:VEVENT
BEGIN:VEVENT
DTSTART;TZID=UTC:20280808T113000
DTEND;TZID=UTC:20280808T133000
DTSTAMP:20260425T224544
CREATED:20250923T142336Z
LAST-MODIFIED:20250923T142339Z
UID:10026393-1849347000-1849354200@fvoas.org
SUMMARY:Boomer Bowling
DESCRIPTION:Hometown Lanes – Plano\, IL \nCall Becky for more details at (815) 786-9404
URL:https://fvoas.org/event/boomer-bowling-2/2028-08-08/
LOCATION:Fox Valley Community Services (Sandwich)\, 1406 Suydam Rd\, Sandwich\, IL\, 60548\, United States
CATEGORIES:Entertainment
END:VEVENT
BEGIN:VEVENT
DTSTART;TZID=UTC:20280811T090000
DTEND;TZID=UTC:20280811T100000
DTSTAMP:20260425T224544
CREATED:20230614T201217Z
LAST-MODIFIED:20260406T180510Z
UID:10011450-1849597200-1849600800@fvoas.org
SUMMARY:Line Dancing
DESCRIPTION:
URL:https://fvoas.org/event/line-dancing/2028-08-11/
LOCATION:Fox Valley Community Services (Sandwich)\, 1406 Suydam Rd\, Sandwich\, IL\, 60548\, United States
CATEGORIES:Entertainment
END:VEVENT
BEGIN:VEVENT
DTSTART;TZID=UTC:20280815T113000
DTEND;TZID=UTC:20280815T133000
DTSTAMP:20260425T224544
CREATED:20250923T142336Z
LAST-MODIFIED:20250923T142339Z
UID:10026394-1849951800-1849959000@fvoas.org
SUMMARY:Boomer Bowling
DESCRIPTION:Hometown Lanes – Plano\, IL \nCall Becky for more details at (815) 786-9404
URL:https://fvoas.org/event/boomer-bowling-2/2028-08-15/
LOCATION:Fox Valley Community Services (Sandwich)\, 1406 Suydam Rd\, Sandwich\, IL\, 60548\, United States
CATEGORIES:Entertainment
END:VEVENT
BEGIN:VEVENT
DTSTART;TZID=UTC:20280818T090000
DTEND;TZID=UTC:20280818T100000
DTSTAMP:20260425T224544
CREATED:20230614T201217Z
LAST-MODIFIED:20260406T180510Z
UID:10011451-1850202000-1850205600@fvoas.org
SUMMARY:Line Dancing
DESCRIPTION:
URL:https://fvoas.org/event/line-dancing/2028-08-18/
LOCATION:Fox Valley Community Services (Sandwich)\, 1406 Suydam Rd\, Sandwich\, IL\, 60548\, United States
CATEGORIES:Entertainment
END:VEVENT
BEGIN:VEVENT
DTSTART;TZID=UTC:20280822T113000
DTEND;TZID=UTC:20280822T133000
DTSTAMP:20260425T224544
CREATED:20250923T142336Z
LAST-MODIFIED:20250923T142339Z
UID:10026395-1850556600-1850563800@fvoas.org
SUMMARY:Boomer Bowling
DESCRIPTION:Hometown Lanes – Plano\, IL \nCall Becky for more details at (815) 786-9404
URL:https://fvoas.org/event/boomer-bowling-2/2028-08-22/
LOCATION:Fox Valley Community Services (Sandwich)\, 1406 Suydam Rd\, Sandwich\, IL\, 60548\, United States
CATEGORIES:Entertainment
END:VEVENT
BEGIN:VEVENT
DTSTART;TZID=UTC:20280825T090000
DTEND;TZID=UTC:20280825T100000
DTSTAMP:20260425T224544
CREATED:20230614T201217Z
LAST-MODIFIED:20260406T180510Z
UID:10011452-1850806800-1850810400@fvoas.org
SUMMARY:Line Dancing
DESCRIPTION:
URL:https://fvoas.org/event/line-dancing/2028-08-25/
LOCATION:Fox Valley Community Services (Sandwich)\, 1406 Suydam Rd\, Sandwich\, IL\, 60548\, United States
CATEGORIES:Entertainment
END:VEVENT
BEGIN:VEVENT
DTSTART;TZID=UTC:20280825T103000
DTEND;TZID=UTC:20280825T143000
DTSTAMP:20260425T224544
CREATED:20251230T165133Z
LAST-MODIFIED:20251230T165136Z
UID:10030667-1850812200-1850826600@fvoas.org
SUMMARY:Book2Movie
DESCRIPTION:Book Discussion Begins at 10:30 AM\, Movie begins at 12:30 PM.
URL:https://fvoas.org/event/book2movie-2-2-2-2/2028-08-25/
LOCATION:Fox Valley Community Services (Sandwich)\, 1406 Suydam Rd\, Sandwich\, IL\, 60548\, United States
CATEGORIES:Entertainment
END:VEVENT
BEGIN:VEVENT
DTSTART;TZID=UTC:20280829T113000
DTEND;TZID=UTC:20280829T133000
DTSTAMP:20260425T224544
CREATED:20250923T142336Z
LAST-MODIFIED:20250923T142339Z
UID:10026396-1851161400-1851168600@fvoas.org
SUMMARY:Boomer Bowling
DESCRIPTION:Hometown Lanes – Plano\, IL \nCall Becky for more details at (815) 786-9404
URL:https://fvoas.org/event/boomer-bowling-2/2028-08-29/
LOCATION:Fox Valley Community Services (Sandwich)\, 1406 Suydam Rd\, Sandwich\, IL\, 60548\, United States
CATEGORIES:Entertainment
END:VEVENT
BEGIN:VEVENT
DTSTART;TZID=UTC:20280901T090000
DTEND;TZID=UTC:20280901T100000
DTSTAMP:20260425T224544
CREATED:20230614T201217Z
LAST-MODIFIED:20260406T180510Z
UID:10011453-1851411600-1851415200@fvoas.org
SUMMARY:Line Dancing
DESCRIPTION:
URL:https://fvoas.org/event/line-dancing/2028-09-01/
LOCATION:Fox Valley Community Services (Sandwich)\, 1406 Suydam Rd\, Sandwich\, IL\, 60548\, United States
CATEGORIES:Entertainment
END:VEVENT
BEGIN:VEVENT
DTSTART;TZID=UTC:20280905T113000
DTEND;TZID=UTC:20280905T133000
DTSTAMP:20260425T224544
CREATED:20250923T142336Z
LAST-MODIFIED:20250923T142339Z
UID:10026397-1851766200-1851773400@fvoas.org
SUMMARY:Boomer Bowling
DESCRIPTION:Hometown Lanes – Plano\, IL \nCall Becky for more details at (815) 786-9404
URL:https://fvoas.org/event/boomer-bowling-2/2028-09-05/
LOCATION:Fox Valley Community Services (Sandwich)\, 1406 Suydam Rd\, Sandwich\, IL\, 60548\, United States
CATEGORIES:Entertainment
END:VEVENT
BEGIN:VEVENT
DTSTART;TZID=UTC:20280908T090000
DTEND;TZID=UTC:20280908T100000
DTSTAMP:20260425T224544
CREATED:20230614T201217Z
LAST-MODIFIED:20260406T180510Z
UID:10011454-1852016400-1852020000@fvoas.org
SUMMARY:Line Dancing
DESCRIPTION:
URL:https://fvoas.org/event/line-dancing/2028-09-08/
LOCATION:Fox Valley Community Services (Sandwich)\, 1406 Suydam Rd\, Sandwich\, IL\, 60548\, United States
CATEGORIES:Entertainment
END:VEVENT
BEGIN:VEVENT
DTSTART;TZID=UTC:20280912T113000
DTEND;TZID=UTC:20280912T133000
DTSTAMP:20260425T224544
CREATED:20250923T142336Z
LAST-MODIFIED:20250923T142339Z
UID:10026398-1852371000-1852378200@fvoas.org
SUMMARY:Boomer Bowling
DESCRIPTION:Hometown Lanes – Plano\, IL \nCall Becky for more details at (815) 786-9404
URL:https://fvoas.org/event/boomer-bowling-2/2028-09-12/
LOCATION:Fox Valley Community Services (Sandwich)\, 1406 Suydam Rd\, Sandwich\, IL\, 60548\, United States
CATEGORIES:Entertainment
END:VEVENT
END:VCALENDAR