BEGIN:VCALENDAR
VERSION:2.0
PRODID:-//Fox Valley Community Services - ECPv6.15.20//NONSGML v1.0//EN
CALSCALE:GREGORIAN
METHOD:PUBLISH
X-WR-CALNAME:Fox Valley Community Services
X-ORIGINAL-URL:https://fvoas.org
X-WR-CALDESC:Events for Fox Valley Community Services
REFRESH-INTERVAL;VALUE=DURATION:PT1H
X-Robots-Tag:noindex
X-PUBLISHED-TTL:PT1H
BEGIN:VTIMEZONE
TZID:UTC
BEGIN:STANDARD
TZOFFSETFROM:+0000
TZOFFSETTO:+0000
TZNAME:UTC
DTSTART:20250101T000000
END:STANDARD
END:VTIMEZONE
BEGIN:VEVENT
DTSTART;TZID=UTC:20261006T113000
DTEND;TZID=UTC:20261006T133000
DTSTAMP:20260423T065912
CREATED:20250923T142336Z
LAST-MODIFIED:20250923T142339Z
UID:10026297-1791286200-1791293400@fvoas.org
SUMMARY:Boomer Bowling
DESCRIPTION:Hometown Lanes – Plano\, IL \nCall Becky for more details at (815) 786-9404
URL:https://fvoas.org/event/boomer-bowling-2/2026-10-06/
LOCATION:Fox Valley Community Services (Sandwich)\, 1406 Suydam Rd\, Sandwich\, IL\, 60548\, United States
CATEGORIES:Entertainment
END:VEVENT
BEGIN:VEVENT
DTSTART;TZID=UTC:20261009T090000
DTEND;TZID=UTC:20261009T100000
DTSTAMP:20260423T065912
CREATED:20230614T201217Z
LAST-MODIFIED:20260406T180510Z
UID:10007327-1791536400-1791540000@fvoas.org
SUMMARY:Line Dancing
DESCRIPTION:
URL:https://fvoas.org/event/line-dancing/2026-10-09/
LOCATION:Fox Valley Community Services (Sandwich)\, 1406 Suydam Rd\, Sandwich\, IL\, 60548\, United States
CATEGORIES:Entertainment
END:VEVENT
BEGIN:VEVENT
DTSTART;TZID=UTC:20261013T113000
DTEND;TZID=UTC:20261013T133000
DTSTAMP:20260423T065912
CREATED:20250923T142336Z
LAST-MODIFIED:20250923T142339Z
UID:10026298-1791891000-1791898200@fvoas.org
SUMMARY:Boomer Bowling
DESCRIPTION:Hometown Lanes – Plano\, IL \nCall Becky for more details at (815) 786-9404
URL:https://fvoas.org/event/boomer-bowling-2/2026-10-13/
LOCATION:Fox Valley Community Services (Sandwich)\, 1406 Suydam Rd\, Sandwich\, IL\, 60548\, United States
CATEGORIES:Entertainment
END:VEVENT
BEGIN:VEVENT
DTSTART;TZID=UTC:20261016T090000
DTEND;TZID=UTC:20261016T100000
DTSTAMP:20260423T065912
CREATED:20230614T201217Z
LAST-MODIFIED:20260406T180510Z
UID:10007328-1792141200-1792144800@fvoas.org
SUMMARY:Line Dancing
DESCRIPTION:
URL:https://fvoas.org/event/line-dancing/2026-10-16/
LOCATION:Fox Valley Community Services (Sandwich)\, 1406 Suydam Rd\, Sandwich\, IL\, 60548\, United States
CATEGORIES:Entertainment
END:VEVENT
BEGIN:VEVENT
DTSTART;TZID=UTC:20261020T113000
DTEND;TZID=UTC:20261020T133000
DTSTAMP:20260423T065912
CREATED:20250923T142336Z
LAST-MODIFIED:20250923T142339Z
UID:10026299-1792495800-1792503000@fvoas.org
SUMMARY:Boomer Bowling
DESCRIPTION:Hometown Lanes – Plano\, IL \nCall Becky for more details at (815) 786-9404
URL:https://fvoas.org/event/boomer-bowling-2/2026-10-20/
LOCATION:Fox Valley Community Services (Sandwich)\, 1406 Suydam Rd\, Sandwich\, IL\, 60548\, United States
CATEGORIES:Entertainment
END:VEVENT
BEGIN:VEVENT
DTSTART;TZID=UTC:20261023T090000
DTEND;TZID=UTC:20261023T100000
DTSTAMP:20260423T065912
CREATED:20230614T201217Z
LAST-MODIFIED:20260406T180510Z
UID:10007329-1792746000-1792749600@fvoas.org
SUMMARY:Line Dancing
DESCRIPTION:
URL:https://fvoas.org/event/line-dancing/2026-10-23/
LOCATION:Fox Valley Community Services (Sandwich)\, 1406 Suydam Rd\, Sandwich\, IL\, 60548\, United States
CATEGORIES:Entertainment
END:VEVENT
BEGIN:VEVENT
DTSTART;TZID=UTC:20261023T103000
DTEND;TZID=UTC:20261023T143000
DTSTAMP:20260423T065912
CREATED:20251230T165133Z
LAST-MODIFIED:20251230T165136Z
UID:10030645-1792751400-1792765800@fvoas.org
SUMMARY:Book2Movie
DESCRIPTION:Book Discussion Begins at 10:30 AM\, Movie begins at 12:30 PM.
URL:https://fvoas.org/event/book2movie-2-2-2-2/2026-10-23/
LOCATION:Fox Valley Community Services (Sandwich)\, 1406 Suydam Rd\, Sandwich\, IL\, 60548\, United States
CATEGORIES:Entertainment
END:VEVENT
BEGIN:VEVENT
DTSTART;TZID=UTC:20261027T113000
DTEND;TZID=UTC:20261027T133000
DTSTAMP:20260423T065912
CREATED:20250923T142336Z
LAST-MODIFIED:20250923T142339Z
UID:10026300-1793100600-1793107800@fvoas.org
SUMMARY:Boomer Bowling
DESCRIPTION:Hometown Lanes – Plano\, IL \nCall Becky for more details at (815) 786-9404
URL:https://fvoas.org/event/boomer-bowling-2/2026-10-27/
LOCATION:Fox Valley Community Services (Sandwich)\, 1406 Suydam Rd\, Sandwich\, IL\, 60548\, United States
CATEGORIES:Entertainment
END:VEVENT
BEGIN:VEVENT
DTSTART;TZID=UTC:20261030T090000
DTEND;TZID=UTC:20261030T100000
DTSTAMP:20260423T065912
CREATED:20230614T201217Z
LAST-MODIFIED:20260406T180510Z
UID:10007330-1793350800-1793354400@fvoas.org
SUMMARY:Line Dancing
DESCRIPTION:
URL:https://fvoas.org/event/line-dancing/2026-10-30/
LOCATION:Fox Valley Community Services (Sandwich)\, 1406 Suydam Rd\, Sandwich\, IL\, 60548\, United States
CATEGORIES:Entertainment
END:VEVENT
BEGIN:VEVENT
DTSTART;TZID=UTC:20261103T113000
DTEND;TZID=UTC:20261103T133000
DTSTAMP:20260423T065912
CREATED:20250923T142336Z
LAST-MODIFIED:20250923T142339Z
UID:10026301-1793705400-1793712600@fvoas.org
SUMMARY:Boomer Bowling
DESCRIPTION:Hometown Lanes – Plano\, IL \nCall Becky for more details at (815) 786-9404
URL:https://fvoas.org/event/boomer-bowling-2/2026-11-03/
LOCATION:Fox Valley Community Services (Sandwich)\, 1406 Suydam Rd\, Sandwich\, IL\, 60548\, United States
CATEGORIES:Entertainment
END:VEVENT
BEGIN:VEVENT
DTSTART;TZID=UTC:20261106T090000
DTEND;TZID=UTC:20261106T100000
DTSTAMP:20260423T065912
CREATED:20230614T201217Z
LAST-MODIFIED:20260406T180510Z
UID:10007331-1793955600-1793959200@fvoas.org
SUMMARY:Line Dancing
DESCRIPTION:
URL:https://fvoas.org/event/line-dancing/2026-11-06/
LOCATION:Fox Valley Community Services (Sandwich)\, 1406 Suydam Rd\, Sandwich\, IL\, 60548\, United States
CATEGORIES:Entertainment
END:VEVENT
BEGIN:VEVENT
DTSTART;TZID=UTC:20261110T113000
DTEND;TZID=UTC:20261110T133000
DTSTAMP:20260423T065912
CREATED:20250923T142336Z
LAST-MODIFIED:20250923T142339Z
UID:10026302-1794310200-1794317400@fvoas.org
SUMMARY:Boomer Bowling
DESCRIPTION:Hometown Lanes – Plano\, IL \nCall Becky for more details at (815) 786-9404
URL:https://fvoas.org/event/boomer-bowling-2/2026-11-10/
LOCATION:Fox Valley Community Services (Sandwich)\, 1406 Suydam Rd\, Sandwich\, IL\, 60548\, United States
CATEGORIES:Entertainment
END:VEVENT
BEGIN:VEVENT
DTSTART;TZID=UTC:20261113T090000
DTEND;TZID=UTC:20261113T100000
DTSTAMP:20260423T065912
CREATED:20230614T201217Z
LAST-MODIFIED:20260406T180510Z
UID:10007332-1794560400-1794564000@fvoas.org
SUMMARY:Line Dancing
DESCRIPTION:
URL:https://fvoas.org/event/line-dancing/2026-11-13/
LOCATION:Fox Valley Community Services (Sandwich)\, 1406 Suydam Rd\, Sandwich\, IL\, 60548\, United States
CATEGORIES:Entertainment
END:VEVENT
BEGIN:VEVENT
DTSTART;TZID=UTC:20261117T113000
DTEND;TZID=UTC:20261117T133000
DTSTAMP:20260423T065912
CREATED:20250923T142336Z
LAST-MODIFIED:20250923T142339Z
UID:10026303-1794915000-1794922200@fvoas.org
SUMMARY:Boomer Bowling
DESCRIPTION:Hometown Lanes – Plano\, IL \nCall Becky for more details at (815) 786-9404
URL:https://fvoas.org/event/boomer-bowling-2/2026-11-17/
LOCATION:Fox Valley Community Services (Sandwich)\, 1406 Suydam Rd\, Sandwich\, IL\, 60548\, United States
CATEGORIES:Entertainment
END:VEVENT
BEGIN:VEVENT
DTSTART;TZID=UTC:20261120T090000
DTEND;TZID=UTC:20261120T100000
DTSTAMP:20260423T065912
CREATED:20230614T201217Z
LAST-MODIFIED:20260406T180510Z
UID:10007333-1795165200-1795168800@fvoas.org
SUMMARY:Line Dancing
DESCRIPTION:
URL:https://fvoas.org/event/line-dancing/2026-11-20/
LOCATION:Fox Valley Community Services (Sandwich)\, 1406 Suydam Rd\, Sandwich\, IL\, 60548\, United States
CATEGORIES:Entertainment
END:VEVENT
BEGIN:VEVENT
DTSTART;TZID=UTC:20261124T113000
DTEND;TZID=UTC:20261124T133000
DTSTAMP:20260423T065912
CREATED:20250923T142336Z
LAST-MODIFIED:20250923T142339Z
UID:10026304-1795519800-1795527000@fvoas.org
SUMMARY:Boomer Bowling
DESCRIPTION:Hometown Lanes – Plano\, IL \nCall Becky for more details at (815) 786-9404
URL:https://fvoas.org/event/boomer-bowling-2/2026-11-24/
LOCATION:Fox Valley Community Services (Sandwich)\, 1406 Suydam Rd\, Sandwich\, IL\, 60548\, United States
CATEGORIES:Entertainment
END:VEVENT
BEGIN:VEVENT
DTSTART;TZID=UTC:20261127T090000
DTEND;TZID=UTC:20261127T100000
DTSTAMP:20260423T065912
CREATED:20230614T201217Z
LAST-MODIFIED:20260406T180510Z
UID:10007334-1795770000-1795773600@fvoas.org
SUMMARY:Line Dancing
DESCRIPTION:
URL:https://fvoas.org/event/line-dancing/2026-11-27/
LOCATION:Fox Valley Community Services (Sandwich)\, 1406 Suydam Rd\, Sandwich\, IL\, 60548\, United States
CATEGORIES:Entertainment
END:VEVENT
BEGIN:VEVENT
DTSTART;TZID=UTC:20261127T103000
DTEND;TZID=UTC:20261127T143000
DTSTAMP:20260423T065912
CREATED:20251230T165133Z
LAST-MODIFIED:20251230T165136Z
UID:10030646-1795775400-1795789800@fvoas.org
SUMMARY:Book2Movie
DESCRIPTION:Book Discussion Begins at 10:30 AM\, Movie begins at 12:30 PM.
URL:https://fvoas.org/event/book2movie-2-2-2-2/2026-11-27/
LOCATION:Fox Valley Community Services (Sandwich)\, 1406 Suydam Rd\, Sandwich\, IL\, 60548\, United States
CATEGORIES:Entertainment
END:VEVENT
BEGIN:VEVENT
DTSTART;TZID=UTC:20261201T113000
DTEND;TZID=UTC:20261201T133000
DTSTAMP:20260423T065912
CREATED:20250923T142336Z
LAST-MODIFIED:20250923T142339Z
UID:10026305-1796124600-1796131800@fvoas.org
SUMMARY:Boomer Bowling
DESCRIPTION:Hometown Lanes – Plano\, IL \nCall Becky for more details at (815) 786-9404
URL:https://fvoas.org/event/boomer-bowling-2/2026-12-01/
LOCATION:Fox Valley Community Services (Sandwich)\, 1406 Suydam Rd\, Sandwich\, IL\, 60548\, United States
CATEGORIES:Entertainment
END:VEVENT
BEGIN:VEVENT
DTSTART;TZID=UTC:20261204T090000
DTEND;TZID=UTC:20261204T100000
DTSTAMP:20260423T065912
CREATED:20230614T201217Z
LAST-MODIFIED:20260406T180510Z
UID:10007335-1796374800-1796378400@fvoas.org
SUMMARY:Line Dancing
DESCRIPTION:
URL:https://fvoas.org/event/line-dancing/2026-12-04/
LOCATION:Fox Valley Community Services (Sandwich)\, 1406 Suydam Rd\, Sandwich\, IL\, 60548\, United States
CATEGORIES:Entertainment
END:VEVENT
BEGIN:VEVENT
DTSTART;TZID=UTC:20261208T113000
DTEND;TZID=UTC:20261208T133000
DTSTAMP:20260423T065912
CREATED:20250923T142336Z
LAST-MODIFIED:20250923T142339Z
UID:10026306-1796729400-1796736600@fvoas.org
SUMMARY:Boomer Bowling
DESCRIPTION:Hometown Lanes – Plano\, IL \nCall Becky for more details at (815) 786-9404
URL:https://fvoas.org/event/boomer-bowling-2/2026-12-08/
LOCATION:Fox Valley Community Services (Sandwich)\, 1406 Suydam Rd\, Sandwich\, IL\, 60548\, United States
CATEGORIES:Entertainment
END:VEVENT
BEGIN:VEVENT
DTSTART;TZID=UTC:20261211T090000
DTEND;TZID=UTC:20261211T100000
DTSTAMP:20260423T065912
CREATED:20230614T201217Z
LAST-MODIFIED:20260406T180510Z
UID:10007336-1796979600-1796983200@fvoas.org
SUMMARY:Line Dancing
DESCRIPTION:
URL:https://fvoas.org/event/line-dancing/2026-12-11/
LOCATION:Fox Valley Community Services (Sandwich)\, 1406 Suydam Rd\, Sandwich\, IL\, 60548\, United States
CATEGORIES:Entertainment
END:VEVENT
BEGIN:VEVENT
DTSTART;TZID=UTC:20261215T113000
DTEND;TZID=UTC:20261215T133000
DTSTAMP:20260423T065912
CREATED:20250923T142336Z
LAST-MODIFIED:20250923T142339Z
UID:10026307-1797334200-1797341400@fvoas.org
SUMMARY:Boomer Bowling
DESCRIPTION:Hometown Lanes – Plano\, IL \nCall Becky for more details at (815) 786-9404
URL:https://fvoas.org/event/boomer-bowling-2/2026-12-15/
LOCATION:Fox Valley Community Services (Sandwich)\, 1406 Suydam Rd\, Sandwich\, IL\, 60548\, United States
CATEGORIES:Entertainment
END:VEVENT
BEGIN:VEVENT
DTSTART;TZID=UTC:20261218T090000
DTEND;TZID=UTC:20261218T100000
DTSTAMP:20260423T065912
CREATED:20230614T201217Z
LAST-MODIFIED:20260406T180510Z
UID:10007337-1797584400-1797588000@fvoas.org
SUMMARY:Line Dancing
DESCRIPTION:
URL:https://fvoas.org/event/line-dancing/2026-12-18/
LOCATION:Fox Valley Community Services (Sandwich)\, 1406 Suydam Rd\, Sandwich\, IL\, 60548\, United States
CATEGORIES:Entertainment
END:VEVENT
BEGIN:VEVENT
DTSTART;TZID=UTC:20261222T113000
DTEND;TZID=UTC:20261222T133000
DTSTAMP:20260423T065912
CREATED:20250923T142336Z
LAST-MODIFIED:20250923T142339Z
UID:10026308-1797939000-1797946200@fvoas.org
SUMMARY:Boomer Bowling
DESCRIPTION:Hometown Lanes – Plano\, IL \nCall Becky for more details at (815) 786-9404
URL:https://fvoas.org/event/boomer-bowling-2/2026-12-22/
LOCATION:Fox Valley Community Services (Sandwich)\, 1406 Suydam Rd\, Sandwich\, IL\, 60548\, United States
CATEGORIES:Entertainment
END:VEVENT
BEGIN:VEVENT
DTSTART;TZID=UTC:20261225T090000
DTEND;TZID=UTC:20261225T100000
DTSTAMP:20260423T065912
CREATED:20230614T201217Z
LAST-MODIFIED:20260406T180510Z
UID:10007338-1798189200-1798192800@fvoas.org
SUMMARY:Line Dancing
DESCRIPTION:
URL:https://fvoas.org/event/line-dancing/2026-12-25/
LOCATION:Fox Valley Community Services (Sandwich)\, 1406 Suydam Rd\, Sandwich\, IL\, 60548\, United States
CATEGORIES:Entertainment
END:VEVENT
BEGIN:VEVENT
DTSTART;TZID=UTC:20261225T103000
DTEND;TZID=UTC:20261225T143000
DTSTAMP:20260423T065912
CREATED:20251230T165133Z
LAST-MODIFIED:20251230T165136Z
UID:10030647-1798194600-1798209000@fvoas.org
SUMMARY:Book2Movie
DESCRIPTION:Book Discussion Begins at 10:30 AM\, Movie begins at 12:30 PM.
URL:https://fvoas.org/event/book2movie-2-2-2-2/2026-12-25/
LOCATION:Fox Valley Community Services (Sandwich)\, 1406 Suydam Rd\, Sandwich\, IL\, 60548\, United States
CATEGORIES:Entertainment
END:VEVENT
BEGIN:VEVENT
DTSTART;TZID=UTC:20261229T113000
DTEND;TZID=UTC:20261229T133000
DTSTAMP:20260423T065912
CREATED:20250923T142336Z
LAST-MODIFIED:20250923T142339Z
UID:10026309-1798543800-1798551000@fvoas.org
SUMMARY:Boomer Bowling
DESCRIPTION:Hometown Lanes – Plano\, IL \nCall Becky for more details at (815) 786-9404
URL:https://fvoas.org/event/boomer-bowling-2/2026-12-29/
LOCATION:Fox Valley Community Services (Sandwich)\, 1406 Suydam Rd\, Sandwich\, IL\, 60548\, United States
CATEGORIES:Entertainment
END:VEVENT
BEGIN:VEVENT
DTSTART;TZID=UTC:20270101T090000
DTEND;TZID=UTC:20270101T100000
DTSTAMP:20260423T065912
CREATED:20230614T201217Z
LAST-MODIFIED:20260406T180510Z
UID:10007339-1798794000-1798797600@fvoas.org
SUMMARY:Line Dancing
DESCRIPTION:
URL:https://fvoas.org/event/line-dancing/2027-01-01/
LOCATION:Fox Valley Community Services (Sandwich)\, 1406 Suydam Rd\, Sandwich\, IL\, 60548\, United States
CATEGORIES:Entertainment
END:VEVENT
BEGIN:VEVENT
DTSTART;TZID=UTC:20270105T113000
DTEND;TZID=UTC:20270105T133000
DTSTAMP:20260423T065912
CREATED:20250923T142336Z
LAST-MODIFIED:20250923T142339Z
UID:10026310-1799148600-1799155800@fvoas.org
SUMMARY:Boomer Bowling
DESCRIPTION:Hometown Lanes – Plano\, IL \nCall Becky for more details at (815) 786-9404
URL:https://fvoas.org/event/boomer-bowling-2/2027-01-05/
LOCATION:Fox Valley Community Services (Sandwich)\, 1406 Suydam Rd\, Sandwich\, IL\, 60548\, United States
CATEGORIES:Entertainment
END:VEVENT
END:VCALENDAR