BEGIN:VCALENDAR
VERSION:2.0
PRODID:-//Fox Valley Community Services - ECPv6.15.20//NONSGML v1.0//EN
CALSCALE:GREGORIAN
METHOD:PUBLISH
X-WR-CALNAME:Fox Valley Community Services
X-ORIGINAL-URL:https://fvoas.org
X-WR-CALDESC:Events for Fox Valley Community Services
REFRESH-INTERVAL;VALUE=DURATION:PT1H
X-Robots-Tag:noindex
X-PUBLISHED-TTL:PT1H
BEGIN:VTIMEZONE
TZID:UTC
BEGIN:STANDARD
TZOFFSETFROM:+0000
TZOFFSETTO:+0000
TZNAME:UTC
DTSTART:20260101T000000
END:STANDARD
END:VTIMEZONE
BEGIN:VEVENT
DTSTART;TZID=UTC:20270330T113000
DTEND;TZID=UTC:20270330T133000
DTSTAMP:20260423T074425
CREATED:20250923T142336Z
LAST-MODIFIED:20250923T142339Z
UID:10026322-1806406200-1806413400@fvoas.org
SUMMARY:Boomer Bowling
DESCRIPTION:Hometown Lanes – Plano\, IL \nCall Becky for more details at (815) 786-9404
URL:https://fvoas.org/event/boomer-bowling-2/2027-03-30/
LOCATION:Fox Valley Community Services (Sandwich)\, 1406 Suydam Rd\, Sandwich\, IL\, 60548\, United States
CATEGORIES:Entertainment
END:VEVENT
BEGIN:VEVENT
DTSTART;TZID=UTC:20270402T090000
DTEND;TZID=UTC:20270402T100000
DTSTAMP:20260423T074425
CREATED:20230614T201217Z
LAST-MODIFIED:20260406T180510Z
UID:10007352-1806656400-1806660000@fvoas.org
SUMMARY:Line Dancing
DESCRIPTION:
URL:https://fvoas.org/event/line-dancing/2027-04-02/
LOCATION:Fox Valley Community Services (Sandwich)\, 1406 Suydam Rd\, Sandwich\, IL\, 60548\, United States
CATEGORIES:Entertainment
END:VEVENT
BEGIN:VEVENT
DTSTART;TZID=UTC:20270406T113000
DTEND;TZID=UTC:20270406T133000
DTSTAMP:20260423T074425
CREATED:20250923T142336Z
LAST-MODIFIED:20250923T142339Z
UID:10026323-1807011000-1807018200@fvoas.org
SUMMARY:Boomer Bowling
DESCRIPTION:Hometown Lanes – Plano\, IL \nCall Becky for more details at (815) 786-9404
URL:https://fvoas.org/event/boomer-bowling-2/2027-04-06/
LOCATION:Fox Valley Community Services (Sandwich)\, 1406 Suydam Rd\, Sandwich\, IL\, 60548\, United States
CATEGORIES:Entertainment
END:VEVENT
BEGIN:VEVENT
DTSTART;TZID=UTC:20270409T090000
DTEND;TZID=UTC:20270409T100000
DTSTAMP:20260423T074425
CREATED:20230614T201217Z
LAST-MODIFIED:20260406T180510Z
UID:10007353-1807261200-1807264800@fvoas.org
SUMMARY:Line Dancing
DESCRIPTION:
URL:https://fvoas.org/event/line-dancing/2027-04-09/
LOCATION:Fox Valley Community Services (Sandwich)\, 1406 Suydam Rd\, Sandwich\, IL\, 60548\, United States
CATEGORIES:Entertainment
END:VEVENT
BEGIN:VEVENT
DTSTART;TZID=UTC:20270413T113000
DTEND;TZID=UTC:20270413T133000
DTSTAMP:20260423T074425
CREATED:20250923T142336Z
LAST-MODIFIED:20250923T142339Z
UID:10026324-1807615800-1807623000@fvoas.org
SUMMARY:Boomer Bowling
DESCRIPTION:Hometown Lanes – Plano\, IL \nCall Becky for more details at (815) 786-9404
URL:https://fvoas.org/event/boomer-bowling-2/2027-04-13/
LOCATION:Fox Valley Community Services (Sandwich)\, 1406 Suydam Rd\, Sandwich\, IL\, 60548\, United States
CATEGORIES:Entertainment
END:VEVENT
BEGIN:VEVENT
DTSTART;TZID=UTC:20270416T090000
DTEND;TZID=UTC:20270416T100000
DTSTAMP:20260423T074425
CREATED:20230614T201217Z
LAST-MODIFIED:20260406T180510Z
UID:10007354-1807866000-1807869600@fvoas.org
SUMMARY:Line Dancing
DESCRIPTION:
URL:https://fvoas.org/event/line-dancing/2027-04-16/
LOCATION:Fox Valley Community Services (Sandwich)\, 1406 Suydam Rd\, Sandwich\, IL\, 60548\, United States
CATEGORIES:Entertainment
END:VEVENT
BEGIN:VEVENT
DTSTART;TZID=UTC:20270420T113000
DTEND;TZID=UTC:20270420T133000
DTSTAMP:20260423T074425
CREATED:20250923T142336Z
LAST-MODIFIED:20250923T142339Z
UID:10026325-1808220600-1808227800@fvoas.org
SUMMARY:Boomer Bowling
DESCRIPTION:Hometown Lanes – Plano\, IL \nCall Becky for more details at (815) 786-9404
URL:https://fvoas.org/event/boomer-bowling-2/2027-04-20/
LOCATION:Fox Valley Community Services (Sandwich)\, 1406 Suydam Rd\, Sandwich\, IL\, 60548\, United States
CATEGORIES:Entertainment
END:VEVENT
BEGIN:VEVENT
DTSTART;TZID=UTC:20270423T090000
DTEND;TZID=UTC:20270423T100000
DTSTAMP:20260423T074425
CREATED:20230614T201217Z
LAST-MODIFIED:20260406T180510Z
UID:10007355-1808470800-1808474400@fvoas.org
SUMMARY:Line Dancing
DESCRIPTION:
URL:https://fvoas.org/event/line-dancing/2027-04-23/
LOCATION:Fox Valley Community Services (Sandwich)\, 1406 Suydam Rd\, Sandwich\, IL\, 60548\, United States
CATEGORIES:Entertainment
END:VEVENT
BEGIN:VEVENT
DTSTART;TZID=UTC:20270423T103000
DTEND;TZID=UTC:20270423T143000
DTSTAMP:20260423T074425
CREATED:20251230T165133Z
LAST-MODIFIED:20251230T165136Z
UID:10030651-1808476200-1808490600@fvoas.org
SUMMARY:Book2Movie
DESCRIPTION:Book Discussion Begins at 10:30 AM\, Movie begins at 12:30 PM.
URL:https://fvoas.org/event/book2movie-2-2-2-2/2027-04-23/
LOCATION:Fox Valley Community Services (Sandwich)\, 1406 Suydam Rd\, Sandwich\, IL\, 60548\, United States
CATEGORIES:Entertainment
END:VEVENT
BEGIN:VEVENT
DTSTART;TZID=UTC:20270427T113000
DTEND;TZID=UTC:20270427T133000
DTSTAMP:20260423T074425
CREATED:20250923T142336Z
LAST-MODIFIED:20250923T142339Z
UID:10026326-1808825400-1808832600@fvoas.org
SUMMARY:Boomer Bowling
DESCRIPTION:Hometown Lanes – Plano\, IL \nCall Becky for more details at (815) 786-9404
URL:https://fvoas.org/event/boomer-bowling-2/2027-04-27/
LOCATION:Fox Valley Community Services (Sandwich)\, 1406 Suydam Rd\, Sandwich\, IL\, 60548\, United States
CATEGORIES:Entertainment
END:VEVENT
BEGIN:VEVENT
DTSTART;TZID=UTC:20270430T090000
DTEND;TZID=UTC:20270430T100000
DTSTAMP:20260423T074425
CREATED:20230614T201217Z
LAST-MODIFIED:20260406T180510Z
UID:10007356-1809075600-1809079200@fvoas.org
SUMMARY:Line Dancing
DESCRIPTION:
URL:https://fvoas.org/event/line-dancing/2027-04-30/
LOCATION:Fox Valley Community Services (Sandwich)\, 1406 Suydam Rd\, Sandwich\, IL\, 60548\, United States
CATEGORIES:Entertainment
END:VEVENT
BEGIN:VEVENT
DTSTART;TZID=UTC:20270504T113000
DTEND;TZID=UTC:20270504T133000
DTSTAMP:20260423T074425
CREATED:20250923T142336Z
LAST-MODIFIED:20250923T142339Z
UID:10026327-1809430200-1809437400@fvoas.org
SUMMARY:Boomer Bowling
DESCRIPTION:Hometown Lanes – Plano\, IL \nCall Becky for more details at (815) 786-9404
URL:https://fvoas.org/event/boomer-bowling-2/2027-05-04/
LOCATION:Fox Valley Community Services (Sandwich)\, 1406 Suydam Rd\, Sandwich\, IL\, 60548\, United States
CATEGORIES:Entertainment
END:VEVENT
BEGIN:VEVENT
DTSTART;TZID=UTC:20270507T090000
DTEND;TZID=UTC:20270507T100000
DTSTAMP:20260423T074425
CREATED:20230614T201217Z
LAST-MODIFIED:20260406T180510Z
UID:10007357-1809680400-1809684000@fvoas.org
SUMMARY:Line Dancing
DESCRIPTION:
URL:https://fvoas.org/event/line-dancing/2027-05-07/
LOCATION:Fox Valley Community Services (Sandwich)\, 1406 Suydam Rd\, Sandwich\, IL\, 60548\, United States
CATEGORIES:Entertainment
END:VEVENT
BEGIN:VEVENT
DTSTART;TZID=UTC:20270511T113000
DTEND;TZID=UTC:20270511T133000
DTSTAMP:20260423T074425
CREATED:20250923T142336Z
LAST-MODIFIED:20250923T142339Z
UID:10026328-1810035000-1810042200@fvoas.org
SUMMARY:Boomer Bowling
DESCRIPTION:Hometown Lanes – Plano\, IL \nCall Becky for more details at (815) 786-9404
URL:https://fvoas.org/event/boomer-bowling-2/2027-05-11/
LOCATION:Fox Valley Community Services (Sandwich)\, 1406 Suydam Rd\, Sandwich\, IL\, 60548\, United States
CATEGORIES:Entertainment
END:VEVENT
BEGIN:VEVENT
DTSTART;TZID=UTC:20270514T090000
DTEND;TZID=UTC:20270514T100000
DTSTAMP:20260423T074425
CREATED:20230614T201217Z
LAST-MODIFIED:20260406T180510Z
UID:10007358-1810285200-1810288800@fvoas.org
SUMMARY:Line Dancing
DESCRIPTION:
URL:https://fvoas.org/event/line-dancing/2027-05-14/
LOCATION:Fox Valley Community Services (Sandwich)\, 1406 Suydam Rd\, Sandwich\, IL\, 60548\, United States
CATEGORIES:Entertainment
END:VEVENT
BEGIN:VEVENT
DTSTART;TZID=UTC:20270518T113000
DTEND;TZID=UTC:20270518T133000
DTSTAMP:20260423T074425
CREATED:20250923T142336Z
LAST-MODIFIED:20250923T142339Z
UID:10026329-1810639800-1810647000@fvoas.org
SUMMARY:Boomer Bowling
DESCRIPTION:Hometown Lanes – Plano\, IL \nCall Becky for more details at (815) 786-9404
URL:https://fvoas.org/event/boomer-bowling-2/2027-05-18/
LOCATION:Fox Valley Community Services (Sandwich)\, 1406 Suydam Rd\, Sandwich\, IL\, 60548\, United States
CATEGORIES:Entertainment
END:VEVENT
BEGIN:VEVENT
DTSTART;TZID=UTC:20270521T090000
DTEND;TZID=UTC:20270521T100000
DTSTAMP:20260423T074425
CREATED:20230614T201217Z
LAST-MODIFIED:20260406T180510Z
UID:10007359-1810890000-1810893600@fvoas.org
SUMMARY:Line Dancing
DESCRIPTION:
URL:https://fvoas.org/event/line-dancing/2027-05-21/
LOCATION:Fox Valley Community Services (Sandwich)\, 1406 Suydam Rd\, Sandwich\, IL\, 60548\, United States
CATEGORIES:Entertainment
END:VEVENT
BEGIN:VEVENT
DTSTART;TZID=UTC:20270525T113000
DTEND;TZID=UTC:20270525T133000
DTSTAMP:20260423T074425
CREATED:20250923T142336Z
LAST-MODIFIED:20250923T142339Z
UID:10026330-1811244600-1811251800@fvoas.org
SUMMARY:Boomer Bowling
DESCRIPTION:Hometown Lanes – Plano\, IL \nCall Becky for more details at (815) 786-9404
URL:https://fvoas.org/event/boomer-bowling-2/2027-05-25/
LOCATION:Fox Valley Community Services (Sandwich)\, 1406 Suydam Rd\, Sandwich\, IL\, 60548\, United States
CATEGORIES:Entertainment
END:VEVENT
BEGIN:VEVENT
DTSTART;TZID=UTC:20270528T090000
DTEND;TZID=UTC:20270528T100000
DTSTAMP:20260423T074425
CREATED:20230614T201217Z
LAST-MODIFIED:20260406T180510Z
UID:10007360-1811494800-1811498400@fvoas.org
SUMMARY:Line Dancing
DESCRIPTION:
URL:https://fvoas.org/event/line-dancing/2027-05-28/
LOCATION:Fox Valley Community Services (Sandwich)\, 1406 Suydam Rd\, Sandwich\, IL\, 60548\, United States
CATEGORIES:Entertainment
END:VEVENT
BEGIN:VEVENT
DTSTART;TZID=UTC:20270528T103000
DTEND;TZID=UTC:20270528T143000
DTSTAMP:20260423T074425
CREATED:20251230T165133Z
LAST-MODIFIED:20251230T165136Z
UID:10030652-1811500200-1811514600@fvoas.org
SUMMARY:Book2Movie
DESCRIPTION:Book Discussion Begins at 10:30 AM\, Movie begins at 12:30 PM.
URL:https://fvoas.org/event/book2movie-2-2-2-2/2027-05-28/
LOCATION:Fox Valley Community Services (Sandwich)\, 1406 Suydam Rd\, Sandwich\, IL\, 60548\, United States
CATEGORIES:Entertainment
END:VEVENT
BEGIN:VEVENT
DTSTART;TZID=UTC:20270601T113000
DTEND;TZID=UTC:20270601T133000
DTSTAMP:20260423T074425
CREATED:20250923T142336Z
LAST-MODIFIED:20250923T142339Z
UID:10026331-1811849400-1811856600@fvoas.org
SUMMARY:Boomer Bowling
DESCRIPTION:Hometown Lanes – Plano\, IL \nCall Becky for more details at (815) 786-9404
URL:https://fvoas.org/event/boomer-bowling-2/2027-06-01/
LOCATION:Fox Valley Community Services (Sandwich)\, 1406 Suydam Rd\, Sandwich\, IL\, 60548\, United States
CATEGORIES:Entertainment
END:VEVENT
BEGIN:VEVENT
DTSTART;TZID=UTC:20270604T090000
DTEND;TZID=UTC:20270604T100000
DTSTAMP:20260423T074425
CREATED:20230614T201217Z
LAST-MODIFIED:20260406T180510Z
UID:10007361-1812099600-1812103200@fvoas.org
SUMMARY:Line Dancing
DESCRIPTION:
URL:https://fvoas.org/event/line-dancing/2027-06-04/
LOCATION:Fox Valley Community Services (Sandwich)\, 1406 Suydam Rd\, Sandwich\, IL\, 60548\, United States
CATEGORIES:Entertainment
END:VEVENT
BEGIN:VEVENT
DTSTART;TZID=UTC:20270608T113000
DTEND;TZID=UTC:20270608T133000
DTSTAMP:20260423T074425
CREATED:20250923T142336Z
LAST-MODIFIED:20250923T142339Z
UID:10026332-1812454200-1812461400@fvoas.org
SUMMARY:Boomer Bowling
DESCRIPTION:Hometown Lanes – Plano\, IL \nCall Becky for more details at (815) 786-9404
URL:https://fvoas.org/event/boomer-bowling-2/2027-06-08/
LOCATION:Fox Valley Community Services (Sandwich)\, 1406 Suydam Rd\, Sandwich\, IL\, 60548\, United States
CATEGORIES:Entertainment
END:VEVENT
BEGIN:VEVENT
DTSTART;TZID=UTC:20270611T090000
DTEND;TZID=UTC:20270611T100000
DTSTAMP:20260423T074425
CREATED:20230614T201217Z
LAST-MODIFIED:20260406T180510Z
UID:10007362-1812704400-1812708000@fvoas.org
SUMMARY:Line Dancing
DESCRIPTION:
URL:https://fvoas.org/event/line-dancing/2027-06-11/
LOCATION:Fox Valley Community Services (Sandwich)\, 1406 Suydam Rd\, Sandwich\, IL\, 60548\, United States
CATEGORIES:Entertainment
END:VEVENT
BEGIN:VEVENT
DTSTART;TZID=UTC:20270615T113000
DTEND;TZID=UTC:20270615T133000
DTSTAMP:20260423T074425
CREATED:20250923T142336Z
LAST-MODIFIED:20250923T142339Z
UID:10026333-1813059000-1813066200@fvoas.org
SUMMARY:Boomer Bowling
DESCRIPTION:Hometown Lanes – Plano\, IL \nCall Becky for more details at (815) 786-9404
URL:https://fvoas.org/event/boomer-bowling-2/2027-06-15/
LOCATION:Fox Valley Community Services (Sandwich)\, 1406 Suydam Rd\, Sandwich\, IL\, 60548\, United States
CATEGORIES:Entertainment
END:VEVENT
BEGIN:VEVENT
DTSTART;TZID=UTC:20270618T090000
DTEND;TZID=UTC:20270618T100000
DTSTAMP:20260423T074425
CREATED:20230614T201217Z
LAST-MODIFIED:20260406T180510Z
UID:10007363-1813309200-1813312800@fvoas.org
SUMMARY:Line Dancing
DESCRIPTION:
URL:https://fvoas.org/event/line-dancing/2027-06-18/
LOCATION:Fox Valley Community Services (Sandwich)\, 1406 Suydam Rd\, Sandwich\, IL\, 60548\, United States
CATEGORIES:Entertainment
END:VEVENT
BEGIN:VEVENT
DTSTART;TZID=UTC:20270622T113000
DTEND;TZID=UTC:20270622T133000
DTSTAMP:20260423T074425
CREATED:20250923T142336Z
LAST-MODIFIED:20250923T142339Z
UID:10026334-1813663800-1813671000@fvoas.org
SUMMARY:Boomer Bowling
DESCRIPTION:Hometown Lanes – Plano\, IL \nCall Becky for more details at (815) 786-9404
URL:https://fvoas.org/event/boomer-bowling-2/2027-06-22/
LOCATION:Fox Valley Community Services (Sandwich)\, 1406 Suydam Rd\, Sandwich\, IL\, 60548\, United States
CATEGORIES:Entertainment
END:VEVENT
BEGIN:VEVENT
DTSTART;TZID=UTC:20270625T090000
DTEND;TZID=UTC:20270625T100000
DTSTAMP:20260423T074425
CREATED:20230614T201217Z
LAST-MODIFIED:20260406T180510Z
UID:10007364-1813914000-1813917600@fvoas.org
SUMMARY:Line Dancing
DESCRIPTION:
URL:https://fvoas.org/event/line-dancing/2027-06-25/
LOCATION:Fox Valley Community Services (Sandwich)\, 1406 Suydam Rd\, Sandwich\, IL\, 60548\, United States
CATEGORIES:Entertainment
END:VEVENT
BEGIN:VEVENT
DTSTART;TZID=UTC:20270625T103000
DTEND;TZID=UTC:20270625T143000
DTSTAMP:20260423T074425
CREATED:20251230T165133Z
LAST-MODIFIED:20251230T165136Z
UID:10030653-1813919400-1813933800@fvoas.org
SUMMARY:Book2Movie
DESCRIPTION:Book Discussion Begins at 10:30 AM\, Movie begins at 12:30 PM.
URL:https://fvoas.org/event/book2movie-2-2-2-2/2027-06-25/
LOCATION:Fox Valley Community Services (Sandwich)\, 1406 Suydam Rd\, Sandwich\, IL\, 60548\, United States
CATEGORIES:Entertainment
END:VEVENT
BEGIN:VEVENT
DTSTART;TZID=UTC:20270629T113000
DTEND;TZID=UTC:20270629T133000
DTSTAMP:20260423T074425
CREATED:20250923T142336Z
LAST-MODIFIED:20250923T142339Z
UID:10026335-1814268600-1814275800@fvoas.org
SUMMARY:Boomer Bowling
DESCRIPTION:Hometown Lanes – Plano\, IL \nCall Becky for more details at (815) 786-9404
URL:https://fvoas.org/event/boomer-bowling-2/2027-06-29/
LOCATION:Fox Valley Community Services (Sandwich)\, 1406 Suydam Rd\, Sandwich\, IL\, 60548\, United States
CATEGORIES:Entertainment
END:VEVENT
END:VCALENDAR