BEGIN:VCALENDAR
VERSION:2.0
PRODID:-//Fox Valley Community Services - ECPv6.15.20//NONSGML v1.0//EN
CALSCALE:GREGORIAN
METHOD:PUBLISH
X-ORIGINAL-URL:https://fvoas.org
X-WR-CALDESC:Events for Fox Valley Community Services
REFRESH-INTERVAL;VALUE=DURATION:PT1H
X-Robots-Tag:noindex
X-PUBLISHED-TTL:PT1H
BEGIN:VTIMEZONE
TZID:UTC
BEGIN:STANDARD
TZOFFSETFROM:+0000
TZOFFSETTO:+0000
TZNAME:UTC
DTSTART:20250101T000000
END:STANDARD
END:VTIMEZONE
BEGIN:VEVENT
DTSTART;TZID=UTC:20260420T083000
DTEND;TZID=UTC:20260420T093000
DTSTAMP:20260422T094220
CREATED:20230614T192927Z
LAST-MODIFIED:20251201T190059Z
UID:10001999-1776673800-1776677400@fvoas.org
SUMMARY:Group Fitness
DESCRIPTION:Members Free / Non-members $3 fee
URL:https://fvoas.org/event/group-fitness/2026-04-20/
LOCATION:Fox Valley Community Services (Sandwich)\, 1406 Suydam Rd\, Sandwich\, IL\, 60548\, United States
CATEGORIES:Health and Wellness
END:VEVENT
BEGIN:VEVENT
DTSTART;TZID=UTC:20260420T093000
DTEND;TZID=UTC:20260420T103000
DTSTAMP:20260422T094220
CREATED:20230614T192123Z
LAST-MODIFIED:20251201T190112Z
UID:10000947-1776677400-1776681000@fvoas.org
SUMMARY:Chair Exercise
DESCRIPTION:
URL:https://fvoas.org/event/chair-exercise/2026-04-20/
LOCATION:Fox Valley Community Services (Sandwich)\, 1406 Suydam Rd\, Sandwich\, IL\, 60548\, United States
CATEGORIES:Health and Wellness
END:VEVENT
BEGIN:VEVENT
DTSTART;TZID=UTC:20260420T100000
DTEND;TZID=UTC:20260420T120000
DTSTAMP:20260422T094220
CREATED:20260203T144628Z
LAST-MODIFIED:20260203T144630Z
UID:10031216-1776679200-1776686400@fvoas.org
SUMMARY:Podiatrist
DESCRIPTION:Dr. LaPlant is ready to address all of your podiatric needs and is here to help with: \n\nNotorious bunions that disrupt your daily life\nDiabetic foot care to ensure effective management of diabetes-related foot complications\nTreatment for heel pain to keep you on your feet and in motion\nSolutions for a broad array of foot & ankle problems\nNail issues\, from infections to ingrowths\n\nGreat feet are the pillars of good health. \nDr. LaPlant accepts Medicare and all insurance coverage make sure to stop in to pickup a restoration form.
URL:https://fvoas.org/event/podiatrist-2-2-2/2026-04-20/
LOCATION:Fox Valley Community Services (Sandwich)\, 1406 Suydam Rd\, Sandwich\, IL\, 60548\, United States
CATEGORIES:Health and Wellness
END:VEVENT
END:VCALENDAR