BEGIN:VCALENDAR
VERSION:2.0
PRODID:-//Fox Valley Community Services - ECPv6.15.20//NONSGML v1.0//EN
CALSCALE:GREGORIAN
METHOD:PUBLISH
X-ORIGINAL-URL:https://fvoas.org
X-WR-CALDESC:Events for Fox Valley Community Services
REFRESH-INTERVAL;VALUE=DURATION:PT1H
X-Robots-Tag:noindex
X-PUBLISHED-TTL:PT1H
BEGIN:VTIMEZONE
TZID:UTC
BEGIN:STANDARD
TZOFFSETFROM:+0000
TZOFFSETTO:+0000
TZNAME:UTC
DTSTART:20250101T000000
END:STANDARD
END:VTIMEZONE
BEGIN:VEVENT
DTSTART;TZID=UTC:20260428T090000
DTEND;TZID=UTC:20260428T100000
DTSTAMP:20260423T090424
CREATED:20240531T163353Z
LAST-MODIFIED:20260203T143024Z
UID:10014663-1777366800-1777370400@fvoas.org
SUMMARY:Walkers Group
DESCRIPTION:Seasonal Walkers Group. Meet at the center and head over to the Sandwich Fair Grounds.
URL:https://fvoas.org/event/walkers-group/2026-04-28/
LOCATION:Fox Valley Community Services (Sandwich)\, 1406 Suydam Rd\, Sandwich\, IL\, 60548\, United States
CATEGORIES:Health and Wellness
END:VEVENT
BEGIN:VEVENT
DTSTART;TZID=UTC:20260428T103000
DTEND;TZID=UTC:20260428T111500
DTSTAMP:20260423T090424
CREATED:20230614T172136Z
LAST-MODIFIED:20260406T175746Z
UID:10010453-1777372200-1777374900@fvoas.org
SUMMARY:Bingocize
DESCRIPTION:
URL:https://fvoas.org/event/bingocize/2026-04-28/
LOCATION:Fox Valley Community Services (Sandwich)\, 1406 Suydam Rd\, Sandwich\, IL\, 60548\, United States
CATEGORIES:Health and Wellness
END:VEVENT
BEGIN:VEVENT
DTSTART;TZID=UTC:20260428T160000
DTEND;TZID=UTC:20260428T170000
DTSTAMP:20260423T090424
CREATED:20251230T164227Z
LAST-MODIFIED:20260406T175205Z
UID:10030142-1777392000-1777395600@fvoas.org
SUMMARY:Dance Fit
DESCRIPTION:
URL:https://fvoas.org/event/dance-fit/2026-04-28/
LOCATION:Fox Valley Community Services (Sandwich)\, 1406 Suydam Rd\, Sandwich\, IL\, 60548\, United States
CATEGORIES:Health and Wellness
END:VEVENT
END:VCALENDAR