BEGIN:VCALENDAR
VERSION:2.0
PRODID:-//Fox Valley Community Services - ECPv6.15.20//NONSGML v1.0//EN
CALSCALE:GREGORIAN
METHOD:PUBLISH
X-WR-CALNAME:Fox Valley Community Services
X-ORIGINAL-URL:https://fvoas.org
X-WR-CALDESC:Events for Fox Valley Community Services
REFRESH-INTERVAL;VALUE=DURATION:PT1H
X-Robots-Tag:noindex
X-PUBLISHED-TTL:PT1H
BEGIN:VTIMEZONE
TZID:UTC
BEGIN:STANDARD
TZOFFSETFROM:+0000
TZOFFSETTO:+0000
TZNAME:UTC
DTSTART:20250101T000000
END:STANDARD
END:VTIMEZONE
BEGIN:VEVENT
DTSTART;TZID=UTC:20260714T090000
DTEND;TZID=UTC:20260714T100000
DTSTAMP:20260424T234359
CREATED:20240531T163353Z
LAST-MODIFIED:20260203T143024Z
UID:10014685-1784019600-1784023200@fvoas.org
SUMMARY:Walkers Group
DESCRIPTION:Seasonal Walkers Group. Meet at the center and head over to the Sandwich Fair Grounds.
URL:https://fvoas.org/event/walkers-group/2026-07-14/
LOCATION:Fox Valley Community Services (Sandwich)\, 1406 Suydam Rd\, Sandwich\, IL\, 60548\, United States
CATEGORIES:Health and Wellness
END:VEVENT
BEGIN:VEVENT
DTSTART;TZID=UTC:20260714T103000
DTEND;TZID=UTC:20260714T111500
DTSTAMP:20260424T234359
CREATED:20230614T172136Z
LAST-MODIFIED:20260406T175746Z
UID:10010475-1784025000-1784027700@fvoas.org
SUMMARY:Bingocize
DESCRIPTION:
URL:https://fvoas.org/event/bingocize/2026-07-14/
LOCATION:Fox Valley Community Services (Sandwich)\, 1406 Suydam Rd\, Sandwich\, IL\, 60548\, United States
CATEGORIES:Health and Wellness
END:VEVENT
BEGIN:VEVENT
DTSTART;TZID=UTC:20260714T160000
DTEND;TZID=UTC:20260714T170000
DTSTAMP:20260424T234359
CREATED:20251230T164227Z
LAST-MODIFIED:20260406T175205Z
UID:10030153-1784044800-1784048400@fvoas.org
SUMMARY:Dance Fit
DESCRIPTION:
URL:https://fvoas.org/event/dance-fit/2026-07-14/
LOCATION:Fox Valley Community Services (Sandwich)\, 1406 Suydam Rd\, Sandwich\, IL\, 60548\, United States
CATEGORIES:Health and Wellness
END:VEVENT
BEGIN:VEVENT
DTSTART;TZID=UTC:20260715T083000
DTEND;TZID=UTC:20260715T093000
DTSTAMP:20260424T234359
CREATED:20230614T192927Z
LAST-MODIFIED:20251201T190059Z
UID:10002024-1784104200-1784107800@fvoas.org
SUMMARY:Group Fitness
DESCRIPTION:Members Free / Non-members $3 fee
URL:https://fvoas.org/event/group-fitness/2026-07-15/
LOCATION:Fox Valley Community Services (Sandwich)\, 1406 Suydam Rd\, Sandwich\, IL\, 60548\, United States
CATEGORIES:Health and Wellness
END:VEVENT
BEGIN:VEVENT
DTSTART;TZID=UTC:20260715T093000
DTEND;TZID=UTC:20260715T103000
DTSTAMP:20260424T234359
CREATED:20230614T192123Z
LAST-MODIFIED:20251201T190112Z
UID:10000972-1784107800-1784111400@fvoas.org
SUMMARY:Chair Exercise
DESCRIPTION:
URL:https://fvoas.org/event/chair-exercise/2026-07-15/
LOCATION:Fox Valley Community Services (Sandwich)\, 1406 Suydam Rd\, Sandwich\, IL\, 60548\, United States
CATEGORIES:Health and Wellness
END:VEVENT
BEGIN:VEVENT
DTSTART;TZID=UTC:20260715T103000
DTEND;TZID=UTC:20260715T113000
DTSTAMP:20260424T234359
CREATED:20240730T183938Z
LAST-MODIFIED:20251201T190140Z
UID:10018590-1784111400-1784115000@fvoas.org
SUMMARY:Chair Volleyball 2
DESCRIPTION:
URL:https://fvoas.org/event/chair-volleyball-2/2026-07-15/
LOCATION:Fox Valley Community Services (Sandwich)\, 1406 Suydam Rd\, Sandwich\, IL\, 60548\, United States
CATEGORIES:Health and Wellness
END:VEVENT
BEGIN:VEVENT
DTSTART;TZID=UTC:20260716T090000
DTEND;TZID=UTC:20260716T100000
DTSTAMP:20260424T234359
CREATED:20240531T163353Z
LAST-MODIFIED:20260203T143024Z
UID:10014686-1784192400-1784196000@fvoas.org
SUMMARY:Walkers Group
DESCRIPTION:Seasonal Walkers Group. Meet at the center and head over to the Sandwich Fair Grounds.
URL:https://fvoas.org/event/walkers-group/2026-07-16/
LOCATION:Fox Valley Community Services (Sandwich)\, 1406 Suydam Rd\, Sandwich\, IL\, 60548\, United States
CATEGORIES:Health and Wellness
END:VEVENT
BEGIN:VEVENT
DTSTART;TZID=UTC:20260716T130000
DTEND;TZID=UTC:20260716T140000
DTSTAMP:20260424T234359
CREATED:20230614T171725Z
LAST-MODIFIED:20230614T171725Z
UID:10000038-1784206800-1784210400@fvoas.org
SUMMARY:Alzheimer's Support Group
DESCRIPTION:
URL:https://fvoas.org/event/alzheimers-support-group/2026-07-16/
LOCATION:Fox Valley Community Services (Sandwich)\, 1406 Suydam Rd\, Sandwich\, IL\, 60548\, United States
CATEGORIES:Health and Wellness
END:VEVENT
BEGIN:VEVENT
DTSTART;TZID=UTC:20260717T103000
DTEND;TZID=UTC:20260717T111500
DTSTAMP:20260424T234359
CREATED:20230614T172136Z
LAST-MODIFIED:20260406T175746Z
UID:10010476-1784284200-1784286900@fvoas.org
SUMMARY:Bingocize
DESCRIPTION:
URL:https://fvoas.org/event/bingocize/2026-07-17/
LOCATION:Fox Valley Community Services (Sandwich)\, 1406 Suydam Rd\, Sandwich\, IL\, 60548\, United States
CATEGORIES:Health and Wellness
END:VEVENT
BEGIN:VEVENT
DTSTART;TZID=UTC:20260717T123000
DTEND;TZID=UTC:20260717T133000
DTSTAMP:20260424T234359
CREATED:20240531T171138Z
LAST-MODIFIED:20251230T162742Z
UID:10016966-1784291400-1784295000@fvoas.org
SUMMARY:Chair Volleyball
DESCRIPTION:
URL:https://fvoas.org/event/chair-volleyball/2026-07-17/
LOCATION:Fox Valley Community Services (Sandwich)\, 1406 Suydam Rd\, Sandwich\, IL\, 60548\, United States
CATEGORIES:Health and Wellness
END:VEVENT
BEGIN:VEVENT
DTSTART;TZID=UTC:20260720T083000
DTEND;TZID=UTC:20260720T093000
DTSTAMP:20260424T234359
CREATED:20230614T192927Z
LAST-MODIFIED:20251201T190059Z
UID:10002025-1784536200-1784539800@fvoas.org
SUMMARY:Group Fitness
DESCRIPTION:Members Free / Non-members $3 fee
URL:https://fvoas.org/event/group-fitness/2026-07-20/
LOCATION:Fox Valley Community Services (Sandwich)\, 1406 Suydam Rd\, Sandwich\, IL\, 60548\, United States
CATEGORIES:Health and Wellness
END:VEVENT
BEGIN:VEVENT
DTSTART;TZID=UTC:20260720T093000
DTEND;TZID=UTC:20260720T103000
DTSTAMP:20260424T234359
CREATED:20230614T192123Z
LAST-MODIFIED:20251201T190112Z
UID:10000973-1784539800-1784543400@fvoas.org
SUMMARY:Chair Exercise
DESCRIPTION:
URL:https://fvoas.org/event/chair-exercise/2026-07-20/
LOCATION:Fox Valley Community Services (Sandwich)\, 1406 Suydam Rd\, Sandwich\, IL\, 60548\, United States
CATEGORIES:Health and Wellness
END:VEVENT
BEGIN:VEVENT
DTSTART;TZID=UTC:20260720T093000
DTEND;TZID=UTC:20260720T223000
DTSTAMP:20260424T234359
CREATED:20260203T145204Z
LAST-MODIFIED:20260406T175026Z
UID:10031403-1784539800-1784586600@fvoas.org
SUMMARY:Massage Therapy
DESCRIPTION:Phyllis Wallington LMT\, PhD will be offering massages at the center on the 2nd and 4th Monday of each month. Phyllis has over 10 years’ experience with soft tissue manipulation and is certified in lymph drainage\, oncology massage\, and soft tissue mobilization. \n$25 – 15-minute Massage \n$50 – 30-minute Massage
URL:https://fvoas.org/event/stretching-with-mini-3/2026-07-20/
LOCATION:Fox Valley Community Services (Sandwich)\, 1406 Suydam Rd\, Sandwich\, IL\, 60548\, United States
CATEGORIES:Health and Wellness
END:VEVENT
BEGIN:VEVENT
DTSTART;TZID=UTC:20260720T100000
DTEND;TZID=UTC:20260720T120000
DTSTAMP:20260424T234359
CREATED:20260203T144628Z
LAST-MODIFIED:20260203T144630Z
UID:10031219-1784541600-1784548800@fvoas.org
SUMMARY:Podiatrist
DESCRIPTION:Dr. LaPlant is ready to address all of your podiatric needs and is here to help with: \n\nNotorious bunions that disrupt your daily life\nDiabetic foot care to ensure effective management of diabetes-related foot complications\nTreatment for heel pain to keep you on your feet and in motion\nSolutions for a broad array of foot & ankle problems\nNail issues\, from infections to ingrowths\n\nGreat feet are the pillars of good health. \nDr. LaPlant accepts Medicare and all insurance coverage make sure to stop in to pickup a restoration form.
URL:https://fvoas.org/event/podiatrist-2-2-2/2026-07-20/
LOCATION:Fox Valley Community Services (Sandwich)\, 1406 Suydam Rd\, Sandwich\, IL\, 60548\, United States
CATEGORIES:Health and Wellness
END:VEVENT
BEGIN:VEVENT
DTSTART;TZID=UTC:20260721T090000
DTEND;TZID=UTC:20260721T100000
DTSTAMP:20260424T234359
CREATED:20240531T163353Z
LAST-MODIFIED:20260203T143024Z
UID:10014687-1784624400-1784628000@fvoas.org
SUMMARY:Walkers Group
DESCRIPTION:Seasonal Walkers Group. Meet at the center and head over to the Sandwich Fair Grounds.
URL:https://fvoas.org/event/walkers-group/2026-07-21/
LOCATION:Fox Valley Community Services (Sandwich)\, 1406 Suydam Rd\, Sandwich\, IL\, 60548\, United States
CATEGORIES:Health and Wellness
END:VEVENT
BEGIN:VEVENT
DTSTART;TZID=UTC:20260721T103000
DTEND;TZID=UTC:20260721T111500
DTSTAMP:20260424T234359
CREATED:20230614T172136Z
LAST-MODIFIED:20260406T175746Z
UID:10010477-1784629800-1784632500@fvoas.org
SUMMARY:Bingocize
DESCRIPTION:
URL:https://fvoas.org/event/bingocize/2026-07-21/
LOCATION:Fox Valley Community Services (Sandwich)\, 1406 Suydam Rd\, Sandwich\, IL\, 60548\, United States
CATEGORIES:Health and Wellness
END:VEVENT
BEGIN:VEVENT
DTSTART;TZID=UTC:20260721T160000
DTEND;TZID=UTC:20260721T170000
DTSTAMP:20260424T234359
CREATED:20251230T164227Z
LAST-MODIFIED:20260406T175205Z
UID:10030154-1784649600-1784653200@fvoas.org
SUMMARY:Dance Fit
DESCRIPTION:
URL:https://fvoas.org/event/dance-fit/2026-07-21/
LOCATION:Fox Valley Community Services (Sandwich)\, 1406 Suydam Rd\, Sandwich\, IL\, 60548\, United States
CATEGORIES:Health and Wellness
END:VEVENT
BEGIN:VEVENT
DTSTART;TZID=UTC:20260722T083000
DTEND;TZID=UTC:20260722T093000
DTSTAMP:20260424T234359
CREATED:20230614T192927Z
LAST-MODIFIED:20251201T190059Z
UID:10002026-1784709000-1784712600@fvoas.org
SUMMARY:Group Fitness
DESCRIPTION:Members Free / Non-members $3 fee
URL:https://fvoas.org/event/group-fitness/2026-07-22/
LOCATION:Fox Valley Community Services (Sandwich)\, 1406 Suydam Rd\, Sandwich\, IL\, 60548\, United States
CATEGORIES:Health and Wellness
END:VEVENT
BEGIN:VEVENT
DTSTART;TZID=UTC:20260722T093000
DTEND;TZID=UTC:20260722T103000
DTSTAMP:20260424T234359
CREATED:20230614T192123Z
LAST-MODIFIED:20251201T190112Z
UID:10000974-1784712600-1784716200@fvoas.org
SUMMARY:Chair Exercise
DESCRIPTION:
URL:https://fvoas.org/event/chair-exercise/2026-07-22/
LOCATION:Fox Valley Community Services (Sandwich)\, 1406 Suydam Rd\, Sandwich\, IL\, 60548\, United States
CATEGORIES:Health and Wellness
END:VEVENT
BEGIN:VEVENT
DTSTART;TZID=UTC:20260722T100000
DTEND;TZID=UTC:20260722T140000
DTSTAMP:20260424T234359
CREATED:20251029T181708Z
LAST-MODIFIED:20251201T190400Z
UID:10027663-1784714400-1784728800@fvoas.org
SUMMARY:$15 Haircuts
DESCRIPTION:
URL:https://fvoas.org/event/15-haircuts-2/2026-07-22/
LOCATION:Fox Valley Community Services (Sandwich)\, 1406 Suydam Rd\, Sandwich\, IL\, 60548\, United States
CATEGORIES:Health and Wellness
END:VEVENT
BEGIN:VEVENT
DTSTART;TZID=UTC:20260722T103000
DTEND;TZID=UTC:20260722T113000
DTSTAMP:20260424T234359
CREATED:20240730T183938Z
LAST-MODIFIED:20251201T190140Z
UID:10018591-1784716200-1784719800@fvoas.org
SUMMARY:Chair Volleyball 2
DESCRIPTION:
URL:https://fvoas.org/event/chair-volleyball-2/2026-07-22/
LOCATION:Fox Valley Community Services (Sandwich)\, 1406 Suydam Rd\, Sandwich\, IL\, 60548\, United States
CATEGORIES:Health and Wellness
END:VEVENT
BEGIN:VEVENT
DTSTART;TZID=UTC:20260723T090000
DTEND;TZID=UTC:20260723T100000
DTSTAMP:20260424T234359
CREATED:20240531T163353Z
LAST-MODIFIED:20260203T143024Z
UID:10014688-1784797200-1784800800@fvoas.org
SUMMARY:Walkers Group
DESCRIPTION:Seasonal Walkers Group. Meet at the center and head over to the Sandwich Fair Grounds.
URL:https://fvoas.org/event/walkers-group/2026-07-23/
LOCATION:Fox Valley Community Services (Sandwich)\, 1406 Suydam Rd\, Sandwich\, IL\, 60548\, United States
CATEGORIES:Health and Wellness
END:VEVENT
BEGIN:VEVENT
DTSTART;TZID=UTC:20260724T103000
DTEND;TZID=UTC:20260724T111500
DTSTAMP:20260424T234359
CREATED:20230614T172136Z
LAST-MODIFIED:20260406T175746Z
UID:10010478-1784889000-1784891700@fvoas.org
SUMMARY:Bingocize
DESCRIPTION:
URL:https://fvoas.org/event/bingocize/2026-07-24/
LOCATION:Fox Valley Community Services (Sandwich)\, 1406 Suydam Rd\, Sandwich\, IL\, 60548\, United States
CATEGORIES:Health and Wellness
END:VEVENT
BEGIN:VEVENT
DTSTART;TZID=UTC:20260724T123000
DTEND;TZID=UTC:20260724T133000
DTSTAMP:20260424T234359
CREATED:20240531T171138Z
LAST-MODIFIED:20251230T162742Z
UID:10016967-1784896200-1784899800@fvoas.org
SUMMARY:Chair Volleyball
DESCRIPTION:
URL:https://fvoas.org/event/chair-volleyball/2026-07-24/
LOCATION:Fox Valley Community Services (Sandwich)\, 1406 Suydam Rd\, Sandwich\, IL\, 60548\, United States
CATEGORIES:Health and Wellness
END:VEVENT
BEGIN:VEVENT
DTSTART;TZID=UTC:20260727T083000
DTEND;TZID=UTC:20260727T093000
DTSTAMP:20260424T234359
CREATED:20230614T192927Z
LAST-MODIFIED:20251201T190059Z
UID:10002027-1785141000-1785144600@fvoas.org
SUMMARY:Group Fitness
DESCRIPTION:Members Free / Non-members $3 fee
URL:https://fvoas.org/event/group-fitness/2026-07-27/
LOCATION:Fox Valley Community Services (Sandwich)\, 1406 Suydam Rd\, Sandwich\, IL\, 60548\, United States
CATEGORIES:Health and Wellness
END:VEVENT
BEGIN:VEVENT
DTSTART;TZID=UTC:20260727T093000
DTEND;TZID=UTC:20260727T103000
DTSTAMP:20260424T234359
CREATED:20230614T192123Z
LAST-MODIFIED:20251201T190112Z
UID:10000975-1785144600-1785148200@fvoas.org
SUMMARY:Chair Exercise
DESCRIPTION:
URL:https://fvoas.org/event/chair-exercise/2026-07-27/
LOCATION:Fox Valley Community Services (Sandwich)\, 1406 Suydam Rd\, Sandwich\, IL\, 60548\, United States
CATEGORIES:Health and Wellness
END:VEVENT
BEGIN:VEVENT
DTSTART;TZID=UTC:20260728T090000
DTEND;TZID=UTC:20260728T100000
DTSTAMP:20260424T234359
CREATED:20240531T163353Z
LAST-MODIFIED:20260203T143024Z
UID:10014689-1785229200-1785232800@fvoas.org
SUMMARY:Walkers Group
DESCRIPTION:Seasonal Walkers Group. Meet at the center and head over to the Sandwich Fair Grounds.
URL:https://fvoas.org/event/walkers-group/2026-07-28/
LOCATION:Fox Valley Community Services (Sandwich)\, 1406 Suydam Rd\, Sandwich\, IL\, 60548\, United States
CATEGORIES:Health and Wellness
END:VEVENT
BEGIN:VEVENT
DTSTART;TZID=UTC:20260728T103000
DTEND;TZID=UTC:20260728T111500
DTSTAMP:20260424T234359
CREATED:20230614T172136Z
LAST-MODIFIED:20260406T175746Z
UID:10010479-1785234600-1785237300@fvoas.org
SUMMARY:Bingocize
DESCRIPTION:
URL:https://fvoas.org/event/bingocize/2026-07-28/
LOCATION:Fox Valley Community Services (Sandwich)\, 1406 Suydam Rd\, Sandwich\, IL\, 60548\, United States
CATEGORIES:Health and Wellness
END:VEVENT
BEGIN:VEVENT
DTSTART;TZID=UTC:20260728T160000
DTEND;TZID=UTC:20260728T170000
DTSTAMP:20260424T234359
CREATED:20251230T164227Z
LAST-MODIFIED:20260406T175205Z
UID:10030155-1785254400-1785258000@fvoas.org
SUMMARY:Dance Fit
DESCRIPTION:
URL:https://fvoas.org/event/dance-fit/2026-07-28/
LOCATION:Fox Valley Community Services (Sandwich)\, 1406 Suydam Rd\, Sandwich\, IL\, 60548\, United States
CATEGORIES:Health and Wellness
END:VEVENT
BEGIN:VEVENT
DTSTART;TZID=UTC:20260729T083000
DTEND;TZID=UTC:20260729T093000
DTSTAMP:20260424T234359
CREATED:20230614T192927Z
LAST-MODIFIED:20251201T190059Z
UID:10002028-1785313800-1785317400@fvoas.org
SUMMARY:Group Fitness
DESCRIPTION:Members Free / Non-members $3 fee
URL:https://fvoas.org/event/group-fitness/2026-07-29/
LOCATION:Fox Valley Community Services (Sandwich)\, 1406 Suydam Rd\, Sandwich\, IL\, 60548\, United States
CATEGORIES:Health and Wellness
END:VEVENT
END:VCALENDAR