BEGIN:VCALENDAR
VERSION:2.0
PRODID:-//Fox Valley Community Services - ECPv6.15.20//NONSGML v1.0//EN
CALSCALE:GREGORIAN
METHOD:PUBLISH
X-ORIGINAL-URL:https://fvoas.org
X-WR-CALDESC:Events for Fox Valley Community Services
REFRESH-INTERVAL;VALUE=DURATION:PT1H
X-Robots-Tag:noindex
X-PUBLISHED-TTL:PT1H
BEGIN:VTIMEZONE
TZID:UTC
BEGIN:STANDARD
TZOFFSETFROM:+0000
TZOFFSETTO:+0000
TZNAME:UTC
DTSTART:20250101T000000
END:STANDARD
END:VTIMEZONE
BEGIN:VEVENT
DTSTART;TZID=UTC:20260827T090000
DTEND;TZID=UTC:20260827T100000
DTSTAMP:20260425T142334
CREATED:20240531T163353Z
LAST-MODIFIED:20260203T143024Z
UID:10014698-1787821200-1787824800@fvoas.org
SUMMARY:Walkers Group
DESCRIPTION:Seasonal Walkers Group. Meet at the center and head over to the Sandwich Fair Grounds.
URL:https://fvoas.org/event/walkers-group/2026-08-27/
LOCATION:Fox Valley Community Services (Sandwich)\, 1406 Suydam Rd\, Sandwich\, IL\, 60548\, United States
CATEGORIES:Health and Wellness
END:VEVENT
BEGIN:VEVENT
DTSTART;TZID=UTC:20260828T103000
DTEND;TZID=UTC:20260828T111500
DTSTAMP:20260425T142334
CREATED:20230614T172136Z
LAST-MODIFIED:20260406T175746Z
UID:10010488-1787913000-1787915700@fvoas.org
SUMMARY:Bingocize
DESCRIPTION:
URL:https://fvoas.org/event/bingocize/2026-08-28/
LOCATION:Fox Valley Community Services (Sandwich)\, 1406 Suydam Rd\, Sandwich\, IL\, 60548\, United States
CATEGORIES:Health and Wellness
END:VEVENT
BEGIN:VEVENT
DTSTART;TZID=UTC:20260828T123000
DTEND;TZID=UTC:20260828T133000
DTSTAMP:20260425T142334
CREATED:20240531T171138Z
LAST-MODIFIED:20251230T162742Z
UID:10016972-1787920200-1787923800@fvoas.org
SUMMARY:Chair Volleyball
DESCRIPTION:
URL:https://fvoas.org/event/chair-volleyball/2026-08-28/
LOCATION:Fox Valley Community Services (Sandwich)\, 1406 Suydam Rd\, Sandwich\, IL\, 60548\, United States
CATEGORIES:Health and Wellness
END:VEVENT
BEGIN:VEVENT
DTSTART;TZID=UTC:20260831T083000
DTEND;TZID=UTC:20260831T093000
DTSTAMP:20260425T142334
CREATED:20230614T192927Z
LAST-MODIFIED:20251201T190059Z
UID:10002037-1788165000-1788168600@fvoas.org
SUMMARY:Group Fitness
DESCRIPTION:Members Free / Non-members $3 fee
URL:https://fvoas.org/event/group-fitness/2026-08-31/
LOCATION:Fox Valley Community Services (Sandwich)\, 1406 Suydam Rd\, Sandwich\, IL\, 60548\, United States
CATEGORIES:Health and Wellness
END:VEVENT
BEGIN:VEVENT
DTSTART;TZID=UTC:20260831T093000
DTEND;TZID=UTC:20260831T103000
DTSTAMP:20260425T142334
CREATED:20230614T192123Z
LAST-MODIFIED:20251201T190112Z
UID:10000985-1788168600-1788172200@fvoas.org
SUMMARY:Chair Exercise
DESCRIPTION:
URL:https://fvoas.org/event/chair-exercise/2026-08-31/
LOCATION:Fox Valley Community Services (Sandwich)\, 1406 Suydam Rd\, Sandwich\, IL\, 60548\, United States
CATEGORIES:Health and Wellness
END:VEVENT
BEGIN:VEVENT
DTSTART;TZID=UTC:20260831T093000
DTEND;TZID=UTC:20260831T223000
DTSTAMP:20260425T142334
CREATED:20260203T145204Z
LAST-MODIFIED:20260406T175026Z
UID:10031406-1788168600-1788215400@fvoas.org
SUMMARY:Massage Therapy
DESCRIPTION:Phyllis Wallington LMT\, PhD will be offering massages at the center on the 2nd and 4th Monday of each month. Phyllis has over 10 years’ experience with soft tissue manipulation and is certified in lymph drainage\, oncology massage\, and soft tissue mobilization. \n$25 – 15-minute Massage \n$50 – 30-minute Massage
URL:https://fvoas.org/event/stretching-with-mini-3/2026-08-31/
LOCATION:Fox Valley Community Services (Sandwich)\, 1406 Suydam Rd\, Sandwich\, IL\, 60548\, United States
CATEGORIES:Health and Wellness
END:VEVENT
BEGIN:VEVENT
DTSTART;TZID=UTC:20260901T090000
DTEND;TZID=UTC:20260901T100000
DTSTAMP:20260425T142334
CREATED:20230614T171933Z
LAST-MODIFIED:20240430T133148Z
UID:10000100-1788253200-1788256800@fvoas.org
SUMMARY:Audiologist
DESCRIPTION:
URL:https://fvoas.org/event/audiologist/2026-09-01/
LOCATION:Fox Valley Community Services (Sandwich)\, 1406 Suydam Rd\, Sandwich\, IL\, 60548\, United States
CATEGORIES:Health and Wellness
END:VEVENT
BEGIN:VEVENT
DTSTART;TZID=UTC:20260901T090000
DTEND;TZID=UTC:20260901T100000
DTSTAMP:20260425T142334
CREATED:20240531T163353Z
LAST-MODIFIED:20260203T143024Z
UID:10014699-1788253200-1788256800@fvoas.org
SUMMARY:Walkers Group
DESCRIPTION:Seasonal Walkers Group. Meet at the center and head over to the Sandwich Fair Grounds.
URL:https://fvoas.org/event/walkers-group/2026-09-01/
LOCATION:Fox Valley Community Services (Sandwich)\, 1406 Suydam Rd\, Sandwich\, IL\, 60548\, United States
CATEGORIES:Health and Wellness
END:VEVENT
BEGIN:VEVENT
DTSTART;TZID=UTC:20260901T103000
DTEND;TZID=UTC:20260901T111500
DTSTAMP:20260425T142334
CREATED:20230614T172136Z
LAST-MODIFIED:20260406T175746Z
UID:10010489-1788258600-1788261300@fvoas.org
SUMMARY:Bingocize
DESCRIPTION:
URL:https://fvoas.org/event/bingocize/2026-09-01/
LOCATION:Fox Valley Community Services (Sandwich)\, 1406 Suydam Rd\, Sandwich\, IL\, 60548\, United States
CATEGORIES:Health and Wellness
END:VEVENT
BEGIN:VEVENT
DTSTART;TZID=UTC:20260901T160000
DTEND;TZID=UTC:20260901T170000
DTSTAMP:20260425T142334
CREATED:20251230T164227Z
LAST-MODIFIED:20260406T175205Z
UID:10030160-1788278400-1788282000@fvoas.org
SUMMARY:Dance Fit
DESCRIPTION:
URL:https://fvoas.org/event/dance-fit/2026-09-01/
LOCATION:Fox Valley Community Services (Sandwich)\, 1406 Suydam Rd\, Sandwich\, IL\, 60548\, United States
CATEGORIES:Health and Wellness
END:VEVENT
BEGIN:VEVENT
DTSTART;TZID=UTC:20260901T180000
DTEND;TZID=UTC:20260901T190000
DTSTAMP:20260425T142334
CREATED:20250428T200635Z
LAST-MODIFIED:20250428T200638Z
UID:10023300-1788285600-1788289200@fvoas.org
SUMMARY:MS Support Group
DESCRIPTION:
URL:https://fvoas.org/event/ms-support-group-2-2-2-2/2026-09-01/
LOCATION:Fox Valley Community Services (Sandwich)\, 1406 Suydam Rd\, Sandwich\, IL\, 60548\, United States
CATEGORIES:Health and Wellness
END:VEVENT
BEGIN:VEVENT
DTSTART;TZID=UTC:20260902T083000
DTEND;TZID=UTC:20260902T093000
DTSTAMP:20260425T142334
CREATED:20230614T192927Z
LAST-MODIFIED:20251201T190059Z
UID:10002038-1788337800-1788341400@fvoas.org
SUMMARY:Group Fitness
DESCRIPTION:Members Free / Non-members $3 fee
URL:https://fvoas.org/event/group-fitness/2026-09-02/
LOCATION:Fox Valley Community Services (Sandwich)\, 1406 Suydam Rd\, Sandwich\, IL\, 60548\, United States
CATEGORIES:Health and Wellness
END:VEVENT
BEGIN:VEVENT
DTSTART;TZID=UTC:20260902T093000
DTEND;TZID=UTC:20260902T103000
DTSTAMP:20260425T142334
CREATED:20230614T192123Z
LAST-MODIFIED:20251201T190112Z
UID:10000986-1788341400-1788345000@fvoas.org
SUMMARY:Chair Exercise
DESCRIPTION:
URL:https://fvoas.org/event/chair-exercise/2026-09-02/
LOCATION:Fox Valley Community Services (Sandwich)\, 1406 Suydam Rd\, Sandwich\, IL\, 60548\, United States
CATEGORIES:Health and Wellness
END:VEVENT
BEGIN:VEVENT
DTSTART;TZID=UTC:20260902T103000
DTEND;TZID=UTC:20260902T113000
DTSTAMP:20260425T142334
CREATED:20240730T183938Z
LAST-MODIFIED:20251201T190140Z
UID:10018597-1788345000-1788348600@fvoas.org
SUMMARY:Chair Volleyball 2
DESCRIPTION:
URL:https://fvoas.org/event/chair-volleyball-2/2026-09-02/
LOCATION:Fox Valley Community Services (Sandwich)\, 1406 Suydam Rd\, Sandwich\, IL\, 60548\, United States
CATEGORIES:Health and Wellness
END:VEVENT
BEGIN:VEVENT
DTSTART;TZID=UTC:20260903T090000
DTEND;TZID=UTC:20260903T100000
DTSTAMP:20260425T142334
CREATED:20240531T163353Z
LAST-MODIFIED:20260203T143024Z
UID:10014700-1788426000-1788429600@fvoas.org
SUMMARY:Walkers Group
DESCRIPTION:Seasonal Walkers Group. Meet at the center and head over to the Sandwich Fair Grounds.
URL:https://fvoas.org/event/walkers-group/2026-09-03/
LOCATION:Fox Valley Community Services (Sandwich)\, 1406 Suydam Rd\, Sandwich\, IL\, 60548\, United States
CATEGORIES:Health and Wellness
END:VEVENT
BEGIN:VEVENT
DTSTART;TZID=UTC:20260904T103000
DTEND;TZID=UTC:20260904T111500
DTSTAMP:20260425T142334
CREATED:20230614T172136Z
LAST-MODIFIED:20260406T175746Z
UID:10010490-1788517800-1788520500@fvoas.org
SUMMARY:Bingocize
DESCRIPTION:
URL:https://fvoas.org/event/bingocize/2026-09-04/
LOCATION:Fox Valley Community Services (Sandwich)\, 1406 Suydam Rd\, Sandwich\, IL\, 60548\, United States
CATEGORIES:Health and Wellness
END:VEVENT
BEGIN:VEVENT
DTSTART;TZID=UTC:20260904T123000
DTEND;TZID=UTC:20260904T133000
DTSTAMP:20260425T142334
CREATED:20240531T171138Z
LAST-MODIFIED:20251230T162742Z
UID:10016973-1788525000-1788528600@fvoas.org
SUMMARY:Chair Volleyball
DESCRIPTION:
URL:https://fvoas.org/event/chair-volleyball/2026-09-04/
LOCATION:Fox Valley Community Services (Sandwich)\, 1406 Suydam Rd\, Sandwich\, IL\, 60548\, United States
CATEGORIES:Health and Wellness
END:VEVENT
BEGIN:VEVENT
DTSTART;TZID=UTC:20260907T083000
DTEND;TZID=UTC:20260907T093000
DTSTAMP:20260425T142334
CREATED:20230614T192927Z
LAST-MODIFIED:20251201T190059Z
UID:10002039-1788769800-1788773400@fvoas.org
SUMMARY:Group Fitness
DESCRIPTION:Members Free / Non-members $3 fee
URL:https://fvoas.org/event/group-fitness/2026-09-07/
LOCATION:Fox Valley Community Services (Sandwich)\, 1406 Suydam Rd\, Sandwich\, IL\, 60548\, United States
CATEGORIES:Health and Wellness
END:VEVENT
BEGIN:VEVENT
DTSTART;TZID=UTC:20260907T093000
DTEND;TZID=UTC:20260907T103000
DTSTAMP:20260425T142334
CREATED:20230614T192123Z
LAST-MODIFIED:20251201T190112Z
UID:10000987-1788773400-1788777000@fvoas.org
SUMMARY:Chair Exercise
DESCRIPTION:
URL:https://fvoas.org/event/chair-exercise/2026-09-07/
LOCATION:Fox Valley Community Services (Sandwich)\, 1406 Suydam Rd\, Sandwich\, IL\, 60548\, United States
CATEGORIES:Health and Wellness
END:VEVENT
BEGIN:VEVENT
DTSTART;TZID=UTC:20260908T090000
DTEND;TZID=UTC:20260908T100000
DTSTAMP:20260425T142334
CREATED:20240531T163353Z
LAST-MODIFIED:20260203T143024Z
UID:10014701-1788858000-1788861600@fvoas.org
SUMMARY:Walkers Group
DESCRIPTION:Seasonal Walkers Group. Meet at the center and head over to the Sandwich Fair Grounds.
URL:https://fvoas.org/event/walkers-group/2026-09-08/
LOCATION:Fox Valley Community Services (Sandwich)\, 1406 Suydam Rd\, Sandwich\, IL\, 60548\, United States
CATEGORIES:Health and Wellness
END:VEVENT
BEGIN:VEVENT
DTSTART;TZID=UTC:20260908T103000
DTEND;TZID=UTC:20260908T111500
DTSTAMP:20260425T142334
CREATED:20230614T172136Z
LAST-MODIFIED:20260406T175746Z
UID:10010491-1788863400-1788866100@fvoas.org
SUMMARY:Bingocize
DESCRIPTION:
URL:https://fvoas.org/event/bingocize/2026-09-08/
LOCATION:Fox Valley Community Services (Sandwich)\, 1406 Suydam Rd\, Sandwich\, IL\, 60548\, United States
CATEGORIES:Health and Wellness
END:VEVENT
BEGIN:VEVENT
DTSTART;TZID=UTC:20260908T160000
DTEND;TZID=UTC:20260908T170000
DTSTAMP:20260425T142334
CREATED:20251230T164227Z
LAST-MODIFIED:20260406T175205Z
UID:10030161-1788883200-1788886800@fvoas.org
SUMMARY:Dance Fit
DESCRIPTION:
URL:https://fvoas.org/event/dance-fit/2026-09-08/
LOCATION:Fox Valley Community Services (Sandwich)\, 1406 Suydam Rd\, Sandwich\, IL\, 60548\, United States
CATEGORIES:Health and Wellness
END:VEVENT
BEGIN:VEVENT
DTSTART;TZID=UTC:20260909T083000
DTEND;TZID=UTC:20260909T093000
DTSTAMP:20260425T142334
CREATED:20230614T192927Z
LAST-MODIFIED:20251201T190059Z
UID:10002040-1788942600-1788946200@fvoas.org
SUMMARY:Group Fitness
DESCRIPTION:Members Free / Non-members $3 fee
URL:https://fvoas.org/event/group-fitness/2026-09-09/
LOCATION:Fox Valley Community Services (Sandwich)\, 1406 Suydam Rd\, Sandwich\, IL\, 60548\, United States
CATEGORIES:Health and Wellness
END:VEVENT
BEGIN:VEVENT
DTSTART;TZID=UTC:20260909T093000
DTEND;TZID=UTC:20260909T103000
DTSTAMP:20260425T142334
CREATED:20230614T192123Z
LAST-MODIFIED:20251201T190112Z
UID:10000988-1788946200-1788949800@fvoas.org
SUMMARY:Chair Exercise
DESCRIPTION:
URL:https://fvoas.org/event/chair-exercise/2026-09-09/
LOCATION:Fox Valley Community Services (Sandwich)\, 1406 Suydam Rd\, Sandwich\, IL\, 60548\, United States
CATEGORIES:Health and Wellness
END:VEVENT
BEGIN:VEVENT
DTSTART;TZID=UTC:20260909T100000
DTEND;TZID=UTC:20260909T140000
DTSTAMP:20260425T142334
CREATED:20251029T181657Z
LAST-MODIFIED:20251029T181659Z
UID:10027606-1788948000-1788962400@fvoas.org
SUMMARY:$15 Haircuts
DESCRIPTION:
URL:https://fvoas.org/event/15-haricuts-2/2026-09-09/
LOCATION:Fox Valley Community Services (Sandwich)\, 1406 Suydam Rd\, Sandwich\, IL\, 60548\, United States
CATEGORIES:Health and Wellness
END:VEVENT
BEGIN:VEVENT
DTSTART;TZID=UTC:20260909T103000
DTEND;TZID=UTC:20260909T113000
DTSTAMP:20260425T142334
CREATED:20240730T183938Z
LAST-MODIFIED:20251201T190140Z
UID:10018598-1788949800-1788953400@fvoas.org
SUMMARY:Chair Volleyball 2
DESCRIPTION:
URL:https://fvoas.org/event/chair-volleyball-2/2026-09-09/
LOCATION:Fox Valley Community Services (Sandwich)\, 1406 Suydam Rd\, Sandwich\, IL\, 60548\, United States
CATEGORIES:Health and Wellness
END:VEVENT
BEGIN:VEVENT
DTSTART;TZID=UTC:20260910T090000
DTEND;TZID=UTC:20260910T100000
DTSTAMP:20260425T142334
CREATED:20240531T163353Z
LAST-MODIFIED:20260203T143024Z
UID:10014702-1789030800-1789034400@fvoas.org
SUMMARY:Walkers Group
DESCRIPTION:Seasonal Walkers Group. Meet at the center and head over to the Sandwich Fair Grounds.
URL:https://fvoas.org/event/walkers-group/2026-09-10/
LOCATION:Fox Valley Community Services (Sandwich)\, 1406 Suydam Rd\, Sandwich\, IL\, 60548\, United States
CATEGORIES:Health and Wellness
END:VEVENT
BEGIN:VEVENT
DTSTART;TZID=UTC:20260911T103000
DTEND;TZID=UTC:20260911T111500
DTSTAMP:20260425T142334
CREATED:20230614T172136Z
LAST-MODIFIED:20260406T175746Z
UID:10010492-1789122600-1789125300@fvoas.org
SUMMARY:Bingocize
DESCRIPTION:
URL:https://fvoas.org/event/bingocize/2026-09-11/
LOCATION:Fox Valley Community Services (Sandwich)\, 1406 Suydam Rd\, Sandwich\, IL\, 60548\, United States
CATEGORIES:Health and Wellness
END:VEVENT
BEGIN:VEVENT
DTSTART;TZID=UTC:20260911T123000
DTEND;TZID=UTC:20260911T133000
DTSTAMP:20260425T142334
CREATED:20240531T171138Z
LAST-MODIFIED:20251230T162742Z
UID:10016974-1789129800-1789133400@fvoas.org
SUMMARY:Chair Volleyball
DESCRIPTION:
URL:https://fvoas.org/event/chair-volleyball/2026-09-11/
LOCATION:Fox Valley Community Services (Sandwich)\, 1406 Suydam Rd\, Sandwich\, IL\, 60548\, United States
CATEGORIES:Health and Wellness
END:VEVENT
BEGIN:VEVENT
DTSTART;TZID=UTC:20260914T083000
DTEND;TZID=UTC:20260914T093000
DTSTAMP:20260425T142334
CREATED:20230614T192927Z
LAST-MODIFIED:20251201T190059Z
UID:10002041-1789374600-1789378200@fvoas.org
SUMMARY:Group Fitness
DESCRIPTION:Members Free / Non-members $3 fee
URL:https://fvoas.org/event/group-fitness/2026-09-14/
LOCATION:Fox Valley Community Services (Sandwich)\, 1406 Suydam Rd\, Sandwich\, IL\, 60548\, United States
CATEGORIES:Health and Wellness
END:VEVENT
END:VCALENDAR