BEGIN:VCALENDAR
VERSION:2.0
PRODID:-//Fox Valley Community Services - ECPv6.15.20//NONSGML v1.0//EN
CALSCALE:GREGORIAN
METHOD:PUBLISH
X-ORIGINAL-URL:https://fvoas.org
X-WR-CALDESC:Events for Fox Valley Community Services
REFRESH-INTERVAL;VALUE=DURATION:PT1H
X-Robots-Tag:noindex
X-PUBLISHED-TTL:PT1H
BEGIN:VTIMEZONE
TZID:UTC
BEGIN:STANDARD
TZOFFSETFROM:+0000
TZOFFSETTO:+0000
TZNAME:UTC
DTSTART:20250101T000000
END:STANDARD
END:VTIMEZONE
BEGIN:VEVENT
DTSTART;TZID=UTC:20260508T123000
DTEND;TZID=UTC:20260508T133000
DTSTAMP:20260423T115921
CREATED:20240531T171138Z
LAST-MODIFIED:20251230T162742Z
UID:10016956-1778243400-1778247000@fvoas.org
SUMMARY:Chair Volleyball
DESCRIPTION:
URL:https://fvoas.org/event/chair-volleyball/2026-05-08/
LOCATION:Fox Valley Community Services (Sandwich)\, 1406 Suydam Rd\, Sandwich\, IL\, 60548\, United States
CATEGORIES:Health and Wellness
END:VEVENT
BEGIN:VEVENT
DTSTART;TZID=UTC:20260511T083000
DTEND;TZID=UTC:20260511T093000
DTSTAMP:20260423T115921
CREATED:20230614T192927Z
LAST-MODIFIED:20251201T190059Z
UID:10002005-1778488200-1778491800@fvoas.org
SUMMARY:Group Fitness
DESCRIPTION:Members Free / Non-members $3 fee
URL:https://fvoas.org/event/group-fitness/2026-05-11/
LOCATION:Fox Valley Community Services (Sandwich)\, 1406 Suydam Rd\, Sandwich\, IL\, 60548\, United States
CATEGORIES:Health and Wellness
END:VEVENT
BEGIN:VEVENT
DTSTART;TZID=UTC:20260511T093000
DTEND;TZID=UTC:20260511T103000
DTSTAMP:20260423T115921
CREATED:20230614T192123Z
LAST-MODIFIED:20251201T190112Z
UID:10000953-1778491800-1778495400@fvoas.org
SUMMARY:Chair Exercise
DESCRIPTION:
URL:https://fvoas.org/event/chair-exercise/2026-05-11/
LOCATION:Fox Valley Community Services (Sandwich)\, 1406 Suydam Rd\, Sandwich\, IL\, 60548\, United States
CATEGORIES:Health and Wellness
END:VEVENT
BEGIN:VEVENT
DTSTART;TZID=UTC:20260511T093000
DTEND;TZID=UTC:20260511T223000
DTSTAMP:20260423T115921
CREATED:20260203T145204Z
LAST-MODIFIED:20260406T175026Z
UID:10031398-1778491800-1778538600@fvoas.org
SUMMARY:Massage Therapy
DESCRIPTION:Phyllis Wallington LMT\, PhD will be offering massages at the center on the 2nd and 4th Monday of each month. Phyllis has over 10 years’ experience with soft tissue manipulation and is certified in lymph drainage\, oncology massage\, and soft tissue mobilization. \n$25 – 15-minute Massage \n$50 – 30-minute Massage
URL:https://fvoas.org/event/stretching-with-mini-3/2026-05-11/
LOCATION:Fox Valley Community Services (Sandwich)\, 1406 Suydam Rd\, Sandwich\, IL\, 60548\, United States
CATEGORIES:Health and Wellness
END:VEVENT
BEGIN:VEVENT
DTSTART;TZID=UTC:20260512T090000
DTEND;TZID=UTC:20260512T100000
DTSTAMP:20260423T115921
CREATED:20240531T163353Z
LAST-MODIFIED:20260203T143024Z
UID:10014667-1778576400-1778580000@fvoas.org
SUMMARY:Walkers Group
DESCRIPTION:Seasonal Walkers Group. Meet at the center and head over to the Sandwich Fair Grounds.
URL:https://fvoas.org/event/walkers-group/2026-05-12/
LOCATION:Fox Valley Community Services (Sandwich)\, 1406 Suydam Rd\, Sandwich\, IL\, 60548\, United States
CATEGORIES:Health and Wellness
END:VEVENT
BEGIN:VEVENT
DTSTART;TZID=UTC:20260512T103000
DTEND;TZID=UTC:20260512T111500
DTSTAMP:20260423T115921
CREATED:20230614T172136Z
LAST-MODIFIED:20260406T175746Z
UID:10010457-1778581800-1778584500@fvoas.org
SUMMARY:Bingocize
DESCRIPTION:
URL:https://fvoas.org/event/bingocize/2026-05-12/
LOCATION:Fox Valley Community Services (Sandwich)\, 1406 Suydam Rd\, Sandwich\, IL\, 60548\, United States
CATEGORIES:Health and Wellness
END:VEVENT
BEGIN:VEVENT
DTSTART;TZID=UTC:20260512T160000
DTEND;TZID=UTC:20260512T170000
DTSTAMP:20260423T115921
CREATED:20251230T164227Z
LAST-MODIFIED:20260406T175205Z
UID:10030144-1778601600-1778605200@fvoas.org
SUMMARY:Dance Fit
DESCRIPTION:
URL:https://fvoas.org/event/dance-fit/2026-05-12/
LOCATION:Fox Valley Community Services (Sandwich)\, 1406 Suydam Rd\, Sandwich\, IL\, 60548\, United States
CATEGORIES:Health and Wellness
END:VEVENT
BEGIN:VEVENT
DTSTART;TZID=UTC:20260513T083000
DTEND;TZID=UTC:20260513T093000
DTSTAMP:20260423T115921
CREATED:20230614T192927Z
LAST-MODIFIED:20251201T190059Z
UID:10002006-1778661000-1778664600@fvoas.org
SUMMARY:Group Fitness
DESCRIPTION:Members Free / Non-members $3 fee
URL:https://fvoas.org/event/group-fitness/2026-05-13/
LOCATION:Fox Valley Community Services (Sandwich)\, 1406 Suydam Rd\, Sandwich\, IL\, 60548\, United States
CATEGORIES:Health and Wellness
END:VEVENT
BEGIN:VEVENT
DTSTART;TZID=UTC:20260513T093000
DTEND;TZID=UTC:20260513T103000
DTSTAMP:20260423T115921
CREATED:20230614T192123Z
LAST-MODIFIED:20251201T190112Z
UID:10000954-1778664600-1778668200@fvoas.org
SUMMARY:Chair Exercise
DESCRIPTION:
URL:https://fvoas.org/event/chair-exercise/2026-05-13/
LOCATION:Fox Valley Community Services (Sandwich)\, 1406 Suydam Rd\, Sandwich\, IL\, 60548\, United States
CATEGORIES:Health and Wellness
END:VEVENT
BEGIN:VEVENT
DTSTART;TZID=UTC:20260513T100000
DTEND;TZID=UTC:20260513T140000
DTSTAMP:20260423T115921
CREATED:20251029T181657Z
LAST-MODIFIED:20251029T181659Z
UID:10027602-1778666400-1778680800@fvoas.org
SUMMARY:$15 Haircuts
DESCRIPTION:
URL:https://fvoas.org/event/15-haricuts-2/2026-05-13/
LOCATION:Fox Valley Community Services (Sandwich)\, 1406 Suydam Rd\, Sandwich\, IL\, 60548\, United States
CATEGORIES:Health and Wellness
END:VEVENT
BEGIN:VEVENT
DTSTART;TZID=UTC:20260513T103000
DTEND;TZID=UTC:20260513T113000
DTSTAMP:20260423T115921
CREATED:20240730T183938Z
LAST-MODIFIED:20251201T190140Z
UID:10018581-1778668200-1778671800@fvoas.org
SUMMARY:Chair Volleyball 2
DESCRIPTION:
URL:https://fvoas.org/event/chair-volleyball-2/2026-05-13/
LOCATION:Fox Valley Community Services (Sandwich)\, 1406 Suydam Rd\, Sandwich\, IL\, 60548\, United States
CATEGORIES:Health and Wellness
END:VEVENT
BEGIN:VEVENT
DTSTART;TZID=UTC:20260514T090000
DTEND;TZID=UTC:20260514T100000
DTSTAMP:20260423T115921
CREATED:20240531T163353Z
LAST-MODIFIED:20260203T143024Z
UID:10014668-1778749200-1778752800@fvoas.org
SUMMARY:Walkers Group
DESCRIPTION:Seasonal Walkers Group. Meet at the center and head over to the Sandwich Fair Grounds.
URL:https://fvoas.org/event/walkers-group/2026-05-14/
LOCATION:Fox Valley Community Services (Sandwich)\, 1406 Suydam Rd\, Sandwich\, IL\, 60548\, United States
CATEGORIES:Health and Wellness
END:VEVENT
BEGIN:VEVENT
DTSTART;TZID=UTC:20260515T103000
DTEND;TZID=UTC:20260515T111500
DTSTAMP:20260423T115921
CREATED:20230614T172136Z
LAST-MODIFIED:20260406T175746Z
UID:10010458-1778841000-1778843700@fvoas.org
SUMMARY:Bingocize
DESCRIPTION:
URL:https://fvoas.org/event/bingocize/2026-05-15/
LOCATION:Fox Valley Community Services (Sandwich)\, 1406 Suydam Rd\, Sandwich\, IL\, 60548\, United States
CATEGORIES:Health and Wellness
END:VEVENT
BEGIN:VEVENT
DTSTART;TZID=UTC:20260515T123000
DTEND;TZID=UTC:20260515T133000
DTSTAMP:20260423T115921
CREATED:20240531T171138Z
LAST-MODIFIED:20251230T162742Z
UID:10016957-1778848200-1778851800@fvoas.org
SUMMARY:Chair Volleyball
DESCRIPTION:
URL:https://fvoas.org/event/chair-volleyball/2026-05-15/
LOCATION:Fox Valley Community Services (Sandwich)\, 1406 Suydam Rd\, Sandwich\, IL\, 60548\, United States
CATEGORIES:Health and Wellness
END:VEVENT
BEGIN:VEVENT
DTSTART;TZID=UTC:20260518T083000
DTEND;TZID=UTC:20260518T093000
DTSTAMP:20260423T115921
CREATED:20230614T192927Z
LAST-MODIFIED:20251201T190059Z
UID:10002007-1779093000-1779096600@fvoas.org
SUMMARY:Group Fitness
DESCRIPTION:Members Free / Non-members $3 fee
URL:https://fvoas.org/event/group-fitness/2026-05-18/
LOCATION:Fox Valley Community Services (Sandwich)\, 1406 Suydam Rd\, Sandwich\, IL\, 60548\, United States
CATEGORIES:Health and Wellness
END:VEVENT
BEGIN:VEVENT
DTSTART;TZID=UTC:20260518T093000
DTEND;TZID=UTC:20260518T103000
DTSTAMP:20260423T115921
CREATED:20230614T192123Z
LAST-MODIFIED:20251201T190112Z
UID:10000955-1779096600-1779100200@fvoas.org
SUMMARY:Chair Exercise
DESCRIPTION:
URL:https://fvoas.org/event/chair-exercise/2026-05-18/
LOCATION:Fox Valley Community Services (Sandwich)\, 1406 Suydam Rd\, Sandwich\, IL\, 60548\, United States
CATEGORIES:Health and Wellness
END:VEVENT
BEGIN:VEVENT
DTSTART;TZID=UTC:20260518T100000
DTEND;TZID=UTC:20260518T120000
DTSTAMP:20260423T115921
CREATED:20260203T144628Z
LAST-MODIFIED:20260203T144630Z
UID:10031217-1779098400-1779105600@fvoas.org
SUMMARY:Podiatrist
DESCRIPTION:Dr. LaPlant is ready to address all of your podiatric needs and is here to help with: \n\nNotorious bunions that disrupt your daily life\nDiabetic foot care to ensure effective management of diabetes-related foot complications\nTreatment for heel pain to keep you on your feet and in motion\nSolutions for a broad array of foot & ankle problems\nNail issues\, from infections to ingrowths\n\nGreat feet are the pillars of good health. \nDr. LaPlant accepts Medicare and all insurance coverage make sure to stop in to pickup a restoration form.
URL:https://fvoas.org/event/podiatrist-2-2-2/2026-05-18/
LOCATION:Fox Valley Community Services (Sandwich)\, 1406 Suydam Rd\, Sandwich\, IL\, 60548\, United States
CATEGORIES:Health and Wellness
END:VEVENT
BEGIN:VEVENT
DTSTART;TZID=UTC:20260519T090000
DTEND;TZID=UTC:20260519T100000
DTSTAMP:20260423T115921
CREATED:20240531T163353Z
LAST-MODIFIED:20260203T143024Z
UID:10014669-1779181200-1779184800@fvoas.org
SUMMARY:Walkers Group
DESCRIPTION:Seasonal Walkers Group. Meet at the center and head over to the Sandwich Fair Grounds.
URL:https://fvoas.org/event/walkers-group/2026-05-19/
LOCATION:Fox Valley Community Services (Sandwich)\, 1406 Suydam Rd\, Sandwich\, IL\, 60548\, United States
CATEGORIES:Health and Wellness
END:VEVENT
BEGIN:VEVENT
DTSTART;TZID=UTC:20260519T103000
DTEND;TZID=UTC:20260519T111500
DTSTAMP:20260423T115921
CREATED:20230614T172136Z
LAST-MODIFIED:20260406T175746Z
UID:10010459-1779186600-1779189300@fvoas.org
SUMMARY:Bingocize
DESCRIPTION:
URL:https://fvoas.org/event/bingocize/2026-05-19/
LOCATION:Fox Valley Community Services (Sandwich)\, 1406 Suydam Rd\, Sandwich\, IL\, 60548\, United States
CATEGORIES:Health and Wellness
END:VEVENT
BEGIN:VEVENT
DTSTART;TZID=UTC:20260519T160000
DTEND;TZID=UTC:20260519T170000
DTSTAMP:20260423T115921
CREATED:20251230T164227Z
LAST-MODIFIED:20260406T175205Z
UID:10030145-1779206400-1779210000@fvoas.org
SUMMARY:Dance Fit
DESCRIPTION:
URL:https://fvoas.org/event/dance-fit/2026-05-19/
LOCATION:Fox Valley Community Services (Sandwich)\, 1406 Suydam Rd\, Sandwich\, IL\, 60548\, United States
CATEGORIES:Health and Wellness
END:VEVENT
BEGIN:VEVENT
DTSTART;TZID=UTC:20260520T083000
DTEND;TZID=UTC:20260520T093000
DTSTAMP:20260423T115921
CREATED:20230614T192927Z
LAST-MODIFIED:20251201T190059Z
UID:10002008-1779265800-1779269400@fvoas.org
SUMMARY:Group Fitness
DESCRIPTION:Members Free / Non-members $3 fee
URL:https://fvoas.org/event/group-fitness/2026-05-20/
LOCATION:Fox Valley Community Services (Sandwich)\, 1406 Suydam Rd\, Sandwich\, IL\, 60548\, United States
CATEGORIES:Health and Wellness
END:VEVENT
BEGIN:VEVENT
DTSTART;TZID=UTC:20260520T093000
DTEND;TZID=UTC:20260520T103000
DTSTAMP:20260423T115921
CREATED:20230614T192123Z
LAST-MODIFIED:20251201T190112Z
UID:10000956-1779269400-1779273000@fvoas.org
SUMMARY:Chair Exercise
DESCRIPTION:
URL:https://fvoas.org/event/chair-exercise/2026-05-20/
LOCATION:Fox Valley Community Services (Sandwich)\, 1406 Suydam Rd\, Sandwich\, IL\, 60548\, United States
CATEGORIES:Health and Wellness
END:VEVENT
BEGIN:VEVENT
DTSTART;TZID=UTC:20260520T103000
DTEND;TZID=UTC:20260520T113000
DTSTAMP:20260423T115921
CREATED:20240730T183938Z
LAST-MODIFIED:20251201T190140Z
UID:10018582-1779273000-1779276600@fvoas.org
SUMMARY:Chair Volleyball 2
DESCRIPTION:
URL:https://fvoas.org/event/chair-volleyball-2/2026-05-20/
LOCATION:Fox Valley Community Services (Sandwich)\, 1406 Suydam Rd\, Sandwich\, IL\, 60548\, United States
CATEGORIES:Health and Wellness
END:VEVENT
BEGIN:VEVENT
DTSTART;TZID=UTC:20260521T090000
DTEND;TZID=UTC:20260521T100000
DTSTAMP:20260423T115921
CREATED:20240531T163353Z
LAST-MODIFIED:20260203T143024Z
UID:10014670-1779354000-1779357600@fvoas.org
SUMMARY:Walkers Group
DESCRIPTION:Seasonal Walkers Group. Meet at the center and head over to the Sandwich Fair Grounds.
URL:https://fvoas.org/event/walkers-group/2026-05-21/
LOCATION:Fox Valley Community Services (Sandwich)\, 1406 Suydam Rd\, Sandwich\, IL\, 60548\, United States
CATEGORIES:Health and Wellness
END:VEVENT
BEGIN:VEVENT
DTSTART;TZID=UTC:20260521T130000
DTEND;TZID=UTC:20260521T140000
DTSTAMP:20260423T115921
CREATED:20230614T171725Z
LAST-MODIFIED:20230614T171725Z
UID:10000036-1779368400-1779372000@fvoas.org
SUMMARY:Alzheimer's Support Group
DESCRIPTION:
URL:https://fvoas.org/event/alzheimers-support-group/2026-05-21/
LOCATION:Fox Valley Community Services (Sandwich)\, 1406 Suydam Rd\, Sandwich\, IL\, 60548\, United States
CATEGORIES:Health and Wellness
END:VEVENT
BEGIN:VEVENT
DTSTART;TZID=UTC:20260522T103000
DTEND;TZID=UTC:20260522T111500
DTSTAMP:20260423T115921
CREATED:20230614T172136Z
LAST-MODIFIED:20260406T175746Z
UID:10010460-1779445800-1779448500@fvoas.org
SUMMARY:Bingocize
DESCRIPTION:
URL:https://fvoas.org/event/bingocize/2026-05-22/
LOCATION:Fox Valley Community Services (Sandwich)\, 1406 Suydam Rd\, Sandwich\, IL\, 60548\, United States
CATEGORIES:Health and Wellness
END:VEVENT
BEGIN:VEVENT
DTSTART;TZID=UTC:20260522T123000
DTEND;TZID=UTC:20260522T133000
DTSTAMP:20260423T115921
CREATED:20240531T171138Z
LAST-MODIFIED:20251230T162742Z
UID:10016958-1779453000-1779456600@fvoas.org
SUMMARY:Chair Volleyball
DESCRIPTION:
URL:https://fvoas.org/event/chair-volleyball/2026-05-22/
LOCATION:Fox Valley Community Services (Sandwich)\, 1406 Suydam Rd\, Sandwich\, IL\, 60548\, United States
CATEGORIES:Health and Wellness
END:VEVENT
BEGIN:VEVENT
DTSTART;TZID=UTC:20260525T083000
DTEND;TZID=UTC:20260525T093000
DTSTAMP:20260423T115921
CREATED:20230614T192927Z
LAST-MODIFIED:20251201T190059Z
UID:10002009-1779697800-1779701400@fvoas.org
SUMMARY:Group Fitness
DESCRIPTION:Members Free / Non-members $3 fee
URL:https://fvoas.org/event/group-fitness/2026-05-25/
LOCATION:Fox Valley Community Services (Sandwich)\, 1406 Suydam Rd\, Sandwich\, IL\, 60548\, United States
CATEGORIES:Health and Wellness
END:VEVENT
BEGIN:VEVENT
DTSTART;TZID=UTC:20260525T093000
DTEND;TZID=UTC:20260525T103000
DTSTAMP:20260423T115921
CREATED:20230614T192123Z
LAST-MODIFIED:20251201T190112Z
UID:10000957-1779701400-1779705000@fvoas.org
SUMMARY:Chair Exercise
DESCRIPTION:
URL:https://fvoas.org/event/chair-exercise/2026-05-25/
LOCATION:Fox Valley Community Services (Sandwich)\, 1406 Suydam Rd\, Sandwich\, IL\, 60548\, United States
CATEGORIES:Health and Wellness
END:VEVENT
BEGIN:VEVENT
DTSTART;TZID=UTC:20260525T093000
DTEND;TZID=UTC:20260525T223000
DTSTAMP:20260423T115921
CREATED:20260203T145204Z
LAST-MODIFIED:20260406T175026Z
UID:10031399-1779701400-1779748200@fvoas.org
SUMMARY:Massage Therapy
DESCRIPTION:Phyllis Wallington LMT\, PhD will be offering massages at the center on the 2nd and 4th Monday of each month. Phyllis has over 10 years’ experience with soft tissue manipulation and is certified in lymph drainage\, oncology massage\, and soft tissue mobilization. \n$25 – 15-minute Massage \n$50 – 30-minute Massage
URL:https://fvoas.org/event/stretching-with-mini-3/2026-05-25/
LOCATION:Fox Valley Community Services (Sandwich)\, 1406 Suydam Rd\, Sandwich\, IL\, 60548\, United States
CATEGORIES:Health and Wellness
END:VEVENT
END:VCALENDAR