BEGIN:VCALENDAR
VERSION:2.0
PRODID:-//Fox Valley Community Services - ECPv6.15.20//NONSGML v1.0//EN
CALSCALE:GREGORIAN
METHOD:PUBLISH
X-WR-CALNAME:Fox Valley Community Services
X-ORIGINAL-URL:https://fvoas.org
X-WR-CALDESC:Events for Fox Valley Community Services
REFRESH-INTERVAL;VALUE=DURATION:PT1H
X-Robots-Tag:noindex
X-PUBLISHED-TTL:PT1H
BEGIN:VTIMEZONE
TZID:UTC
BEGIN:STANDARD
TZOFFSETFROM:+0000
TZOFFSETTO:+0000
TZNAME:UTC
DTSTART:20250101T000000
END:STANDARD
END:VTIMEZONE
BEGIN:VEVENT
DTSTART;TZID=UTC:20260617T083000
DTEND;TZID=UTC:20260617T093000
DTSTAMP:20260424T162606
CREATED:20230614T192927Z
LAST-MODIFIED:20251201T190059Z
UID:10002016-1781685000-1781688600@fvoas.org
SUMMARY:Group Fitness
DESCRIPTION:Members Free / Non-members $3 fee
URL:https://fvoas.org/event/group-fitness/2026-06-17/
LOCATION:Fox Valley Community Services (Sandwich)\, 1406 Suydam Rd\, Sandwich\, IL\, 60548\, United States
CATEGORIES:Health and Wellness
END:VEVENT
BEGIN:VEVENT
DTSTART;TZID=UTC:20260617T093000
DTEND;TZID=UTC:20260617T103000
DTSTAMP:20260424T162606
CREATED:20230614T192123Z
LAST-MODIFIED:20251201T190112Z
UID:10000964-1781688600-1781692200@fvoas.org
SUMMARY:Chair Exercise
DESCRIPTION:
URL:https://fvoas.org/event/chair-exercise/2026-06-17/
LOCATION:Fox Valley Community Services (Sandwich)\, 1406 Suydam Rd\, Sandwich\, IL\, 60548\, United States
CATEGORIES:Health and Wellness
END:VEVENT
BEGIN:VEVENT
DTSTART;TZID=UTC:20260617T103000
DTEND;TZID=UTC:20260617T113000
DTSTAMP:20260424T162606
CREATED:20240730T183938Z
LAST-MODIFIED:20251201T190140Z
UID:10018586-1781692200-1781695800@fvoas.org
SUMMARY:Chair Volleyball 2
DESCRIPTION:
URL:https://fvoas.org/event/chair-volleyball-2/2026-06-17/
LOCATION:Fox Valley Community Services (Sandwich)\, 1406 Suydam Rd\, Sandwich\, IL\, 60548\, United States
CATEGORIES:Health and Wellness
END:VEVENT
BEGIN:VEVENT
DTSTART;TZID=UTC:20260618T090000
DTEND;TZID=UTC:20260618T100000
DTSTAMP:20260424T162606
CREATED:20240531T163353Z
LAST-MODIFIED:20260203T143024Z
UID:10014678-1781773200-1781776800@fvoas.org
SUMMARY:Walkers Group
DESCRIPTION:Seasonal Walkers Group. Meet at the center and head over to the Sandwich Fair Grounds.
URL:https://fvoas.org/event/walkers-group/2026-06-18/
LOCATION:Fox Valley Community Services (Sandwich)\, 1406 Suydam Rd\, Sandwich\, IL\, 60548\, United States
CATEGORIES:Health and Wellness
END:VEVENT
BEGIN:VEVENT
DTSTART;TZID=UTC:20260618T130000
DTEND;TZID=UTC:20260618T140000
DTSTAMP:20260424T162606
CREATED:20230614T171725Z
LAST-MODIFIED:20230614T171725Z
UID:10000037-1781787600-1781791200@fvoas.org
SUMMARY:Alzheimer's Support Group
DESCRIPTION:
URL:https://fvoas.org/event/alzheimers-support-group/2026-06-18/
LOCATION:Fox Valley Community Services (Sandwich)\, 1406 Suydam Rd\, Sandwich\, IL\, 60548\, United States
CATEGORIES:Health and Wellness
END:VEVENT
BEGIN:VEVENT
DTSTART;TZID=UTC:20260619T103000
DTEND;TZID=UTC:20260619T111500
DTSTAMP:20260424T162606
CREATED:20230614T172136Z
LAST-MODIFIED:20260406T175746Z
UID:10010468-1781865000-1781867700@fvoas.org
SUMMARY:Bingocize
DESCRIPTION:
URL:https://fvoas.org/event/bingocize/2026-06-19/
LOCATION:Fox Valley Community Services (Sandwich)\, 1406 Suydam Rd\, Sandwich\, IL\, 60548\, United States
CATEGORIES:Health and Wellness
END:VEVENT
BEGIN:VEVENT
DTSTART;TZID=UTC:20260619T123000
DTEND;TZID=UTC:20260619T133000
DTSTAMP:20260424T162606
CREATED:20240531T171138Z
LAST-MODIFIED:20251230T162742Z
UID:10016962-1781872200-1781875800@fvoas.org
SUMMARY:Chair Volleyball
DESCRIPTION:
URL:https://fvoas.org/event/chair-volleyball/2026-06-19/
LOCATION:Fox Valley Community Services (Sandwich)\, 1406 Suydam Rd\, Sandwich\, IL\, 60548\, United States
CATEGORIES:Health and Wellness
END:VEVENT
BEGIN:VEVENT
DTSTART;TZID=UTC:20260622T083000
DTEND;TZID=UTC:20260622T093000
DTSTAMP:20260424T162606
CREATED:20230614T192927Z
LAST-MODIFIED:20251201T190059Z
UID:10002017-1782117000-1782120600@fvoas.org
SUMMARY:Group Fitness
DESCRIPTION:Members Free / Non-members $3 fee
URL:https://fvoas.org/event/group-fitness/2026-06-22/
LOCATION:Fox Valley Community Services (Sandwich)\, 1406 Suydam Rd\, Sandwich\, IL\, 60548\, United States
CATEGORIES:Health and Wellness
END:VEVENT
BEGIN:VEVENT
DTSTART;TZID=UTC:20260622T093000
DTEND;TZID=UTC:20260622T103000
DTSTAMP:20260424T162606
CREATED:20230614T192123Z
LAST-MODIFIED:20251201T190112Z
UID:10000965-1782120600-1782124200@fvoas.org
SUMMARY:Chair Exercise
DESCRIPTION:
URL:https://fvoas.org/event/chair-exercise/2026-06-22/
LOCATION:Fox Valley Community Services (Sandwich)\, 1406 Suydam Rd\, Sandwich\, IL\, 60548\, United States
CATEGORIES:Health and Wellness
END:VEVENT
BEGIN:VEVENT
DTSTART;TZID=UTC:20260622T093000
DTEND;TZID=UTC:20260622T223000
DTSTAMP:20260424T162606
CREATED:20260203T145204Z
LAST-MODIFIED:20260406T175026Z
UID:10031401-1782120600-1782167400@fvoas.org
SUMMARY:Massage Therapy
DESCRIPTION:Phyllis Wallington LMT\, PhD will be offering massages at the center on the 2nd and 4th Monday of each month. Phyllis has over 10 years’ experience with soft tissue manipulation and is certified in lymph drainage\, oncology massage\, and soft tissue mobilization. \n$25 – 15-minute Massage \n$50 – 30-minute Massage
URL:https://fvoas.org/event/stretching-with-mini-3/2026-06-22/
LOCATION:Fox Valley Community Services (Sandwich)\, 1406 Suydam Rd\, Sandwich\, IL\, 60548\, United States
CATEGORIES:Health and Wellness
END:VEVENT
BEGIN:VEVENT
DTSTART;TZID=UTC:20260623T090000
DTEND;TZID=UTC:20260623T100000
DTSTAMP:20260424T162606
CREATED:20240531T163353Z
LAST-MODIFIED:20260203T143024Z
UID:10014679-1782205200-1782208800@fvoas.org
SUMMARY:Walkers Group
DESCRIPTION:Seasonal Walkers Group. Meet at the center and head over to the Sandwich Fair Grounds.
URL:https://fvoas.org/event/walkers-group/2026-06-23/
LOCATION:Fox Valley Community Services (Sandwich)\, 1406 Suydam Rd\, Sandwich\, IL\, 60548\, United States
CATEGORIES:Health and Wellness
END:VEVENT
BEGIN:VEVENT
DTSTART;TZID=UTC:20260623T103000
DTEND;TZID=UTC:20260623T111500
DTSTAMP:20260424T162606
CREATED:20230614T172136Z
LAST-MODIFIED:20260406T175746Z
UID:10010469-1782210600-1782213300@fvoas.org
SUMMARY:Bingocize
DESCRIPTION:
URL:https://fvoas.org/event/bingocize/2026-06-23/
LOCATION:Fox Valley Community Services (Sandwich)\, 1406 Suydam Rd\, Sandwich\, IL\, 60548\, United States
CATEGORIES:Health and Wellness
END:VEVENT
BEGIN:VEVENT
DTSTART;TZID=UTC:20260623T160000
DTEND;TZID=UTC:20260623T170000
DTSTAMP:20260424T162606
CREATED:20251230T164227Z
LAST-MODIFIED:20260406T175205Z
UID:10030150-1782230400-1782234000@fvoas.org
SUMMARY:Dance Fit
DESCRIPTION:
URL:https://fvoas.org/event/dance-fit/2026-06-23/
LOCATION:Fox Valley Community Services (Sandwich)\, 1406 Suydam Rd\, Sandwich\, IL\, 60548\, United States
CATEGORIES:Health and Wellness
END:VEVENT
BEGIN:VEVENT
DTSTART;TZID=UTC:20260624T083000
DTEND;TZID=UTC:20260624T093000
DTSTAMP:20260424T162606
CREATED:20230614T192927Z
LAST-MODIFIED:20251201T190059Z
UID:10002018-1782289800-1782293400@fvoas.org
SUMMARY:Group Fitness
DESCRIPTION:Members Free / Non-members $3 fee
URL:https://fvoas.org/event/group-fitness/2026-06-24/
LOCATION:Fox Valley Community Services (Sandwich)\, 1406 Suydam Rd\, Sandwich\, IL\, 60548\, United States
CATEGORIES:Health and Wellness
END:VEVENT
BEGIN:VEVENT
DTSTART;TZID=UTC:20260624T093000
DTEND;TZID=UTC:20260624T103000
DTSTAMP:20260424T162606
CREATED:20230614T192123Z
LAST-MODIFIED:20251201T190112Z
UID:10000966-1782293400-1782297000@fvoas.org
SUMMARY:Chair Exercise
DESCRIPTION:
URL:https://fvoas.org/event/chair-exercise/2026-06-24/
LOCATION:Fox Valley Community Services (Sandwich)\, 1406 Suydam Rd\, Sandwich\, IL\, 60548\, United States
CATEGORIES:Health and Wellness
END:VEVENT
BEGIN:VEVENT
DTSTART;TZID=UTC:20260624T100000
DTEND;TZID=UTC:20260624T140000
DTSTAMP:20260424T162606
CREATED:20251029T181708Z
LAST-MODIFIED:20251201T190400Z
UID:10027662-1782295200-1782309600@fvoas.org
SUMMARY:$15 Haircuts
DESCRIPTION:
URL:https://fvoas.org/event/15-haircuts-2/2026-06-24/
LOCATION:Fox Valley Community Services (Sandwich)\, 1406 Suydam Rd\, Sandwich\, IL\, 60548\, United States
CATEGORIES:Health and Wellness
END:VEVENT
BEGIN:VEVENT
DTSTART;TZID=UTC:20260624T103000
DTEND;TZID=UTC:20260624T113000
DTSTAMP:20260424T162606
CREATED:20240730T183938Z
LAST-MODIFIED:20251201T190140Z
UID:10018587-1782297000-1782300600@fvoas.org
SUMMARY:Chair Volleyball 2
DESCRIPTION:
URL:https://fvoas.org/event/chair-volleyball-2/2026-06-24/
LOCATION:Fox Valley Community Services (Sandwich)\, 1406 Suydam Rd\, Sandwich\, IL\, 60548\, United States
CATEGORIES:Health and Wellness
END:VEVENT
BEGIN:VEVENT
DTSTART;TZID=UTC:20260625T090000
DTEND;TZID=UTC:20260625T100000
DTSTAMP:20260424T162606
CREATED:20240531T163353Z
LAST-MODIFIED:20260203T143024Z
UID:10014680-1782378000-1782381600@fvoas.org
SUMMARY:Walkers Group
DESCRIPTION:Seasonal Walkers Group. Meet at the center and head over to the Sandwich Fair Grounds.
URL:https://fvoas.org/event/walkers-group/2026-06-25/
LOCATION:Fox Valley Community Services (Sandwich)\, 1406 Suydam Rd\, Sandwich\, IL\, 60548\, United States
CATEGORIES:Health and Wellness
END:VEVENT
BEGIN:VEVENT
DTSTART;TZID=UTC:20260626T103000
DTEND;TZID=UTC:20260626T111500
DTSTAMP:20260424T162606
CREATED:20230614T172136Z
LAST-MODIFIED:20260406T175746Z
UID:10010470-1782469800-1782472500@fvoas.org
SUMMARY:Bingocize
DESCRIPTION:
URL:https://fvoas.org/event/bingocize/2026-06-26/
LOCATION:Fox Valley Community Services (Sandwich)\, 1406 Suydam Rd\, Sandwich\, IL\, 60548\, United States
CATEGORIES:Health and Wellness
END:VEVENT
BEGIN:VEVENT
DTSTART;TZID=UTC:20260626T123000
DTEND;TZID=UTC:20260626T133000
DTSTAMP:20260424T162606
CREATED:20240531T171138Z
LAST-MODIFIED:20251230T162742Z
UID:10016963-1782477000-1782480600@fvoas.org
SUMMARY:Chair Volleyball
DESCRIPTION:
URL:https://fvoas.org/event/chair-volleyball/2026-06-26/
LOCATION:Fox Valley Community Services (Sandwich)\, 1406 Suydam Rd\, Sandwich\, IL\, 60548\, United States
CATEGORIES:Health and Wellness
END:VEVENT
BEGIN:VEVENT
DTSTART;TZID=UTC:20260629T083000
DTEND;TZID=UTC:20260629T093000
DTSTAMP:20260424T162606
CREATED:20230614T192927Z
LAST-MODIFIED:20251201T190059Z
UID:10002019-1782721800-1782725400@fvoas.org
SUMMARY:Group Fitness
DESCRIPTION:Members Free / Non-members $3 fee
URL:https://fvoas.org/event/group-fitness/2026-06-29/
LOCATION:Fox Valley Community Services (Sandwich)\, 1406 Suydam Rd\, Sandwich\, IL\, 60548\, United States
CATEGORIES:Health and Wellness
END:VEVENT
BEGIN:VEVENT
DTSTART;TZID=UTC:20260629T093000
DTEND;TZID=UTC:20260629T103000
DTSTAMP:20260424T162606
CREATED:20230614T192123Z
LAST-MODIFIED:20251201T190112Z
UID:10000967-1782725400-1782729000@fvoas.org
SUMMARY:Chair Exercise
DESCRIPTION:
URL:https://fvoas.org/event/chair-exercise/2026-06-29/
LOCATION:Fox Valley Community Services (Sandwich)\, 1406 Suydam Rd\, Sandwich\, IL\, 60548\, United States
CATEGORIES:Health and Wellness
END:VEVENT
BEGIN:VEVENT
DTSTART;TZID=UTC:20260630T090000
DTEND;TZID=UTC:20260630T100000
DTSTAMP:20260424T162606
CREATED:20240531T163353Z
LAST-MODIFIED:20260203T143024Z
UID:10014681-1782810000-1782813600@fvoas.org
SUMMARY:Walkers Group
DESCRIPTION:Seasonal Walkers Group. Meet at the center and head over to the Sandwich Fair Grounds.
URL:https://fvoas.org/event/walkers-group/2026-06-30/
LOCATION:Fox Valley Community Services (Sandwich)\, 1406 Suydam Rd\, Sandwich\, IL\, 60548\, United States
CATEGORIES:Health and Wellness
END:VEVENT
BEGIN:VEVENT
DTSTART;TZID=UTC:20260630T103000
DTEND;TZID=UTC:20260630T111500
DTSTAMP:20260424T162606
CREATED:20230614T172136Z
LAST-MODIFIED:20260406T175746Z
UID:10010471-1782815400-1782818100@fvoas.org
SUMMARY:Bingocize
DESCRIPTION:
URL:https://fvoas.org/event/bingocize/2026-06-30/
LOCATION:Fox Valley Community Services (Sandwich)\, 1406 Suydam Rd\, Sandwich\, IL\, 60548\, United States
CATEGORIES:Health and Wellness
END:VEVENT
BEGIN:VEVENT
DTSTART;TZID=UTC:20260630T160000
DTEND;TZID=UTC:20260630T170000
DTSTAMP:20260424T162606
CREATED:20251230T164227Z
LAST-MODIFIED:20260406T175205Z
UID:10030151-1782835200-1782838800@fvoas.org
SUMMARY:Dance Fit
DESCRIPTION:
URL:https://fvoas.org/event/dance-fit/2026-06-30/
LOCATION:Fox Valley Community Services (Sandwich)\, 1406 Suydam Rd\, Sandwich\, IL\, 60548\, United States
CATEGORIES:Health and Wellness
END:VEVENT
BEGIN:VEVENT
DTSTART;TZID=UTC:20260701T083000
DTEND;TZID=UTC:20260701T093000
DTSTAMP:20260424T162606
CREATED:20230614T192927Z
LAST-MODIFIED:20251201T190059Z
UID:10002020-1782894600-1782898200@fvoas.org
SUMMARY:Group Fitness
DESCRIPTION:Members Free / Non-members $3 fee
URL:https://fvoas.org/event/group-fitness/2026-07-01/
LOCATION:Fox Valley Community Services (Sandwich)\, 1406 Suydam Rd\, Sandwich\, IL\, 60548\, United States
CATEGORIES:Health and Wellness
END:VEVENT
BEGIN:VEVENT
DTSTART;TZID=UTC:20260701T093000
DTEND;TZID=UTC:20260701T103000
DTSTAMP:20260424T162606
CREATED:20230614T192123Z
LAST-MODIFIED:20251201T190112Z
UID:10000968-1782898200-1782901800@fvoas.org
SUMMARY:Chair Exercise
DESCRIPTION:
URL:https://fvoas.org/event/chair-exercise/2026-07-01/
LOCATION:Fox Valley Community Services (Sandwich)\, 1406 Suydam Rd\, Sandwich\, IL\, 60548\, United States
CATEGORIES:Health and Wellness
END:VEVENT
BEGIN:VEVENT
DTSTART;TZID=UTC:20260701T103000
DTEND;TZID=UTC:20260701T113000
DTSTAMP:20260424T162606
CREATED:20240730T183938Z
LAST-MODIFIED:20251201T190140Z
UID:10018588-1782901800-1782905400@fvoas.org
SUMMARY:Chair Volleyball 2
DESCRIPTION:
URL:https://fvoas.org/event/chair-volleyball-2/2026-07-01/
LOCATION:Fox Valley Community Services (Sandwich)\, 1406 Suydam Rd\, Sandwich\, IL\, 60548\, United States
CATEGORIES:Health and Wellness
END:VEVENT
BEGIN:VEVENT
DTSTART;TZID=UTC:20260702T090000
DTEND;TZID=UTC:20260702T100000
DTSTAMP:20260424T162606
CREATED:20240531T163353Z
LAST-MODIFIED:20260203T143024Z
UID:10014682-1782982800-1782986400@fvoas.org
SUMMARY:Walkers Group
DESCRIPTION:Seasonal Walkers Group. Meet at the center and head over to the Sandwich Fair Grounds.
URL:https://fvoas.org/event/walkers-group/2026-07-02/
LOCATION:Fox Valley Community Services (Sandwich)\, 1406 Suydam Rd\, Sandwich\, IL\, 60548\, United States
CATEGORIES:Health and Wellness
END:VEVENT
BEGIN:VEVENT
DTSTART;TZID=UTC:20260703T103000
DTEND;TZID=UTC:20260703T111500
DTSTAMP:20260424T162606
CREATED:20230614T172136Z
LAST-MODIFIED:20260406T175746Z
UID:10010472-1783074600-1783077300@fvoas.org
SUMMARY:Bingocize
DESCRIPTION:
URL:https://fvoas.org/event/bingocize/2026-07-03/
LOCATION:Fox Valley Community Services (Sandwich)\, 1406 Suydam Rd\, Sandwich\, IL\, 60548\, United States
CATEGORIES:Health and Wellness
END:VEVENT
END:VCALENDAR