BEGIN:VCALENDAR
VERSION:2.0
PRODID:-//Fox Valley Community Services - ECPv6.15.20//NONSGML v1.0//EN
CALSCALE:GREGORIAN
METHOD:PUBLISH
X-WR-CALNAME:Fox Valley Community Services
X-ORIGINAL-URL:https://fvoas.org
X-WR-CALDESC:Events for Fox Valley Community Services
REFRESH-INTERVAL;VALUE=DURATION:PT1H
X-Robots-Tag:noindex
X-PUBLISHED-TTL:PT1H
BEGIN:VTIMEZONE
TZID:UTC
BEGIN:STANDARD
TZOFFSETFROM:+0000
TZOFFSETTO:+0000
TZNAME:UTC
DTSTART:20250101T000000
END:STANDARD
END:VTIMEZONE
BEGIN:VEVENT
DTSTART;VALUE=DATE:20260507
DTEND;VALUE=DATE:20260508
DTSTAMP:20260424T181658
CREATED:20240418T142524Z
LAST-MODIFIED:20260406T180159Z
UID:10013637-1778112000-1778198399@fvoas.org
SUMMARY:Give DeKalb County 2026
DESCRIPTION:Join the Give DeKalb County 2026 county-wide fundraiser on Thursday May 7th\, supporting the vibrant independent living for seniors fostered by Fox Valley Community Services. At our center\, we aid seniors in their pursuit of continued independence and vibrancy. Participate and change lives with us. \nLearn more at: \nhttps://www.givedekalbcounty.org/organizations/fox-valley-community-services.
URL:https://fvoas.org/event/give-dekalb-county-2026/
LOCATION:Fox Valley Community Services (Sandwich)\, 1406 Suydam Rd\, Sandwich\, IL\, 60548\, United States
CATEGORIES:Rec Games
ATTACH;FMTTYPE=image/jpeg:https://fvoas.org/wp-content/uploads/2024/04/SquarePost1.jpg
END:VEVENT
BEGIN:VEVENT
DTSTART;TZID=UTC:20260507T100000
DTEND;TZID=UTC:20260507T110000
DTSTAMP:20260424T181658
CREATED:20230614T194812Z
LAST-MODIFIED:20260407T191055Z
UID:10003872-1778148000-1778151600@fvoas.org
SUMMARY:Bingo
DESCRIPTION:Requires $2.00 fee.
URL:https://fvoas.org/event/bingo-2-2/2026-05-07/
LOCATION:Fox Valley Community Services (Sandwich)\, 1406 Suydam Rd\, Sandwich\, IL\, 60548\, United States
CATEGORIES:Rec Games
END:VEVENT
BEGIN:VEVENT
DTSTART;TZID=UTC:20260507T123000
DTEND;TZID=UTC:20260507T133000
DTSTAMP:20260424T181658
CREATED:20230614T195118Z
LAST-MODIFIED:20251029T175128Z
UID:10004812-1778157000-1778160600@fvoas.org
SUMMARY:Cards
DESCRIPTION:
URL:https://fvoas.org/event/cards-2/2026-05-07/
LOCATION:Fox Valley Community Services (Sandwich)\, 1406 Suydam Rd\, Sandwich\, IL\, 60548\, United States
CATEGORIES:Rec Games
END:VEVENT
END:VCALENDAR