BEGIN:VCALENDAR
VERSION:2.0
PRODID:-//Fox Valley Community Services - ECPv6.15.20//NONSGML v1.0//EN
CALSCALE:GREGORIAN
METHOD:PUBLISH
X-ORIGINAL-URL:https://fvoas.org
X-WR-CALDESC:Events for Fox Valley Community Services
REFRESH-INTERVAL;VALUE=DURATION:PT1H
X-Robots-Tag:noindex
X-PUBLISHED-TTL:PT1H
BEGIN:VTIMEZONE
TZID:UTC
BEGIN:STANDARD
TZOFFSETFROM:+0000
TZOFFSETTO:+0000
TZNAME:UTC
DTSTART:20250101T000000
END:STANDARD
END:VTIMEZONE
BEGIN:VEVENT
DTSTART;TZID=UTC:20260519T121500
DTEND;TZID=UTC:20260519T131500
DTSTAMP:20260424T134621
CREATED:20260406T181016Z
LAST-MODIFIED:20260406T181143Z
UID:10031676-1779192900-1779196500@fvoas.org
SUMMARY:Dime Jingle
DESCRIPTION:Join us every other Tuesday for Dime Jingle.
URL:https://fvoas.org/event/dime-jingle-2-2-2-2-2/2026-05-19/
LOCATION:Fox Valley Community Services (Sandwich)\, 1406 Suydam Rd\, Sandwich\, IL\, 60548\, United States
CATEGORIES:Rec Games
END:VEVENT
END:VCALENDAR