BEGIN:VCALENDAR
VERSION:2.0
PRODID:-//Fox Valley Community Services - ECPv6.15.20//NONSGML v1.0//EN
CALSCALE:GREGORIAN
METHOD:PUBLISH
X-ORIGINAL-URL:https://fvoas.org
X-WR-CALDESC:Events for Fox Valley Community Services
REFRESH-INTERVAL;VALUE=DURATION:PT1H
X-Robots-Tag:noindex
X-PUBLISHED-TTL:PT1H
BEGIN:VTIMEZONE
TZID:UTC
BEGIN:STANDARD
TZOFFSETFROM:+0000
TZOFFSETTO:+0000
TZNAME:UTC
DTSTART:20250101T000000
END:STANDARD
END:VTIMEZONE
BEGIN:VEVENT
DTSTART;TZID=UTC:20260604T100000
DTEND;TZID=UTC:20260604T110000
DTSTAMP:20260424T134530
CREATED:20230614T194812Z
LAST-MODIFIED:20260407T191055Z
UID:10003876-1780567200-1780570800@fvoas.org
SUMMARY:Bingo
DESCRIPTION:Requires $2.00 fee.
URL:https://fvoas.org/event/bingo-2-2/2026-06-04/
LOCATION:Fox Valley Community Services (Sandwich)\, 1406 Suydam Rd\, Sandwich\, IL\, 60548\, United States
CATEGORIES:Rec Games
END:VEVENT
BEGIN:VEVENT
DTSTART;TZID=UTC:20260604T123000
DTEND;TZID=UTC:20260604T133000
DTSTAMP:20260424T134530
CREATED:20230614T195118Z
LAST-MODIFIED:20251029T175128Z
UID:10004820-1780576200-1780579800@fvoas.org
SUMMARY:Cards
DESCRIPTION:
URL:https://fvoas.org/event/cards-2/2026-06-04/
LOCATION:Fox Valley Community Services (Sandwich)\, 1406 Suydam Rd\, Sandwich\, IL\, 60548\, United States
CATEGORIES:Rec Games
END:VEVENT
BEGIN:VEVENT
DTSTART;TZID=UTC:20260604T173000
DTEND;TZID=UTC:20260604T200000
DTSTAMP:20260424T134530
CREATED:20231127T160744Z
LAST-MODIFIED:20260408T160232Z
UID:10011824-1780594200-1780603200@fvoas.org
SUMMARY:Draw Down
DESCRIPTION:June 4th\, 2026 \nDoors open at 5:30 PM\, Drawing will begin at 6:30 PM. \nONLY 250 TICKETS SOLD ($40 each). The ticket includes light appetizers. Don`t forget the $5 mystery pull. \nWINNERS \n12 – $50 \n1 – $100 \n1 – $300 \n1 – $1\,000
URL:https://fvoas.org/event/draw-down/
LOCATION:Fox Valley Community Services (Sandwich)\, 1406 Suydam Rd\, Sandwich\, IL\, 60548\, United States
CATEGORIES:Rec Games
END:VEVENT
END:VCALENDAR