BEGIN:VCALENDAR
VERSION:2.0
PRODID:-//Fox Valley Community Services - ECPv6.15.20//NONSGML v1.0//EN
CALSCALE:GREGORIAN
METHOD:PUBLISH
X-ORIGINAL-URL:https://fvoas.org
X-WR-CALDESC:Events for Fox Valley Community Services
REFRESH-INTERVAL;VALUE=DURATION:PT1H
X-Robots-Tag:noindex
X-PUBLISHED-TTL:PT1H
BEGIN:VTIMEZONE
TZID:UTC
BEGIN:STANDARD
TZOFFSETFROM:+0000
TZOFFSETTO:+0000
TZNAME:UTC
DTSTART:20250101T000000
END:STANDARD
END:VTIMEZONE
BEGIN:VEVENT
DTSTART;TZID=UTC:20260921T133000
DTEND;TZID=UTC:20260921T143000
DTSTAMP:20260425T165326
CREATED:20250428T195309Z
LAST-MODIFIED:20251029T184947Z
UID:10004417-1789997400-1790001000@fvoas.org
SUMMARY:Cards
DESCRIPTION:
URL:https://fvoas.org/event/cards/2026-09-21/
LOCATION:Fox Valley Community Services (Sandwich)\, 1406 Suydam Rd\, Sandwich\, IL\, 60548\, United States
CATEGORIES:Rec Games
END:VEVENT
BEGIN:VEVENT
DTSTART;TZID=UTC:20260923T123000
DTEND;TZID=UTC:20260923T123000
DTSTAMP:20260425T165326
CREATED:20251029T174713Z
LAST-MODIFIED:20251230T164956Z
UID:10026551-1790166600-1790166600@fvoas.org
SUMMARY:Bunco
DESCRIPTION:Requires $2.00 fee.
URL:https://fvoas.org/event/bunko-2-2/2026-09-23/
LOCATION:Fox Valley Community Services (Sandwich)\, 1406 Suydam Rd\, Sandwich\, IL\, 60548\, United States
CATEGORIES:Rec Games
END:VEVENT
BEGIN:VEVENT
DTSTART;TZID=UTC:20260924T100000
DTEND;TZID=UTC:20260924T110000
DTSTAMP:20260425T165326
CREATED:20230614T194812Z
LAST-MODIFIED:20260407T191055Z
UID:10003892-1790244000-1790247600@fvoas.org
SUMMARY:Bingo
DESCRIPTION:Requires $2.00 fee.
URL:https://fvoas.org/event/bingo-2-2/2026-09-24/
LOCATION:Fox Valley Community Services (Sandwich)\, 1406 Suydam Rd\, Sandwich\, IL\, 60548\, United States
CATEGORIES:Rec Games
END:VEVENT
BEGIN:VEVENT
DTSTART;TZID=UTC:20260924T123000
DTEND;TZID=UTC:20260924T133000
DTSTAMP:20260425T165326
CREATED:20230614T195118Z
LAST-MODIFIED:20251029T175128Z
UID:10004852-1790253000-1790256600@fvoas.org
SUMMARY:Cards
DESCRIPTION:
URL:https://fvoas.org/event/cards-2/2026-09-24/
LOCATION:Fox Valley Community Services (Sandwich)\, 1406 Suydam Rd\, Sandwich\, IL\, 60548\, United States
CATEGORIES:Rec Games
END:VEVENT
BEGIN:VEVENT
DTSTART;TZID=UTC:20260925T133000
DTEND;TZID=UTC:20260925T143000
DTSTAMP:20260425T165326
CREATED:20240531T165235Z
LAST-MODIFIED:20251230T162640Z
UID:10024296-1790343000-1790346600@fvoas.org
SUMMARY:Cards
DESCRIPTION:
URL:https://fvoas.org/event/cards-3/2026-09-25/
LOCATION:Fox Valley Community Services (Sandwich)\, 1406 Suydam Rd\, Sandwich\, IL\, 60548\, United States
CATEGORIES:Rec Games
END:VEVENT
BEGIN:VEVENT
DTSTART;TZID=UTC:20260928T103000
DTEND;TZID=UTC:20260928T113000
DTSTAMP:20260425T165326
CREATED:20250725T161856Z
LAST-MODIFIED:20250725T161856Z
UID:10025617-1790591400-1790595000@fvoas.org
SUMMARY:Wii Bowling
DESCRIPTION:
URL:https://fvoas.org/event/wii-bowling-2-2/2026-09-28/
LOCATION:Fox Valley Community Services (Sandwich)\, 1406 Suydam Rd\, Sandwich\, IL\, 60548\, United States
CATEGORIES:Rec Games
END:VEVENT
BEGIN:VEVENT
DTSTART;TZID=UTC:20260928T123000
DTEND;TZID=UTC:20260928T133000
DTSTAMP:20260425T165326
CREATED:20230614T194352Z
LAST-MODIFIED:20251201T192034Z
UID:10003630-1790598600-1790602200@fvoas.org
SUMMARY:Bingo
DESCRIPTION:Requires a $2.00 fee
URL:https://fvoas.org/event/bingo/2026-09-28/
LOCATION:Fox Valley Community Services (Sandwich)\, 1406 Suydam Rd\, Sandwich\, IL\, 60548\, United States
CATEGORIES:Rec Games
END:VEVENT
BEGIN:VEVENT
DTSTART;TZID=UTC:20260928T133000
DTEND;TZID=UTC:20260928T143000
DTSTAMP:20260425T165326
CREATED:20250428T195309Z
LAST-MODIFIED:20251029T184947Z
UID:10004418-1790602200-1790605800@fvoas.org
SUMMARY:Cards
DESCRIPTION:
URL:https://fvoas.org/event/cards/2026-09-28/
LOCATION:Fox Valley Community Services (Sandwich)\, 1406 Suydam Rd\, Sandwich\, IL\, 60548\, United States
CATEGORIES:Rec Games
END:VEVENT
BEGIN:VEVENT
DTSTART;TZID=UTC:20260929T123000
DTEND;TZID=UTC:20260929T133000
DTSTAMP:20260425T165326
CREATED:20250630T165858Z
LAST-MODIFIED:20250630T183105Z
UID:10025383-1790685000-1790688600@fvoas.org
SUMMARY:Mexican Train
DESCRIPTION:Dominos game!
URL:https://fvoas.org/event/mexican-train-2-3/2026-09-29/
LOCATION:Fox Valley Community Services (Sandwich)\, 1406 Suydam Rd\, Sandwich\, IL\, 60548\, United States
CATEGORIES:Rec Games
END:VEVENT
BEGIN:VEVENT
DTSTART;TZID=UTC:20260930T123000
DTEND;TZID=UTC:20260930T123000
DTSTAMP:20260425T165326
CREATED:20251029T174713Z
LAST-MODIFIED:20251230T164956Z
UID:10026552-1790771400-1790771400@fvoas.org
SUMMARY:Bunco
DESCRIPTION:Requires $2.00 fee.
URL:https://fvoas.org/event/bunko-2-2/2026-09-30/
LOCATION:Fox Valley Community Services (Sandwich)\, 1406 Suydam Rd\, Sandwich\, IL\, 60548\, United States
CATEGORIES:Rec Games
END:VEVENT
BEGIN:VEVENT
DTSTART;TZID=UTC:20260930T133000
DTEND;TZID=UTC:20260930T143000
DTSTAMP:20260425T165326
CREATED:20260406T181808Z
LAST-MODIFIED:20260407T191205Z
UID:10032223-1790775000-1790778600@fvoas.org
SUMMARY:Swoop
DESCRIPTION:Card Game
URL:https://fvoas.org/event/swoop/2026-09-30/
LOCATION:Fox Valley Community Services (Sandwich)\, 1406 Suydam Rd\, Sandwich\, IL\, 60548\, United States
CATEGORIES:Rec Games
END:VEVENT
BEGIN:VEVENT
DTSTART;TZID=UTC:20261001T100000
DTEND;TZID=UTC:20261001T110000
DTSTAMP:20260425T165326
CREATED:20230614T194812Z
LAST-MODIFIED:20260407T191055Z
UID:10003893-1790848800-1790852400@fvoas.org
SUMMARY:Bingo
DESCRIPTION:Requires $2.00 fee.
URL:https://fvoas.org/event/bingo-2-2/2026-10-01/
LOCATION:Fox Valley Community Services (Sandwich)\, 1406 Suydam Rd\, Sandwich\, IL\, 60548\, United States
CATEGORIES:Rec Games
END:VEVENT
BEGIN:VEVENT
DTSTART;TZID=UTC:20261001T123000
DTEND;TZID=UTC:20261001T133000
DTSTAMP:20260425T165326
CREATED:20230614T195118Z
LAST-MODIFIED:20251029T175128Z
UID:10004854-1790857800-1790861400@fvoas.org
SUMMARY:Cards
DESCRIPTION:
URL:https://fvoas.org/event/cards-2/2026-10-01/
LOCATION:Fox Valley Community Services (Sandwich)\, 1406 Suydam Rd\, Sandwich\, IL\, 60548\, United States
CATEGORIES:Rec Games
END:VEVENT
BEGIN:VEVENT
DTSTART;TZID=UTC:20261002T133000
DTEND;TZID=UTC:20261002T143000
DTSTAMP:20260425T165326
CREATED:20240531T165235Z
LAST-MODIFIED:20251230T162640Z
UID:10024297-1790947800-1790951400@fvoas.org
SUMMARY:Cards
DESCRIPTION:
URL:https://fvoas.org/event/cards-3/2026-10-02/
LOCATION:Fox Valley Community Services (Sandwich)\, 1406 Suydam Rd\, Sandwich\, IL\, 60548\, United States
CATEGORIES:Rec Games
END:VEVENT
BEGIN:VEVENT
DTSTART;TZID=UTC:20261005T103000
DTEND;TZID=UTC:20261005T113000
DTSTAMP:20260425T165326
CREATED:20250725T161856Z
LAST-MODIFIED:20250725T161856Z
UID:10025618-1791196200-1791199800@fvoas.org
SUMMARY:Wii Bowling
DESCRIPTION:
URL:https://fvoas.org/event/wii-bowling-2-2/2026-10-05/
LOCATION:Fox Valley Community Services (Sandwich)\, 1406 Suydam Rd\, Sandwich\, IL\, 60548\, United States
CATEGORIES:Rec Games
END:VEVENT
BEGIN:VEVENT
DTSTART;TZID=UTC:20261005T123000
DTEND;TZID=UTC:20261005T133000
DTSTAMP:20260425T165326
CREATED:20230614T194352Z
LAST-MODIFIED:20251201T192034Z
UID:10003631-1791203400-1791207000@fvoas.org
SUMMARY:Bingo
DESCRIPTION:Requires a $2.00 fee
URL:https://fvoas.org/event/bingo/2026-10-05/
LOCATION:Fox Valley Community Services (Sandwich)\, 1406 Suydam Rd\, Sandwich\, IL\, 60548\, United States
CATEGORIES:Rec Games
END:VEVENT
BEGIN:VEVENT
DTSTART;TZID=UTC:20261005T133000
DTEND;TZID=UTC:20261005T143000
DTSTAMP:20260425T165326
CREATED:20250428T195309Z
LAST-MODIFIED:20251029T184947Z
UID:10004419-1791207000-1791210600@fvoas.org
SUMMARY:Cards
DESCRIPTION:
URL:https://fvoas.org/event/cards/2026-10-05/
LOCATION:Fox Valley Community Services (Sandwich)\, 1406 Suydam Rd\, Sandwich\, IL\, 60548\, United States
CATEGORIES:Rec Games
END:VEVENT
BEGIN:VEVENT
DTSTART;TZID=UTC:20261007T123000
DTEND;TZID=UTC:20261007T123000
DTSTAMP:20260425T165326
CREATED:20251029T174713Z
LAST-MODIFIED:20251230T164956Z
UID:10026553-1791376200-1791376200@fvoas.org
SUMMARY:Bunco
DESCRIPTION:Requires $2.00 fee.
URL:https://fvoas.org/event/bunko-2-2/2026-10-07/
LOCATION:Fox Valley Community Services (Sandwich)\, 1406 Suydam Rd\, Sandwich\, IL\, 60548\, United States
CATEGORIES:Rec Games
END:VEVENT
BEGIN:VEVENT
DTSTART;TZID=UTC:20261008T100000
DTEND;TZID=UTC:20261008T110000
DTSTAMP:20260425T165326
CREATED:20230614T194812Z
LAST-MODIFIED:20260407T191055Z
UID:10003894-1791453600-1791457200@fvoas.org
SUMMARY:Bingo
DESCRIPTION:Requires $2.00 fee.
URL:https://fvoas.org/event/bingo-2-2/2026-10-08/
LOCATION:Fox Valley Community Services (Sandwich)\, 1406 Suydam Rd\, Sandwich\, IL\, 60548\, United States
CATEGORIES:Rec Games
END:VEVENT
BEGIN:VEVENT
DTSTART;TZID=UTC:20261008T123000
DTEND;TZID=UTC:20261008T133000
DTSTAMP:20260425T165326
CREATED:20230614T195118Z
LAST-MODIFIED:20251029T175128Z
UID:10004856-1791462600-1791466200@fvoas.org
SUMMARY:Cards
DESCRIPTION:
URL:https://fvoas.org/event/cards-2/2026-10-08/
LOCATION:Fox Valley Community Services (Sandwich)\, 1406 Suydam Rd\, Sandwich\, IL\, 60548\, United States
CATEGORIES:Rec Games
END:VEVENT
BEGIN:VEVENT
DTSTART;TZID=UTC:20261009T133000
DTEND;TZID=UTC:20261009T143000
DTSTAMP:20260425T165326
CREATED:20240531T165235Z
LAST-MODIFIED:20251230T162640Z
UID:10024298-1791552600-1791556200@fvoas.org
SUMMARY:Cards
DESCRIPTION:
URL:https://fvoas.org/event/cards-3/2026-10-09/
LOCATION:Fox Valley Community Services (Sandwich)\, 1406 Suydam Rd\, Sandwich\, IL\, 60548\, United States
CATEGORIES:Rec Games
END:VEVENT
BEGIN:VEVENT
DTSTART;TZID=UTC:20261012T103000
DTEND;TZID=UTC:20261012T113000
DTSTAMP:20260425T165326
CREATED:20250725T161856Z
LAST-MODIFIED:20250725T161856Z
UID:10025619-1791801000-1791804600@fvoas.org
SUMMARY:Wii Bowling
DESCRIPTION:
URL:https://fvoas.org/event/wii-bowling-2-2/2026-10-12/
LOCATION:Fox Valley Community Services (Sandwich)\, 1406 Suydam Rd\, Sandwich\, IL\, 60548\, United States
CATEGORIES:Rec Games
END:VEVENT
BEGIN:VEVENT
DTSTART;TZID=UTC:20261012T123000
DTEND;TZID=UTC:20261012T133000
DTSTAMP:20260425T165326
CREATED:20230614T194352Z
LAST-MODIFIED:20251201T192034Z
UID:10003632-1791808200-1791811800@fvoas.org
SUMMARY:Bingo
DESCRIPTION:Requires a $2.00 fee
URL:https://fvoas.org/event/bingo/2026-10-12/
LOCATION:Fox Valley Community Services (Sandwich)\, 1406 Suydam Rd\, Sandwich\, IL\, 60548\, United States
CATEGORIES:Rec Games
END:VEVENT
BEGIN:VEVENT
DTSTART;TZID=UTC:20261012T133000
DTEND;TZID=UTC:20261012T143000
DTSTAMP:20260425T165326
CREATED:20250428T195309Z
LAST-MODIFIED:20251029T184947Z
UID:10004420-1791811800-1791815400@fvoas.org
SUMMARY:Cards
DESCRIPTION:
URL:https://fvoas.org/event/cards/2026-10-12/
LOCATION:Fox Valley Community Services (Sandwich)\, 1406 Suydam Rd\, Sandwich\, IL\, 60548\, United States
CATEGORIES:Rec Games
END:VEVENT
BEGIN:VEVENT
DTSTART;TZID=UTC:20261013T123000
DTEND;TZID=UTC:20261013T133000
DTSTAMP:20260425T165326
CREATED:20250630T165812Z
LAST-MODIFIED:20260406T181010Z
UID:10025052-1791894600-1791898200@fvoas.org
SUMMARY:Mexican Train
DESCRIPTION:Dominos game!
URL:https://fvoas.org/event/mexican-train-2-2/2026-10-13/
LOCATION:Fox Valley Community Services (Sandwich)\, 1406 Suydam Rd\, Sandwich\, IL\, 60548\, United States
CATEGORIES:Rec Games
END:VEVENT
BEGIN:VEVENT
DTSTART;TZID=UTC:20261014T123000
DTEND;TZID=UTC:20261014T123000
DTSTAMP:20260425T165326
CREATED:20251029T174713Z
LAST-MODIFIED:20251230T164956Z
UID:10026554-1791981000-1791981000@fvoas.org
SUMMARY:Bunco
DESCRIPTION:Requires $2.00 fee.
URL:https://fvoas.org/event/bunko-2-2/2026-10-14/
LOCATION:Fox Valley Community Services (Sandwich)\, 1406 Suydam Rd\, Sandwich\, IL\, 60548\, United States
CATEGORIES:Rec Games
END:VEVENT
BEGIN:VEVENT
DTSTART;TZID=UTC:20261015T100000
DTEND;TZID=UTC:20261015T110000
DTSTAMP:20260425T165326
CREATED:20230614T194812Z
LAST-MODIFIED:20260407T191055Z
UID:10003895-1792058400-1792062000@fvoas.org
SUMMARY:Bingo
DESCRIPTION:Requires $2.00 fee.
URL:https://fvoas.org/event/bingo-2-2/2026-10-15/
LOCATION:Fox Valley Community Services (Sandwich)\, 1406 Suydam Rd\, Sandwich\, IL\, 60548\, United States
CATEGORIES:Rec Games
END:VEVENT
BEGIN:VEVENT
DTSTART;TZID=UTC:20261015T123000
DTEND;TZID=UTC:20261015T133000
DTSTAMP:20260425T165326
CREATED:20230614T195118Z
LAST-MODIFIED:20251029T175128Z
UID:10004858-1792067400-1792071000@fvoas.org
SUMMARY:Cards
DESCRIPTION:
URL:https://fvoas.org/event/cards-2/2026-10-15/
LOCATION:Fox Valley Community Services (Sandwich)\, 1406 Suydam Rd\, Sandwich\, IL\, 60548\, United States
CATEGORIES:Rec Games
END:VEVENT
BEGIN:VEVENT
DTSTART;TZID=UTC:20261016T133000
DTEND;TZID=UTC:20261016T143000
DTSTAMP:20260425T165326
CREATED:20240531T165235Z
LAST-MODIFIED:20251230T162640Z
UID:10024299-1792157400-1792161000@fvoas.org
SUMMARY:Cards
DESCRIPTION:
URL:https://fvoas.org/event/cards-3/2026-10-16/
LOCATION:Fox Valley Community Services (Sandwich)\, 1406 Suydam Rd\, Sandwich\, IL\, 60548\, United States
CATEGORIES:Rec Games
END:VEVENT
BEGIN:VEVENT
DTSTART;TZID=UTC:20261019T103000
DTEND;TZID=UTC:20261019T113000
DTSTAMP:20260425T165326
CREATED:20250725T161856Z
LAST-MODIFIED:20250725T161856Z
UID:10025620-1792405800-1792409400@fvoas.org
SUMMARY:Wii Bowling
DESCRIPTION:
URL:https://fvoas.org/event/wii-bowling-2-2/2026-10-19/
LOCATION:Fox Valley Community Services (Sandwich)\, 1406 Suydam Rd\, Sandwich\, IL\, 60548\, United States
CATEGORIES:Rec Games
END:VEVENT
END:VCALENDAR