BEGIN:VCALENDAR
VERSION:2.0
PRODID:-//Fox Valley Community Services - ECPv6.15.20//NONSGML v1.0//EN
CALSCALE:GREGORIAN
METHOD:PUBLISH
X-WR-CALNAME:Fox Valley Community Services
X-ORIGINAL-URL:https://fvoas.org
X-WR-CALDESC:Events for Fox Valley Community Services
REFRESH-INTERVAL;VALUE=DURATION:PT1H
X-Robots-Tag:noindex
X-PUBLISHED-TTL:PT1H
BEGIN:VTIMEZONE
TZID:UTC
BEGIN:STANDARD
TZOFFSETFROM:+0000
TZOFFSETTO:+0000
TZNAME:UTC
DTSTART:20250101T000000
END:STANDARD
END:VTIMEZONE
BEGIN:VEVENT
DTSTART;TZID=UTC:20261210T100000
DTEND;TZID=UTC:20261210T110000
DTSTAMP:20260426T042621
CREATED:20230614T194812Z
LAST-MODIFIED:20260407T191055Z
UID:10003903-1796896800-1796900400@fvoas.org
SUMMARY:Bingo
DESCRIPTION:Requires $2.00 fee.
URL:https://fvoas.org/event/bingo-2-2/2026-12-10/
LOCATION:Fox Valley Community Services (Sandwich)\, 1406 Suydam Rd\, Sandwich\, IL\, 60548\, United States
CATEGORIES:Rec Games
END:VEVENT
BEGIN:VEVENT
DTSTART;TZID=UTC:20261210T123000
DTEND;TZID=UTC:20261210T133000
DTSTAMP:20260426T042621
CREATED:20230614T195118Z
LAST-MODIFIED:20251029T175128Z
UID:10004874-1796905800-1796909400@fvoas.org
SUMMARY:Cards
DESCRIPTION:
URL:https://fvoas.org/event/cards-2/2026-12-10/
LOCATION:Fox Valley Community Services (Sandwich)\, 1406 Suydam Rd\, Sandwich\, IL\, 60548\, United States
CATEGORIES:Rec Games
END:VEVENT
BEGIN:VEVENT
DTSTART;TZID=UTC:20261211T133000
DTEND;TZID=UTC:20261211T143000
DTSTAMP:20260426T042621
CREATED:20240531T165235Z
LAST-MODIFIED:20251230T162640Z
UID:10024307-1796995800-1796999400@fvoas.org
SUMMARY:Cards
DESCRIPTION:
URL:https://fvoas.org/event/cards-3/2026-12-11/
LOCATION:Fox Valley Community Services (Sandwich)\, 1406 Suydam Rd\, Sandwich\, IL\, 60548\, United States
CATEGORIES:Rec Games
END:VEVENT
BEGIN:VEVENT
DTSTART;TZID=UTC:20261214T103000
DTEND;TZID=UTC:20261214T113000
DTSTAMP:20260426T042621
CREATED:20250725T161856Z
LAST-MODIFIED:20250725T161856Z
UID:10025628-1797244200-1797247800@fvoas.org
SUMMARY:Wii Bowling
DESCRIPTION:
URL:https://fvoas.org/event/wii-bowling-2-2/2026-12-14/
LOCATION:Fox Valley Community Services (Sandwich)\, 1406 Suydam Rd\, Sandwich\, IL\, 60548\, United States
CATEGORIES:Rec Games
END:VEVENT
BEGIN:VEVENT
DTSTART;TZID=UTC:20261214T123000
DTEND;TZID=UTC:20261214T133000
DTSTAMP:20260426T042621
CREATED:20230614T194352Z
LAST-MODIFIED:20251201T192034Z
UID:10003641-1797251400-1797255000@fvoas.org
SUMMARY:Bingo
DESCRIPTION:Requires a $2.00 fee
URL:https://fvoas.org/event/bingo/2026-12-14/
LOCATION:Fox Valley Community Services (Sandwich)\, 1406 Suydam Rd\, Sandwich\, IL\, 60548\, United States
CATEGORIES:Rec Games
END:VEVENT
BEGIN:VEVENT
DTSTART;TZID=UTC:20261214T133000
DTEND;TZID=UTC:20261214T143000
DTSTAMP:20260426T042621
CREATED:20250428T195309Z
LAST-MODIFIED:20251029T184947Z
UID:10004429-1797255000-1797258600@fvoas.org
SUMMARY:Cards
DESCRIPTION:
URL:https://fvoas.org/event/cards/2026-12-14/
LOCATION:Fox Valley Community Services (Sandwich)\, 1406 Suydam Rd\, Sandwich\, IL\, 60548\, United States
CATEGORIES:Rec Games
END:VEVENT
BEGIN:VEVENT
DTSTART;TZID=UTC:20261215T121500
DTEND;TZID=UTC:20261215T131500
DTSTAMP:20260426T042621
CREATED:20260406T181016Z
LAST-MODIFIED:20260406T181143Z
UID:10031691-1797336900-1797340500@fvoas.org
SUMMARY:Dime Jingle
DESCRIPTION:Join us every other Tuesday for Dime Jingle.
URL:https://fvoas.org/event/dime-jingle-2-2-2-2-2/2026-12-15/
LOCATION:Fox Valley Community Services (Sandwich)\, 1406 Suydam Rd\, Sandwich\, IL\, 60548\, United States
CATEGORIES:Rec Games
END:VEVENT
BEGIN:VEVENT
DTSTART;TZID=UTC:20261216T123000
DTEND;TZID=UTC:20261216T123000
DTSTAMP:20260426T042621
CREATED:20251029T174713Z
LAST-MODIFIED:20251230T164956Z
UID:10026563-1797424200-1797424200@fvoas.org
SUMMARY:Bunco
DESCRIPTION:Requires $2.00 fee.
URL:https://fvoas.org/event/bunko-2-2/2026-12-16/
LOCATION:Fox Valley Community Services (Sandwich)\, 1406 Suydam Rd\, Sandwich\, IL\, 60548\, United States
CATEGORIES:Rec Games
END:VEVENT
BEGIN:VEVENT
DTSTART;TZID=UTC:20261217T100000
DTEND;TZID=UTC:20261217T110000
DTSTAMP:20260426T042621
CREATED:20230614T194812Z
LAST-MODIFIED:20260407T191055Z
UID:10003904-1797501600-1797505200@fvoas.org
SUMMARY:Bingo
DESCRIPTION:Requires $2.00 fee.
URL:https://fvoas.org/event/bingo-2-2/2026-12-17/
LOCATION:Fox Valley Community Services (Sandwich)\, 1406 Suydam Rd\, Sandwich\, IL\, 60548\, United States
CATEGORIES:Rec Games
END:VEVENT
BEGIN:VEVENT
DTSTART;TZID=UTC:20261217T123000
DTEND;TZID=UTC:20261217T133000
DTSTAMP:20260426T042621
CREATED:20230614T195118Z
LAST-MODIFIED:20251029T175128Z
UID:10004876-1797510600-1797514200@fvoas.org
SUMMARY:Cards
DESCRIPTION:
URL:https://fvoas.org/event/cards-2/2026-12-17/
LOCATION:Fox Valley Community Services (Sandwich)\, 1406 Suydam Rd\, Sandwich\, IL\, 60548\, United States
CATEGORIES:Rec Games
END:VEVENT
BEGIN:VEVENT
DTSTART;TZID=UTC:20261218T133000
DTEND;TZID=UTC:20261218T143000
DTSTAMP:20260426T042621
CREATED:20240531T165235Z
LAST-MODIFIED:20251230T162640Z
UID:10024308-1797600600-1797604200@fvoas.org
SUMMARY:Cards
DESCRIPTION:
URL:https://fvoas.org/event/cards-3/2026-12-18/
LOCATION:Fox Valley Community Services (Sandwich)\, 1406 Suydam Rd\, Sandwich\, IL\, 60548\, United States
CATEGORIES:Rec Games
END:VEVENT
BEGIN:VEVENT
DTSTART;TZID=UTC:20261221T103000
DTEND;TZID=UTC:20261221T113000
DTSTAMP:20260426T042621
CREATED:20250725T161856Z
LAST-MODIFIED:20250725T161856Z
UID:10025629-1797849000-1797852600@fvoas.org
SUMMARY:Wii Bowling
DESCRIPTION:
URL:https://fvoas.org/event/wii-bowling-2-2/2026-12-21/
LOCATION:Fox Valley Community Services (Sandwich)\, 1406 Suydam Rd\, Sandwich\, IL\, 60548\, United States
CATEGORIES:Rec Games
END:VEVENT
BEGIN:VEVENT
DTSTART;TZID=UTC:20261221T123000
DTEND;TZID=UTC:20261221T133000
DTSTAMP:20260426T042621
CREATED:20230614T194352Z
LAST-MODIFIED:20251201T192034Z
UID:10003642-1797856200-1797859800@fvoas.org
SUMMARY:Bingo
DESCRIPTION:Requires a $2.00 fee
URL:https://fvoas.org/event/bingo/2026-12-21/
LOCATION:Fox Valley Community Services (Sandwich)\, 1406 Suydam Rd\, Sandwich\, IL\, 60548\, United States
CATEGORIES:Rec Games
END:VEVENT
BEGIN:VEVENT
DTSTART;TZID=UTC:20261221T133000
DTEND;TZID=UTC:20261221T143000
DTSTAMP:20260426T042621
CREATED:20250428T195309Z
LAST-MODIFIED:20251029T184947Z
UID:10004430-1797859800-1797863400@fvoas.org
SUMMARY:Cards
DESCRIPTION:
URL:https://fvoas.org/event/cards/2026-12-21/
LOCATION:Fox Valley Community Services (Sandwich)\, 1406 Suydam Rd\, Sandwich\, IL\, 60548\, United States
CATEGORIES:Rec Games
END:VEVENT
BEGIN:VEVENT
DTSTART;TZID=UTC:20261223T123000
DTEND;TZID=UTC:20261223T123000
DTSTAMP:20260426T042621
CREATED:20251029T174713Z
LAST-MODIFIED:20251230T164956Z
UID:10026564-1798029000-1798029000@fvoas.org
SUMMARY:Bunco
DESCRIPTION:Requires $2.00 fee.
URL:https://fvoas.org/event/bunko-2-2/2026-12-23/
LOCATION:Fox Valley Community Services (Sandwich)\, 1406 Suydam Rd\, Sandwich\, IL\, 60548\, United States
CATEGORIES:Rec Games
END:VEVENT
BEGIN:VEVENT
DTSTART;TZID=UTC:20261224T100000
DTEND;TZID=UTC:20261224T110000
DTSTAMP:20260426T042621
CREATED:20230614T194812Z
LAST-MODIFIED:20260407T191055Z
UID:10003905-1798106400-1798110000@fvoas.org
SUMMARY:Bingo
DESCRIPTION:Requires $2.00 fee.
URL:https://fvoas.org/event/bingo-2-2/2026-12-24/
LOCATION:Fox Valley Community Services (Sandwich)\, 1406 Suydam Rd\, Sandwich\, IL\, 60548\, United States
CATEGORIES:Rec Games
END:VEVENT
BEGIN:VEVENT
DTSTART;TZID=UTC:20261224T123000
DTEND;TZID=UTC:20261224T133000
DTSTAMP:20260426T042621
CREATED:20230614T195118Z
LAST-MODIFIED:20251029T175128Z
UID:10004878-1798115400-1798119000@fvoas.org
SUMMARY:Cards
DESCRIPTION:
URL:https://fvoas.org/event/cards-2/2026-12-24/
LOCATION:Fox Valley Community Services (Sandwich)\, 1406 Suydam Rd\, Sandwich\, IL\, 60548\, United States
CATEGORIES:Rec Games
END:VEVENT
BEGIN:VEVENT
DTSTART;TZID=UTC:20261225T133000
DTEND;TZID=UTC:20261225T143000
DTSTAMP:20260426T042621
CREATED:20240531T165235Z
LAST-MODIFIED:20251230T162640Z
UID:10024309-1798205400-1798209000@fvoas.org
SUMMARY:Cards
DESCRIPTION:
URL:https://fvoas.org/event/cards-3/2026-12-25/
LOCATION:Fox Valley Community Services (Sandwich)\, 1406 Suydam Rd\, Sandwich\, IL\, 60548\, United States
CATEGORIES:Rec Games
END:VEVENT
BEGIN:VEVENT
DTSTART;TZID=UTC:20261228T103000
DTEND;TZID=UTC:20261228T113000
DTSTAMP:20260426T042621
CREATED:20250725T161856Z
LAST-MODIFIED:20250725T161856Z
UID:10025630-1798453800-1798457400@fvoas.org
SUMMARY:Wii Bowling
DESCRIPTION:
URL:https://fvoas.org/event/wii-bowling-2-2/2026-12-28/
LOCATION:Fox Valley Community Services (Sandwich)\, 1406 Suydam Rd\, Sandwich\, IL\, 60548\, United States
CATEGORIES:Rec Games
END:VEVENT
BEGIN:VEVENT
DTSTART;TZID=UTC:20261228T123000
DTEND;TZID=UTC:20261228T133000
DTSTAMP:20260426T042621
CREATED:20230614T194352Z
LAST-MODIFIED:20251201T192034Z
UID:10003643-1798461000-1798464600@fvoas.org
SUMMARY:Bingo
DESCRIPTION:Requires a $2.00 fee
URL:https://fvoas.org/event/bingo/2026-12-28/
LOCATION:Fox Valley Community Services (Sandwich)\, 1406 Suydam Rd\, Sandwich\, IL\, 60548\, United States
CATEGORIES:Rec Games
END:VEVENT
BEGIN:VEVENT
DTSTART;TZID=UTC:20261228T133000
DTEND;TZID=UTC:20261228T143000
DTSTAMP:20260426T042621
CREATED:20250428T195309Z
LAST-MODIFIED:20251029T184947Z
UID:10004431-1798464600-1798468200@fvoas.org
SUMMARY:Cards
DESCRIPTION:
URL:https://fvoas.org/event/cards/2026-12-28/
LOCATION:Fox Valley Community Services (Sandwich)\, 1406 Suydam Rd\, Sandwich\, IL\, 60548\, United States
CATEGORIES:Rec Games
END:VEVENT
BEGIN:VEVENT
DTSTART;TZID=UTC:20261229T123000
DTEND;TZID=UTC:20261229T133000
DTSTAMP:20260426T042621
CREATED:20250630T165858Z
LAST-MODIFIED:20250630T183105Z
UID:10025386-1798547400-1798551000@fvoas.org
SUMMARY:Mexican Train
DESCRIPTION:Dominos game!
URL:https://fvoas.org/event/mexican-train-2-3/2026-12-29/
LOCATION:Fox Valley Community Services (Sandwich)\, 1406 Suydam Rd\, Sandwich\, IL\, 60548\, United States
CATEGORIES:Rec Games
END:VEVENT
BEGIN:VEVENT
DTSTART;TZID=UTC:20261230T123000
DTEND;TZID=UTC:20261230T123000
DTSTAMP:20260426T042621
CREATED:20251029T174713Z
LAST-MODIFIED:20251230T164956Z
UID:10026565-1798633800-1798633800@fvoas.org
SUMMARY:Bunco
DESCRIPTION:Requires $2.00 fee.
URL:https://fvoas.org/event/bunko-2-2/2026-12-30/
LOCATION:Fox Valley Community Services (Sandwich)\, 1406 Suydam Rd\, Sandwich\, IL\, 60548\, United States
CATEGORIES:Rec Games
END:VEVENT
BEGIN:VEVENT
DTSTART;TZID=UTC:20261230T133000
DTEND;TZID=UTC:20261230T143000
DTSTAMP:20260426T042621
CREATED:20260406T181808Z
LAST-MODIFIED:20260407T191205Z
UID:10032226-1798637400-1798641000@fvoas.org
SUMMARY:Swoop
DESCRIPTION:Card Game
URL:https://fvoas.org/event/swoop/2026-12-30/
LOCATION:Fox Valley Community Services (Sandwich)\, 1406 Suydam Rd\, Sandwich\, IL\, 60548\, United States
CATEGORIES:Rec Games
END:VEVENT
BEGIN:VEVENT
DTSTART;TZID=UTC:20261231T100000
DTEND;TZID=UTC:20261231T110000
DTSTAMP:20260426T042621
CREATED:20230614T194812Z
LAST-MODIFIED:20260407T191055Z
UID:10003906-1798711200-1798714800@fvoas.org
SUMMARY:Bingo
DESCRIPTION:Requires $2.00 fee.
URL:https://fvoas.org/event/bingo-2-2/2026-12-31/
LOCATION:Fox Valley Community Services (Sandwich)\, 1406 Suydam Rd\, Sandwich\, IL\, 60548\, United States
CATEGORIES:Rec Games
END:VEVENT
BEGIN:VEVENT
DTSTART;TZID=UTC:20261231T123000
DTEND;TZID=UTC:20261231T133000
DTSTAMP:20260426T042621
CREATED:20230614T195118Z
LAST-MODIFIED:20251029T175128Z
UID:10004880-1798720200-1798723800@fvoas.org
SUMMARY:Cards
DESCRIPTION:
URL:https://fvoas.org/event/cards-2/2026-12-31/
LOCATION:Fox Valley Community Services (Sandwich)\, 1406 Suydam Rd\, Sandwich\, IL\, 60548\, United States
CATEGORIES:Rec Games
END:VEVENT
BEGIN:VEVENT
DTSTART;TZID=UTC:20270101T133000
DTEND;TZID=UTC:20270101T143000
DTSTAMP:20260426T042621
CREATED:20240531T165235Z
LAST-MODIFIED:20251230T162640Z
UID:10024310-1798810200-1798813800@fvoas.org
SUMMARY:Cards
DESCRIPTION:
URL:https://fvoas.org/event/cards-3/2027-01-01/
LOCATION:Fox Valley Community Services (Sandwich)\, 1406 Suydam Rd\, Sandwich\, IL\, 60548\, United States
CATEGORIES:Rec Games
END:VEVENT
BEGIN:VEVENT
DTSTART;TZID=UTC:20270104T103000
DTEND;TZID=UTC:20270104T113000
DTSTAMP:20260426T042621
CREATED:20250725T161856Z
LAST-MODIFIED:20250725T161856Z
UID:10025631-1799058600-1799062200@fvoas.org
SUMMARY:Wii Bowling
DESCRIPTION:
URL:https://fvoas.org/event/wii-bowling-2-2/2027-01-04/
LOCATION:Fox Valley Community Services (Sandwich)\, 1406 Suydam Rd\, Sandwich\, IL\, 60548\, United States
CATEGORIES:Rec Games
END:VEVENT
BEGIN:VEVENT
DTSTART;TZID=UTC:20270104T123000
DTEND;TZID=UTC:20270104T133000
DTSTAMP:20260426T042621
CREATED:20230614T194352Z
LAST-MODIFIED:20251201T192034Z
UID:10003644-1799065800-1799069400@fvoas.org
SUMMARY:Bingo
DESCRIPTION:Requires a $2.00 fee
URL:https://fvoas.org/event/bingo/2027-01-04/
LOCATION:Fox Valley Community Services (Sandwich)\, 1406 Suydam Rd\, Sandwich\, IL\, 60548\, United States
CATEGORIES:Rec Games
END:VEVENT
BEGIN:VEVENT
DTSTART;TZID=UTC:20270104T133000
DTEND;TZID=UTC:20270104T143000
DTSTAMP:20260426T042621
CREATED:20250428T195309Z
LAST-MODIFIED:20251029T184947Z
UID:10004432-1799069400-1799073000@fvoas.org
SUMMARY:Cards
DESCRIPTION:
URL:https://fvoas.org/event/cards/2027-01-04/
LOCATION:Fox Valley Community Services (Sandwich)\, 1406 Suydam Rd\, Sandwich\, IL\, 60548\, United States
CATEGORIES:Rec Games
END:VEVENT
END:VCALENDAR