BEGIN:VCALENDAR
VERSION:2.0
PRODID:-//Fox Valley Community Services - ECPv6.15.20//NONSGML v1.0//EN
CALSCALE:GREGORIAN
METHOD:PUBLISH
X-ORIGINAL-URL:https://fvoas.org
X-WR-CALDESC:Events for Fox Valley Community Services
REFRESH-INTERVAL;VALUE=DURATION:PT1H
X-Robots-Tag:noindex
X-PUBLISHED-TTL:PT1H
BEGIN:VTIMEZONE
TZID:UTC
BEGIN:STANDARD
TZOFFSETFROM:+0000
TZOFFSETTO:+0000
TZNAME:UTC
DTSTART:20250101T000000
END:STANDARD
END:VTIMEZONE
BEGIN:VEVENT
DTSTART;TZID=UTC:20261111T123000
DTEND;TZID=UTC:20261111T123000
DTSTAMP:20260426T042514
CREATED:20251029T174713Z
LAST-MODIFIED:20251230T164956Z
UID:10026558-1794400200-1794400200@fvoas.org
SUMMARY:Bunco
DESCRIPTION:Requires $2.00 fee.
URL:https://fvoas.org/event/bunko-2-2/2026-11-11/
LOCATION:Fox Valley Community Services (Sandwich)\, 1406 Suydam Rd\, Sandwich\, IL\, 60548\, United States
CATEGORIES:Rec Games
END:VEVENT
BEGIN:VEVENT
DTSTART;TZID=UTC:20261112T100000
DTEND;TZID=UTC:20261112T110000
DTSTAMP:20260426T042514
CREATED:20230614T194812Z
LAST-MODIFIED:20260407T191055Z
UID:10003899-1794477600-1794481200@fvoas.org
SUMMARY:Bingo
DESCRIPTION:Requires $2.00 fee.
URL:https://fvoas.org/event/bingo-2-2/2026-11-12/
LOCATION:Fox Valley Community Services (Sandwich)\, 1406 Suydam Rd\, Sandwich\, IL\, 60548\, United States
CATEGORIES:Rec Games
END:VEVENT
BEGIN:VEVENT
DTSTART;TZID=UTC:20261112T123000
DTEND;TZID=UTC:20261112T133000
DTSTAMP:20260426T042514
CREATED:20230614T195118Z
LAST-MODIFIED:20251029T175128Z
UID:10004866-1794486600-1794490200@fvoas.org
SUMMARY:Cards
DESCRIPTION:
URL:https://fvoas.org/event/cards-2/2026-11-12/
LOCATION:Fox Valley Community Services (Sandwich)\, 1406 Suydam Rd\, Sandwich\, IL\, 60548\, United States
CATEGORIES:Rec Games
END:VEVENT
BEGIN:VEVENT
DTSTART;TZID=UTC:20261113T133000
DTEND;TZID=UTC:20261113T143000
DTSTAMP:20260426T042514
CREATED:20240531T165235Z
LAST-MODIFIED:20251230T162640Z
UID:10024303-1794576600-1794580200@fvoas.org
SUMMARY:Cards
DESCRIPTION:
URL:https://fvoas.org/event/cards-3/2026-11-13/
LOCATION:Fox Valley Community Services (Sandwich)\, 1406 Suydam Rd\, Sandwich\, IL\, 60548\, United States
CATEGORIES:Rec Games
END:VEVENT
BEGIN:VEVENT
DTSTART;TZID=UTC:20261116T103000
DTEND;TZID=UTC:20261116T113000
DTSTAMP:20260426T042514
CREATED:20250725T161856Z
LAST-MODIFIED:20250725T161856Z
UID:10025624-1794825000-1794828600@fvoas.org
SUMMARY:Wii Bowling
DESCRIPTION:
URL:https://fvoas.org/event/wii-bowling-2-2/2026-11-16/
LOCATION:Fox Valley Community Services (Sandwich)\, 1406 Suydam Rd\, Sandwich\, IL\, 60548\, United States
CATEGORIES:Rec Games
END:VEVENT
BEGIN:VEVENT
DTSTART;TZID=UTC:20261116T123000
DTEND;TZID=UTC:20261116T133000
DTSTAMP:20260426T042514
CREATED:20230614T194352Z
LAST-MODIFIED:20251201T192034Z
UID:10003637-1794832200-1794835800@fvoas.org
SUMMARY:Bingo
DESCRIPTION:Requires a $2.00 fee
URL:https://fvoas.org/event/bingo/2026-11-16/
LOCATION:Fox Valley Community Services (Sandwich)\, 1406 Suydam Rd\, Sandwich\, IL\, 60548\, United States
CATEGORIES:Rec Games
END:VEVENT
BEGIN:VEVENT
DTSTART;TZID=UTC:20261116T133000
DTEND;TZID=UTC:20261116T143000
DTSTAMP:20260426T042514
CREATED:20250428T195309Z
LAST-MODIFIED:20251029T184947Z
UID:10004425-1794835800-1794839400@fvoas.org
SUMMARY:Cards
DESCRIPTION:
URL:https://fvoas.org/event/cards/2026-11-16/
LOCATION:Fox Valley Community Services (Sandwich)\, 1406 Suydam Rd\, Sandwich\, IL\, 60548\, United States
CATEGORIES:Rec Games
END:VEVENT
BEGIN:VEVENT
DTSTART;TZID=UTC:20261117T121500
DTEND;TZID=UTC:20261117T131500
DTSTAMP:20260426T042514
CREATED:20260406T181016Z
LAST-MODIFIED:20260406T181143Z
UID:10031689-1794917700-1794921300@fvoas.org
SUMMARY:Dime Jingle
DESCRIPTION:Join us every other Tuesday for Dime Jingle.
URL:https://fvoas.org/event/dime-jingle-2-2-2-2-2/2026-11-17/
LOCATION:Fox Valley Community Services (Sandwich)\, 1406 Suydam Rd\, Sandwich\, IL\, 60548\, United States
CATEGORIES:Rec Games
END:VEVENT
BEGIN:VEVENT
DTSTART;TZID=UTC:20261118T123000
DTEND;TZID=UTC:20261118T123000
DTSTAMP:20260426T042514
CREATED:20251029T174713Z
LAST-MODIFIED:20251230T164956Z
UID:10026559-1795005000-1795005000@fvoas.org
SUMMARY:Bunco
DESCRIPTION:Requires $2.00 fee.
URL:https://fvoas.org/event/bunko-2-2/2026-11-18/
LOCATION:Fox Valley Community Services (Sandwich)\, 1406 Suydam Rd\, Sandwich\, IL\, 60548\, United States
CATEGORIES:Rec Games
END:VEVENT
BEGIN:VEVENT
DTSTART;TZID=UTC:20261119T100000
DTEND;TZID=UTC:20261119T110000
DTSTAMP:20260426T042514
CREATED:20230614T194812Z
LAST-MODIFIED:20260407T191055Z
UID:10003900-1795082400-1795086000@fvoas.org
SUMMARY:Bingo
DESCRIPTION:Requires $2.00 fee.
URL:https://fvoas.org/event/bingo-2-2/2026-11-19/
LOCATION:Fox Valley Community Services (Sandwich)\, 1406 Suydam Rd\, Sandwich\, IL\, 60548\, United States
CATEGORIES:Rec Games
END:VEVENT
BEGIN:VEVENT
DTSTART;TZID=UTC:20261119T123000
DTEND;TZID=UTC:20261119T133000
DTSTAMP:20260426T042514
CREATED:20230614T195118Z
LAST-MODIFIED:20251029T175128Z
UID:10004868-1795091400-1795095000@fvoas.org
SUMMARY:Cards
DESCRIPTION:
URL:https://fvoas.org/event/cards-2/2026-11-19/
LOCATION:Fox Valley Community Services (Sandwich)\, 1406 Suydam Rd\, Sandwich\, IL\, 60548\, United States
CATEGORIES:Rec Games
END:VEVENT
BEGIN:VEVENT
DTSTART;TZID=UTC:20261120T133000
DTEND;TZID=UTC:20261120T143000
DTSTAMP:20260426T042514
CREATED:20240531T165235Z
LAST-MODIFIED:20251230T162640Z
UID:10024304-1795181400-1795185000@fvoas.org
SUMMARY:Cards
DESCRIPTION:
URL:https://fvoas.org/event/cards-3/2026-11-20/
LOCATION:Fox Valley Community Services (Sandwich)\, 1406 Suydam Rd\, Sandwich\, IL\, 60548\, United States
CATEGORIES:Rec Games
END:VEVENT
BEGIN:VEVENT
DTSTART;TZID=UTC:20261123T103000
DTEND;TZID=UTC:20261123T113000
DTSTAMP:20260426T042514
CREATED:20250725T161856Z
LAST-MODIFIED:20250725T161856Z
UID:10025625-1795429800-1795433400@fvoas.org
SUMMARY:Wii Bowling
DESCRIPTION:
URL:https://fvoas.org/event/wii-bowling-2-2/2026-11-23/
LOCATION:Fox Valley Community Services (Sandwich)\, 1406 Suydam Rd\, Sandwich\, IL\, 60548\, United States
CATEGORIES:Rec Games
END:VEVENT
BEGIN:VEVENT
DTSTART;TZID=UTC:20261123T123000
DTEND;TZID=UTC:20261123T133000
DTSTAMP:20260426T042514
CREATED:20230614T194352Z
LAST-MODIFIED:20251201T192034Z
UID:10003638-1795437000-1795440600@fvoas.org
SUMMARY:Bingo
DESCRIPTION:Requires a $2.00 fee
URL:https://fvoas.org/event/bingo/2026-11-23/
LOCATION:Fox Valley Community Services (Sandwich)\, 1406 Suydam Rd\, Sandwich\, IL\, 60548\, United States
CATEGORIES:Rec Games
END:VEVENT
BEGIN:VEVENT
DTSTART;TZID=UTC:20261123T133000
DTEND;TZID=UTC:20261123T143000
DTSTAMP:20260426T042514
CREATED:20250428T195309Z
LAST-MODIFIED:20251029T184947Z
UID:10004426-1795440600-1795444200@fvoas.org
SUMMARY:Cards
DESCRIPTION:
URL:https://fvoas.org/event/cards/2026-11-23/
LOCATION:Fox Valley Community Services (Sandwich)\, 1406 Suydam Rd\, Sandwich\, IL\, 60548\, United States
CATEGORIES:Rec Games
END:VEVENT
BEGIN:VEVENT
DTSTART;TZID=UTC:20261124T123000
DTEND;TZID=UTC:20261124T133000
DTSTAMP:20260426T042514
CREATED:20250630T165858Z
LAST-MODIFIED:20250630T183105Z
UID:10025385-1795523400-1795527000@fvoas.org
SUMMARY:Mexican Train
DESCRIPTION:Dominos game!
URL:https://fvoas.org/event/mexican-train-2-3/2026-11-24/
LOCATION:Fox Valley Community Services (Sandwich)\, 1406 Suydam Rd\, Sandwich\, IL\, 60548\, United States
CATEGORIES:Rec Games
END:VEVENT
BEGIN:VEVENT
DTSTART;TZID=UTC:20261125T123000
DTEND;TZID=UTC:20261125T123000
DTSTAMP:20260426T042514
CREATED:20251029T174713Z
LAST-MODIFIED:20251230T164956Z
UID:10026560-1795609800-1795609800@fvoas.org
SUMMARY:Bunco
DESCRIPTION:Requires $2.00 fee.
URL:https://fvoas.org/event/bunko-2-2/2026-11-25/
LOCATION:Fox Valley Community Services (Sandwich)\, 1406 Suydam Rd\, Sandwich\, IL\, 60548\, United States
CATEGORIES:Rec Games
END:VEVENT
BEGIN:VEVENT
DTSTART;TZID=UTC:20261125T133000
DTEND;TZID=UTC:20261125T143000
DTSTAMP:20260426T042514
CREATED:20260406T181808Z
LAST-MODIFIED:20260407T191205Z
UID:10032225-1795613400-1795617000@fvoas.org
SUMMARY:Swoop
DESCRIPTION:Card Game
URL:https://fvoas.org/event/swoop/2026-11-25/
LOCATION:Fox Valley Community Services (Sandwich)\, 1406 Suydam Rd\, Sandwich\, IL\, 60548\, United States
CATEGORIES:Rec Games
END:VEVENT
BEGIN:VEVENT
DTSTART;TZID=UTC:20261126T100000
DTEND;TZID=UTC:20261126T110000
DTSTAMP:20260426T042514
CREATED:20230614T194812Z
LAST-MODIFIED:20260407T191055Z
UID:10003901-1795687200-1795690800@fvoas.org
SUMMARY:Bingo
DESCRIPTION:Requires $2.00 fee.
URL:https://fvoas.org/event/bingo-2-2/2026-11-26/
LOCATION:Fox Valley Community Services (Sandwich)\, 1406 Suydam Rd\, Sandwich\, IL\, 60548\, United States
CATEGORIES:Rec Games
END:VEVENT
BEGIN:VEVENT
DTSTART;TZID=UTC:20261126T123000
DTEND;TZID=UTC:20261126T133000
DTSTAMP:20260426T042514
CREATED:20230614T195118Z
LAST-MODIFIED:20251029T175128Z
UID:10004870-1795696200-1795699800@fvoas.org
SUMMARY:Cards
DESCRIPTION:
URL:https://fvoas.org/event/cards-2/2026-11-26/
LOCATION:Fox Valley Community Services (Sandwich)\, 1406 Suydam Rd\, Sandwich\, IL\, 60548\, United States
CATEGORIES:Rec Games
END:VEVENT
BEGIN:VEVENT
DTSTART;TZID=UTC:20261127T133000
DTEND;TZID=UTC:20261127T143000
DTSTAMP:20260426T042514
CREATED:20240531T165235Z
LAST-MODIFIED:20251230T162640Z
UID:10024305-1795786200-1795789800@fvoas.org
SUMMARY:Cards
DESCRIPTION:
URL:https://fvoas.org/event/cards-3/2026-11-27/
LOCATION:Fox Valley Community Services (Sandwich)\, 1406 Suydam Rd\, Sandwich\, IL\, 60548\, United States
CATEGORIES:Rec Games
END:VEVENT
BEGIN:VEVENT
DTSTART;TZID=UTC:20261130T103000
DTEND;TZID=UTC:20261130T113000
DTSTAMP:20260426T042514
CREATED:20250725T161856Z
LAST-MODIFIED:20250725T161856Z
UID:10025626-1796034600-1796038200@fvoas.org
SUMMARY:Wii Bowling
DESCRIPTION:
URL:https://fvoas.org/event/wii-bowling-2-2/2026-11-30/
LOCATION:Fox Valley Community Services (Sandwich)\, 1406 Suydam Rd\, Sandwich\, IL\, 60548\, United States
CATEGORIES:Rec Games
END:VEVENT
BEGIN:VEVENT
DTSTART;TZID=UTC:20261130T123000
DTEND;TZID=UTC:20261130T133000
DTSTAMP:20260426T042514
CREATED:20230614T194352Z
LAST-MODIFIED:20251201T192034Z
UID:10003639-1796041800-1796045400@fvoas.org
SUMMARY:Bingo
DESCRIPTION:Requires a $2.00 fee
URL:https://fvoas.org/event/bingo/2026-11-30/
LOCATION:Fox Valley Community Services (Sandwich)\, 1406 Suydam Rd\, Sandwich\, IL\, 60548\, United States
CATEGORIES:Rec Games
END:VEVENT
BEGIN:VEVENT
DTSTART;TZID=UTC:20261130T133000
DTEND;TZID=UTC:20261130T143000
DTSTAMP:20260426T042514
CREATED:20250428T195309Z
LAST-MODIFIED:20251029T184947Z
UID:10004427-1796045400-1796049000@fvoas.org
SUMMARY:Cards
DESCRIPTION:
URL:https://fvoas.org/event/cards/2026-11-30/
LOCATION:Fox Valley Community Services (Sandwich)\, 1406 Suydam Rd\, Sandwich\, IL\, 60548\, United States
CATEGORIES:Rec Games
END:VEVENT
BEGIN:VEVENT
DTSTART;TZID=UTC:20261202T123000
DTEND;TZID=UTC:20261202T123000
DTSTAMP:20260426T042514
CREATED:20251029T174713Z
LAST-MODIFIED:20251230T164956Z
UID:10026561-1796214600-1796214600@fvoas.org
SUMMARY:Bunco
DESCRIPTION:Requires $2.00 fee.
URL:https://fvoas.org/event/bunko-2-2/2026-12-02/
LOCATION:Fox Valley Community Services (Sandwich)\, 1406 Suydam Rd\, Sandwich\, IL\, 60548\, United States
CATEGORIES:Rec Games
END:VEVENT
BEGIN:VEVENT
DTSTART;TZID=UTC:20261203T100000
DTEND;TZID=UTC:20261203T110000
DTSTAMP:20260426T042514
CREATED:20230614T194812Z
LAST-MODIFIED:20260407T191055Z
UID:10003902-1796292000-1796295600@fvoas.org
SUMMARY:Bingo
DESCRIPTION:Requires $2.00 fee.
URL:https://fvoas.org/event/bingo-2-2/2026-12-03/
LOCATION:Fox Valley Community Services (Sandwich)\, 1406 Suydam Rd\, Sandwich\, IL\, 60548\, United States
CATEGORIES:Rec Games
END:VEVENT
BEGIN:VEVENT
DTSTART;TZID=UTC:20261203T123000
DTEND;TZID=UTC:20261203T133000
DTSTAMP:20260426T042514
CREATED:20230614T195118Z
LAST-MODIFIED:20251029T175128Z
UID:10004872-1796301000-1796304600@fvoas.org
SUMMARY:Cards
DESCRIPTION:
URL:https://fvoas.org/event/cards-2/2026-12-03/
LOCATION:Fox Valley Community Services (Sandwich)\, 1406 Suydam Rd\, Sandwich\, IL\, 60548\, United States
CATEGORIES:Rec Games
END:VEVENT
BEGIN:VEVENT
DTSTART;TZID=UTC:20261204T133000
DTEND;TZID=UTC:20261204T143000
DTSTAMP:20260426T042514
CREATED:20240531T165235Z
LAST-MODIFIED:20251230T162640Z
UID:10024306-1796391000-1796394600@fvoas.org
SUMMARY:Cards
DESCRIPTION:
URL:https://fvoas.org/event/cards-3/2026-12-04/
LOCATION:Fox Valley Community Services (Sandwich)\, 1406 Suydam Rd\, Sandwich\, IL\, 60548\, United States
CATEGORIES:Rec Games
END:VEVENT
BEGIN:VEVENT
DTSTART;TZID=UTC:20261207T103000
DTEND;TZID=UTC:20261207T113000
DTSTAMP:20260426T042514
CREATED:20250725T161856Z
LAST-MODIFIED:20250725T161856Z
UID:10025627-1796639400-1796643000@fvoas.org
SUMMARY:Wii Bowling
DESCRIPTION:
URL:https://fvoas.org/event/wii-bowling-2-2/2026-12-07/
LOCATION:Fox Valley Community Services (Sandwich)\, 1406 Suydam Rd\, Sandwich\, IL\, 60548\, United States
CATEGORIES:Rec Games
END:VEVENT
BEGIN:VEVENT
DTSTART;TZID=UTC:20261207T123000
DTEND;TZID=UTC:20261207T133000
DTSTAMP:20260426T042514
CREATED:20230614T194352Z
LAST-MODIFIED:20251201T192034Z
UID:10003640-1796646600-1796650200@fvoas.org
SUMMARY:Bingo
DESCRIPTION:Requires a $2.00 fee
URL:https://fvoas.org/event/bingo/2026-12-07/
LOCATION:Fox Valley Community Services (Sandwich)\, 1406 Suydam Rd\, Sandwich\, IL\, 60548\, United States
CATEGORIES:Rec Games
END:VEVENT
END:VCALENDAR