BEGIN:VCALENDAR
VERSION:2.0
PRODID:-//Fox Valley Community Services - ECPv6.15.20//NONSGML v1.0//EN
CALSCALE:GREGORIAN
METHOD:PUBLISH
X-WR-CALNAME:Fox Valley Community Services
X-ORIGINAL-URL:https://fvoas.org
X-WR-CALDESC:Events for Fox Valley Community Services
REFRESH-INTERVAL;VALUE=DURATION:PT1H
X-Robots-Tag:noindex
X-PUBLISHED-TTL:PT1H
BEGIN:VTIMEZONE
TZID:UTC
BEGIN:STANDARD
TZOFFSETFROM:+0000
TZOFFSETTO:+0000
TZNAME:UTC
DTSTART:20250101T000000
END:STANDARD
END:VTIMEZONE
BEGIN:VEVENT
DTSTART;TZID=UTC:20260730T123000
DTEND;TZID=UTC:20260730T133000
DTSTAMP:20260425T135653
CREATED:20230614T195118Z
LAST-MODIFIED:20251029T175128Z
UID:10004836-1785414600-1785418200@fvoas.org
SUMMARY:Cards
DESCRIPTION:
URL:https://fvoas.org/event/cards-2/2026-07-30/
LOCATION:Fox Valley Community Services (Sandwich)\, 1406 Suydam Rd\, Sandwich\, IL\, 60548\, United States
CATEGORIES:Rec Games
END:VEVENT
BEGIN:VEVENT
DTSTART;TZID=UTC:20260731T133000
DTEND;TZID=UTC:20260731T143000
DTSTAMP:20260425T135653
CREATED:20240531T165235Z
LAST-MODIFIED:20251230T162640Z
UID:10024288-1785504600-1785508200@fvoas.org
SUMMARY:Cards
DESCRIPTION:
URL:https://fvoas.org/event/cards-3/2026-07-31/
LOCATION:Fox Valley Community Services (Sandwich)\, 1406 Suydam Rd\, Sandwich\, IL\, 60548\, United States
CATEGORIES:Rec Games
END:VEVENT
BEGIN:VEVENT
DTSTART;TZID=UTC:20260803T103000
DTEND;TZID=UTC:20260803T113000
DTSTAMP:20260425T135653
CREATED:20250725T161856Z
LAST-MODIFIED:20250725T161856Z
UID:10025609-1785753000-1785756600@fvoas.org
SUMMARY:Wii Bowling
DESCRIPTION:
URL:https://fvoas.org/event/wii-bowling-2-2/2026-08-03/
LOCATION:Fox Valley Community Services (Sandwich)\, 1406 Suydam Rd\, Sandwich\, IL\, 60548\, United States
CATEGORIES:Rec Games
END:VEVENT
BEGIN:VEVENT
DTSTART;TZID=UTC:20260803T123000
DTEND;TZID=UTC:20260803T133000
DTSTAMP:20260425T135653
CREATED:20230614T194352Z
LAST-MODIFIED:20251201T192034Z
UID:10003622-1785760200-1785763800@fvoas.org
SUMMARY:Bingo
DESCRIPTION:Requires a $2.00 fee
URL:https://fvoas.org/event/bingo/2026-08-03/
LOCATION:Fox Valley Community Services (Sandwich)\, 1406 Suydam Rd\, Sandwich\, IL\, 60548\, United States
CATEGORIES:Rec Games
END:VEVENT
BEGIN:VEVENT
DTSTART;TZID=UTC:20260803T133000
DTEND;TZID=UTC:20260803T143000
DTSTAMP:20260425T135653
CREATED:20250428T195309Z
LAST-MODIFIED:20251029T184947Z
UID:10004410-1785763800-1785767400@fvoas.org
SUMMARY:Cards
DESCRIPTION:
URL:https://fvoas.org/event/cards/2026-08-03/
LOCATION:Fox Valley Community Services (Sandwich)\, 1406 Suydam Rd\, Sandwich\, IL\, 60548\, United States
CATEGORIES:Rec Games
END:VEVENT
BEGIN:VEVENT
DTSTART;TZID=UTC:20260805T123000
DTEND;TZID=UTC:20260805T123000
DTSTAMP:20260425T135653
CREATED:20251029T174713Z
LAST-MODIFIED:20251230T164956Z
UID:10026544-1785933000-1785933000@fvoas.org
SUMMARY:Bunco
DESCRIPTION:Requires $2.00 fee.
URL:https://fvoas.org/event/bunko-2-2/2026-08-05/
LOCATION:Fox Valley Community Services (Sandwich)\, 1406 Suydam Rd\, Sandwich\, IL\, 60548\, United States
CATEGORIES:Rec Games
END:VEVENT
BEGIN:VEVENT
DTSTART;TZID=UTC:20260806T100000
DTEND;TZID=UTC:20260806T110000
DTSTAMP:20260425T135653
CREATED:20230614T194812Z
LAST-MODIFIED:20260407T191055Z
UID:10003885-1786010400-1786014000@fvoas.org
SUMMARY:Bingo
DESCRIPTION:Requires $2.00 fee.
URL:https://fvoas.org/event/bingo-2-2/2026-08-06/
LOCATION:Fox Valley Community Services (Sandwich)\, 1406 Suydam Rd\, Sandwich\, IL\, 60548\, United States
CATEGORIES:Rec Games
END:VEVENT
BEGIN:VEVENT
DTSTART;TZID=UTC:20260806T123000
DTEND;TZID=UTC:20260806T133000
DTSTAMP:20260425T135653
CREATED:20230614T195118Z
LAST-MODIFIED:20251029T175128Z
UID:10004838-1786019400-1786023000@fvoas.org
SUMMARY:Cards
DESCRIPTION:
URL:https://fvoas.org/event/cards-2/2026-08-06/
LOCATION:Fox Valley Community Services (Sandwich)\, 1406 Suydam Rd\, Sandwich\, IL\, 60548\, United States
CATEGORIES:Rec Games
END:VEVENT
BEGIN:VEVENT
DTSTART;TZID=UTC:20260807T133000
DTEND;TZID=UTC:20260807T143000
DTSTAMP:20260425T135653
CREATED:20240531T165235Z
LAST-MODIFIED:20251230T162640Z
UID:10024289-1786109400-1786113000@fvoas.org
SUMMARY:Cards
DESCRIPTION:
URL:https://fvoas.org/event/cards-3/2026-08-07/
LOCATION:Fox Valley Community Services (Sandwich)\, 1406 Suydam Rd\, Sandwich\, IL\, 60548\, United States
CATEGORIES:Rec Games
END:VEVENT
BEGIN:VEVENT
DTSTART;TZID=UTC:20260810T103000
DTEND;TZID=UTC:20260810T113000
DTSTAMP:20260425T135653
CREATED:20250725T161856Z
LAST-MODIFIED:20250725T161856Z
UID:10025610-1786357800-1786361400@fvoas.org
SUMMARY:Wii Bowling
DESCRIPTION:
URL:https://fvoas.org/event/wii-bowling-2-2/2026-08-10/
LOCATION:Fox Valley Community Services (Sandwich)\, 1406 Suydam Rd\, Sandwich\, IL\, 60548\, United States
CATEGORIES:Rec Games
END:VEVENT
BEGIN:VEVENT
DTSTART;TZID=UTC:20260810T123000
DTEND;TZID=UTC:20260810T133000
DTSTAMP:20260425T135653
CREATED:20230614T194352Z
LAST-MODIFIED:20251201T192034Z
UID:10003623-1786365000-1786368600@fvoas.org
SUMMARY:Bingo
DESCRIPTION:Requires a $2.00 fee
URL:https://fvoas.org/event/bingo/2026-08-10/
LOCATION:Fox Valley Community Services (Sandwich)\, 1406 Suydam Rd\, Sandwich\, IL\, 60548\, United States
CATEGORIES:Rec Games
END:VEVENT
BEGIN:VEVENT
DTSTART;TZID=UTC:20260810T133000
DTEND;TZID=UTC:20260810T143000
DTSTAMP:20260425T135653
CREATED:20250428T195309Z
LAST-MODIFIED:20251029T184947Z
UID:10004411-1786368600-1786372200@fvoas.org
SUMMARY:Cards
DESCRIPTION:
URL:https://fvoas.org/event/cards/2026-08-10/
LOCATION:Fox Valley Community Services (Sandwich)\, 1406 Suydam Rd\, Sandwich\, IL\, 60548\, United States
CATEGORIES:Rec Games
END:VEVENT
BEGIN:VEVENT
DTSTART;TZID=UTC:20260811T123000
DTEND;TZID=UTC:20260811T133000
DTSTAMP:20260425T135653
CREATED:20250630T165812Z
LAST-MODIFIED:20260406T181010Z
UID:10025050-1786451400-1786455000@fvoas.org
SUMMARY:Mexican Train
DESCRIPTION:Dominos game!
URL:https://fvoas.org/event/mexican-train-2-2/2026-08-11/
LOCATION:Fox Valley Community Services (Sandwich)\, 1406 Suydam Rd\, Sandwich\, IL\, 60548\, United States
CATEGORIES:Rec Games
END:VEVENT
BEGIN:VEVENT
DTSTART;TZID=UTC:20260812T123000
DTEND;TZID=UTC:20260812T123000
DTSTAMP:20260425T135653
CREATED:20251029T174713Z
LAST-MODIFIED:20251230T164956Z
UID:10026545-1786537800-1786537800@fvoas.org
SUMMARY:Bunco
DESCRIPTION:Requires $2.00 fee.
URL:https://fvoas.org/event/bunko-2-2/2026-08-12/
LOCATION:Fox Valley Community Services (Sandwich)\, 1406 Suydam Rd\, Sandwich\, IL\, 60548\, United States
CATEGORIES:Rec Games
END:VEVENT
BEGIN:VEVENT
DTSTART;TZID=UTC:20260813T100000
DTEND;TZID=UTC:20260813T110000
DTSTAMP:20260425T135653
CREATED:20230614T194812Z
LAST-MODIFIED:20260407T191055Z
UID:10003886-1786615200-1786618800@fvoas.org
SUMMARY:Bingo
DESCRIPTION:Requires $2.00 fee.
URL:https://fvoas.org/event/bingo-2-2/2026-08-13/
LOCATION:Fox Valley Community Services (Sandwich)\, 1406 Suydam Rd\, Sandwich\, IL\, 60548\, United States
CATEGORIES:Rec Games
END:VEVENT
BEGIN:VEVENT
DTSTART;TZID=UTC:20260813T123000
DTEND;TZID=UTC:20260813T133000
DTSTAMP:20260425T135653
CREATED:20230614T195118Z
LAST-MODIFIED:20251029T175128Z
UID:10004840-1786624200-1786627800@fvoas.org
SUMMARY:Cards
DESCRIPTION:
URL:https://fvoas.org/event/cards-2/2026-08-13/
LOCATION:Fox Valley Community Services (Sandwich)\, 1406 Suydam Rd\, Sandwich\, IL\, 60548\, United States
CATEGORIES:Rec Games
END:VEVENT
BEGIN:VEVENT
DTSTART;TZID=UTC:20260814T133000
DTEND;TZID=UTC:20260814T143000
DTSTAMP:20260425T135653
CREATED:20240531T165235Z
LAST-MODIFIED:20251230T162640Z
UID:10024290-1786714200-1786717800@fvoas.org
SUMMARY:Cards
DESCRIPTION:
URL:https://fvoas.org/event/cards-3/2026-08-14/
LOCATION:Fox Valley Community Services (Sandwich)\, 1406 Suydam Rd\, Sandwich\, IL\, 60548\, United States
CATEGORIES:Rec Games
END:VEVENT
BEGIN:VEVENT
DTSTART;TZID=UTC:20260817T103000
DTEND;TZID=UTC:20260817T113000
DTSTAMP:20260425T135653
CREATED:20250725T161856Z
LAST-MODIFIED:20250725T161856Z
UID:10025611-1786962600-1786966200@fvoas.org
SUMMARY:Wii Bowling
DESCRIPTION:
URL:https://fvoas.org/event/wii-bowling-2-2/2026-08-17/
LOCATION:Fox Valley Community Services (Sandwich)\, 1406 Suydam Rd\, Sandwich\, IL\, 60548\, United States
CATEGORIES:Rec Games
END:VEVENT
BEGIN:VEVENT
DTSTART;TZID=UTC:20260817T123000
DTEND;TZID=UTC:20260817T133000
DTSTAMP:20260425T135653
CREATED:20230614T194352Z
LAST-MODIFIED:20251201T192034Z
UID:10003624-1786969800-1786973400@fvoas.org
SUMMARY:Bingo
DESCRIPTION:Requires a $2.00 fee
URL:https://fvoas.org/event/bingo/2026-08-17/
LOCATION:Fox Valley Community Services (Sandwich)\, 1406 Suydam Rd\, Sandwich\, IL\, 60548\, United States
CATEGORIES:Rec Games
END:VEVENT
BEGIN:VEVENT
DTSTART;TZID=UTC:20260817T133000
DTEND;TZID=UTC:20260817T143000
DTSTAMP:20260425T135653
CREATED:20250428T195309Z
LAST-MODIFIED:20251029T184947Z
UID:10004412-1786973400-1786977000@fvoas.org
SUMMARY:Cards
DESCRIPTION:
URL:https://fvoas.org/event/cards/2026-08-17/
LOCATION:Fox Valley Community Services (Sandwich)\, 1406 Suydam Rd\, Sandwich\, IL\, 60548\, United States
CATEGORIES:Rec Games
END:VEVENT
BEGIN:VEVENT
DTSTART;TZID=UTC:20260818T121500
DTEND;TZID=UTC:20260818T131500
DTSTAMP:20260425T135653
CREATED:20260406T181016Z
LAST-MODIFIED:20260406T181143Z
UID:10031805-1787055300-1787058900@fvoas.org
SUMMARY:Dime Jingle
DESCRIPTION:Join us every other Tuesday for Dime Jingle.
URL:https://fvoas.org/event/dime-jingle-2-2-2-2-2/2026-08-18/
LOCATION:Fox Valley Community Services (Sandwich)\, 1406 Suydam Rd\, Sandwich\, IL\, 60548\, United States
CATEGORIES:Rec Games
END:VEVENT
BEGIN:VEVENT
DTSTART;TZID=UTC:20260819T123000
DTEND;TZID=UTC:20260819T123000
DTSTAMP:20260425T135653
CREATED:20251029T174713Z
LAST-MODIFIED:20251230T164956Z
UID:10026546-1787142600-1787142600@fvoas.org
SUMMARY:Bunco
DESCRIPTION:Requires $2.00 fee.
URL:https://fvoas.org/event/bunko-2-2/2026-08-19/
LOCATION:Fox Valley Community Services (Sandwich)\, 1406 Suydam Rd\, Sandwich\, IL\, 60548\, United States
CATEGORIES:Rec Games
END:VEVENT
BEGIN:VEVENT
DTSTART;TZID=UTC:20260820T100000
DTEND;TZID=UTC:20260820T110000
DTSTAMP:20260425T135653
CREATED:20230614T194812Z
LAST-MODIFIED:20260407T191055Z
UID:10003887-1787220000-1787223600@fvoas.org
SUMMARY:Bingo
DESCRIPTION:Requires $2.00 fee.
URL:https://fvoas.org/event/bingo-2-2/2026-08-20/
LOCATION:Fox Valley Community Services (Sandwich)\, 1406 Suydam Rd\, Sandwich\, IL\, 60548\, United States
CATEGORIES:Rec Games
END:VEVENT
BEGIN:VEVENT
DTSTART;TZID=UTC:20260820T123000
DTEND;TZID=UTC:20260820T133000
DTSTAMP:20260425T135653
CREATED:20230614T195118Z
LAST-MODIFIED:20251029T175128Z
UID:10004842-1787229000-1787232600@fvoas.org
SUMMARY:Cards
DESCRIPTION:
URL:https://fvoas.org/event/cards-2/2026-08-20/
LOCATION:Fox Valley Community Services (Sandwich)\, 1406 Suydam Rd\, Sandwich\, IL\, 60548\, United States
CATEGORIES:Rec Games
END:VEVENT
BEGIN:VEVENT
DTSTART;TZID=UTC:20260821T133000
DTEND;TZID=UTC:20260821T143000
DTSTAMP:20260425T135653
CREATED:20240531T165235Z
LAST-MODIFIED:20251230T162640Z
UID:10024291-1787319000-1787322600@fvoas.org
SUMMARY:Cards
DESCRIPTION:
URL:https://fvoas.org/event/cards-3/2026-08-21/
LOCATION:Fox Valley Community Services (Sandwich)\, 1406 Suydam Rd\, Sandwich\, IL\, 60548\, United States
CATEGORIES:Rec Games
END:VEVENT
BEGIN:VEVENT
DTSTART;TZID=UTC:20260824T103000
DTEND;TZID=UTC:20260824T113000
DTSTAMP:20260425T135653
CREATED:20250725T161856Z
LAST-MODIFIED:20250725T161856Z
UID:10025612-1787567400-1787571000@fvoas.org
SUMMARY:Wii Bowling
DESCRIPTION:
URL:https://fvoas.org/event/wii-bowling-2-2/2026-08-24/
LOCATION:Fox Valley Community Services (Sandwich)\, 1406 Suydam Rd\, Sandwich\, IL\, 60548\, United States
CATEGORIES:Rec Games
END:VEVENT
BEGIN:VEVENT
DTSTART;TZID=UTC:20260824T123000
DTEND;TZID=UTC:20260824T133000
DTSTAMP:20260425T135653
CREATED:20230614T194352Z
LAST-MODIFIED:20251201T192034Z
UID:10003625-1787574600-1787578200@fvoas.org
SUMMARY:Bingo
DESCRIPTION:Requires a $2.00 fee
URL:https://fvoas.org/event/bingo/2026-08-24/
LOCATION:Fox Valley Community Services (Sandwich)\, 1406 Suydam Rd\, Sandwich\, IL\, 60548\, United States
CATEGORIES:Rec Games
END:VEVENT
BEGIN:VEVENT
DTSTART;TZID=UTC:20260824T133000
DTEND;TZID=UTC:20260824T143000
DTSTAMP:20260425T135653
CREATED:20250428T195309Z
LAST-MODIFIED:20251029T184947Z
UID:10004413-1787578200-1787581800@fvoas.org
SUMMARY:Cards
DESCRIPTION:
URL:https://fvoas.org/event/cards/2026-08-24/
LOCATION:Fox Valley Community Services (Sandwich)\, 1406 Suydam Rd\, Sandwich\, IL\, 60548\, United States
CATEGORIES:Rec Games
END:VEVENT
BEGIN:VEVENT
DTSTART;TZID=UTC:20260825T123000
DTEND;TZID=UTC:20260825T133000
DTSTAMP:20260425T135653
CREATED:20250630T165858Z
LAST-MODIFIED:20250630T183105Z
UID:10025382-1787661000-1787664600@fvoas.org
SUMMARY:Mexican Train
DESCRIPTION:Dominos game!
URL:https://fvoas.org/event/mexican-train-2-3/2026-08-25/
LOCATION:Fox Valley Community Services (Sandwich)\, 1406 Suydam Rd\, Sandwich\, IL\, 60548\, United States
CATEGORIES:Rec Games
END:VEVENT
BEGIN:VEVENT
DTSTART;TZID=UTC:20260826T123000
DTEND;TZID=UTC:20260826T123000
DTSTAMP:20260425T135653
CREATED:20251029T174713Z
LAST-MODIFIED:20251230T164956Z
UID:10026547-1787747400-1787747400@fvoas.org
SUMMARY:Bunco
DESCRIPTION:Requires $2.00 fee.
URL:https://fvoas.org/event/bunko-2-2/2026-08-26/
LOCATION:Fox Valley Community Services (Sandwich)\, 1406 Suydam Rd\, Sandwich\, IL\, 60548\, United States
CATEGORIES:Rec Games
END:VEVENT
END:VCALENDAR