BEGIN:VCALENDAR
VERSION:2.0
PRODID:-//Fox Valley Community Services - ECPv6.15.20//NONSGML v1.0//EN
CALSCALE:GREGORIAN
METHOD:PUBLISH
X-WR-CALNAME:Fox Valley Community Services
X-ORIGINAL-URL:https://fvoas.org
X-WR-CALDESC:Events for Fox Valley Community Services
REFRESH-INTERVAL;VALUE=DURATION:PT1H
X-Robots-Tag:noindex
X-PUBLISHED-TTL:PT1H
BEGIN:VTIMEZONE
TZID:UTC
BEGIN:STANDARD
TZOFFSETFROM:+0000
TZOFFSETTO:+0000
TZNAME:UTC
DTSTART:20250101T000000
END:STANDARD
END:VTIMEZONE
BEGIN:VEVENT
DTSTART;TZID=UTC:20260622T133000
DTEND;TZID=UTC:20260622T143000
DTSTAMP:20260423T063704
CREATED:20250428T195309Z
LAST-MODIFIED:20251029T184947Z
UID:10004404-1782135000-1782138600@fvoas.org
SUMMARY:Cards
DESCRIPTION:
URL:https://fvoas.org/event/cards/2026-06-22/
LOCATION:Fox Valley Community Services (Sandwich)\, 1406 Suydam Rd\, Sandwich\, IL\, 60548\, United States
CATEGORIES:Rec Games
END:VEVENT
BEGIN:VEVENT
DTSTART;TZID=UTC:20260624T123000
DTEND;TZID=UTC:20260624T123000
DTSTAMP:20260423T063704
CREATED:20251029T174713Z
LAST-MODIFIED:20251230T164956Z
UID:10026538-1782304200-1782304200@fvoas.org
SUMMARY:Bunco
DESCRIPTION:Requires $2.00 fee.
URL:https://fvoas.org/event/bunko-2-2/2026-06-24/
LOCATION:Fox Valley Community Services (Sandwich)\, 1406 Suydam Rd\, Sandwich\, IL\, 60548\, United States
CATEGORIES:Rec Games
END:VEVENT
BEGIN:VEVENT
DTSTART;TZID=UTC:20260624T133000
DTEND;TZID=UTC:20260624T143000
DTSTAMP:20260423T063704
CREATED:20260406T181808Z
LAST-MODIFIED:20260407T191205Z
UID:10032220-1782307800-1782311400@fvoas.org
SUMMARY:Swoop
DESCRIPTION:Card Game
URL:https://fvoas.org/event/swoop/2026-06-24/
LOCATION:Fox Valley Community Services (Sandwich)\, 1406 Suydam Rd\, Sandwich\, IL\, 60548\, United States
CATEGORIES:Rec Games
END:VEVENT
BEGIN:VEVENT
DTSTART;TZID=UTC:20260625T100000
DTEND;TZID=UTC:20260625T110000
DTSTAMP:20260423T063704
CREATED:20230614T194812Z
LAST-MODIFIED:20260407T191055Z
UID:10003879-1782381600-1782385200@fvoas.org
SUMMARY:Bingo
DESCRIPTION:Requires $2.00 fee.
URL:https://fvoas.org/event/bingo-2-2/2026-06-25/
LOCATION:Fox Valley Community Services (Sandwich)\, 1406 Suydam Rd\, Sandwich\, IL\, 60548\, United States
CATEGORIES:Rec Games
END:VEVENT
BEGIN:VEVENT
DTSTART;TZID=UTC:20260625T123000
DTEND;TZID=UTC:20260625T133000
DTSTAMP:20260423T063704
CREATED:20230614T195118Z
LAST-MODIFIED:20251029T175128Z
UID:10004826-1782390600-1782394200@fvoas.org
SUMMARY:Cards
DESCRIPTION:
URL:https://fvoas.org/event/cards-2/2026-06-25/
LOCATION:Fox Valley Community Services (Sandwich)\, 1406 Suydam Rd\, Sandwich\, IL\, 60548\, United States
CATEGORIES:Rec Games
END:VEVENT
BEGIN:VEVENT
DTSTART;TZID=UTC:20260626T133000
DTEND;TZID=UTC:20260626T143000
DTSTAMP:20260423T063704
CREATED:20240531T165235Z
LAST-MODIFIED:20251230T162640Z
UID:10024283-1782480600-1782484200@fvoas.org
SUMMARY:Cards
DESCRIPTION:
URL:https://fvoas.org/event/cards-3/2026-06-26/
LOCATION:Fox Valley Community Services (Sandwich)\, 1406 Suydam Rd\, Sandwich\, IL\, 60548\, United States
CATEGORIES:Rec Games
END:VEVENT
BEGIN:VEVENT
DTSTART;TZID=UTC:20260629T103000
DTEND;TZID=UTC:20260629T113000
DTSTAMP:20260423T063704
CREATED:20250725T161856Z
LAST-MODIFIED:20250725T161856Z
UID:10025604-1782729000-1782732600@fvoas.org
SUMMARY:Wii Bowling
DESCRIPTION:
URL:https://fvoas.org/event/wii-bowling-2-2/2026-06-29/
LOCATION:Fox Valley Community Services (Sandwich)\, 1406 Suydam Rd\, Sandwich\, IL\, 60548\, United States
CATEGORIES:Rec Games
END:VEVENT
BEGIN:VEVENT
DTSTART;TZID=UTC:20260629T123000
DTEND;TZID=UTC:20260629T133000
DTSTAMP:20260423T063704
CREATED:20230614T194352Z
LAST-MODIFIED:20251201T192034Z
UID:10003617-1782736200-1782739800@fvoas.org
SUMMARY:Bingo
DESCRIPTION:Requires a $2.00 fee
URL:https://fvoas.org/event/bingo/2026-06-29/
LOCATION:Fox Valley Community Services (Sandwich)\, 1406 Suydam Rd\, Sandwich\, IL\, 60548\, United States
CATEGORIES:Rec Games
END:VEVENT
BEGIN:VEVENT
DTSTART;TZID=UTC:20260629T133000
DTEND;TZID=UTC:20260629T143000
DTSTAMP:20260423T063704
CREATED:20250428T195309Z
LAST-MODIFIED:20251029T184947Z
UID:10004405-1782739800-1782743400@fvoas.org
SUMMARY:Cards
DESCRIPTION:
URL:https://fvoas.org/event/cards/2026-06-29/
LOCATION:Fox Valley Community Services (Sandwich)\, 1406 Suydam Rd\, Sandwich\, IL\, 60548\, United States
CATEGORIES:Rec Games
END:VEVENT
BEGIN:VEVENT
DTSTART;TZID=UTC:20260630T123000
DTEND;TZID=UTC:20260630T133000
DTSTAMP:20260423T063704
CREATED:20250630T165858Z
LAST-MODIFIED:20250630T183105Z
UID:10025380-1782822600-1782826200@fvoas.org
SUMMARY:Mexican Train
DESCRIPTION:Dominos game!
URL:https://fvoas.org/event/mexican-train-2-3/2026-06-30/
LOCATION:Fox Valley Community Services (Sandwich)\, 1406 Suydam Rd\, Sandwich\, IL\, 60548\, United States
CATEGORIES:Rec Games
END:VEVENT
BEGIN:VEVENT
DTSTART;TZID=UTC:20260701T123000
DTEND;TZID=UTC:20260701T123000
DTSTAMP:20260423T063704
CREATED:20251029T174713Z
LAST-MODIFIED:20251230T164956Z
UID:10026539-1782909000-1782909000@fvoas.org
SUMMARY:Bunco
DESCRIPTION:Requires $2.00 fee.
URL:https://fvoas.org/event/bunko-2-2/2026-07-01/
LOCATION:Fox Valley Community Services (Sandwich)\, 1406 Suydam Rd\, Sandwich\, IL\, 60548\, United States
CATEGORIES:Rec Games
END:VEVENT
BEGIN:VEVENT
DTSTART;TZID=UTC:20260702T100000
DTEND;TZID=UTC:20260702T110000
DTSTAMP:20260423T063704
CREATED:20230614T194812Z
LAST-MODIFIED:20260407T191055Z
UID:10003880-1782986400-1782990000@fvoas.org
SUMMARY:Bingo
DESCRIPTION:Requires $2.00 fee.
URL:https://fvoas.org/event/bingo-2-2/2026-07-02/
LOCATION:Fox Valley Community Services (Sandwich)\, 1406 Suydam Rd\, Sandwich\, IL\, 60548\, United States
CATEGORIES:Rec Games
END:VEVENT
BEGIN:VEVENT
DTSTART;TZID=UTC:20260702T123000
DTEND;TZID=UTC:20260702T133000
DTSTAMP:20260423T063704
CREATED:20230614T195118Z
LAST-MODIFIED:20251029T175128Z
UID:10004828-1782995400-1782999000@fvoas.org
SUMMARY:Cards
DESCRIPTION:
URL:https://fvoas.org/event/cards-2/2026-07-02/
LOCATION:Fox Valley Community Services (Sandwich)\, 1406 Suydam Rd\, Sandwich\, IL\, 60548\, United States
CATEGORIES:Rec Games
END:VEVENT
BEGIN:VEVENT
DTSTART;TZID=UTC:20260703T133000
DTEND;TZID=UTC:20260703T143000
DTSTAMP:20260423T063704
CREATED:20240531T165235Z
LAST-MODIFIED:20251230T162640Z
UID:10024284-1783085400-1783089000@fvoas.org
SUMMARY:Cards
DESCRIPTION:
URL:https://fvoas.org/event/cards-3/2026-07-03/
LOCATION:Fox Valley Community Services (Sandwich)\, 1406 Suydam Rd\, Sandwich\, IL\, 60548\, United States
CATEGORIES:Rec Games
END:VEVENT
BEGIN:VEVENT
DTSTART;TZID=UTC:20260706T103000
DTEND;TZID=UTC:20260706T113000
DTSTAMP:20260423T063704
CREATED:20250725T161856Z
LAST-MODIFIED:20250725T161856Z
UID:10025605-1783333800-1783337400@fvoas.org
SUMMARY:Wii Bowling
DESCRIPTION:
URL:https://fvoas.org/event/wii-bowling-2-2/2026-07-06/
LOCATION:Fox Valley Community Services (Sandwich)\, 1406 Suydam Rd\, Sandwich\, IL\, 60548\, United States
CATEGORIES:Rec Games
END:VEVENT
BEGIN:VEVENT
DTSTART;TZID=UTC:20260706T123000
DTEND;TZID=UTC:20260706T133000
DTSTAMP:20260423T063704
CREATED:20230614T194352Z
LAST-MODIFIED:20251201T192034Z
UID:10003618-1783341000-1783344600@fvoas.org
SUMMARY:Bingo
DESCRIPTION:Requires a $2.00 fee
URL:https://fvoas.org/event/bingo/2026-07-06/
LOCATION:Fox Valley Community Services (Sandwich)\, 1406 Suydam Rd\, Sandwich\, IL\, 60548\, United States
CATEGORIES:Rec Games
END:VEVENT
BEGIN:VEVENT
DTSTART;TZID=UTC:20260706T133000
DTEND;TZID=UTC:20260706T143000
DTSTAMP:20260423T063704
CREATED:20250428T195309Z
LAST-MODIFIED:20251029T184947Z
UID:10004406-1783344600-1783348200@fvoas.org
SUMMARY:Cards
DESCRIPTION:
URL:https://fvoas.org/event/cards/2026-07-06/
LOCATION:Fox Valley Community Services (Sandwich)\, 1406 Suydam Rd\, Sandwich\, IL\, 60548\, United States
CATEGORIES:Rec Games
END:VEVENT
BEGIN:VEVENT
DTSTART;TZID=UTC:20260708T123000
DTEND;TZID=UTC:20260708T123000
DTSTAMP:20260423T063704
CREATED:20251029T174713Z
LAST-MODIFIED:20251230T164956Z
UID:10026540-1783513800-1783513800@fvoas.org
SUMMARY:Bunco
DESCRIPTION:Requires $2.00 fee.
URL:https://fvoas.org/event/bunko-2-2/2026-07-08/
LOCATION:Fox Valley Community Services (Sandwich)\, 1406 Suydam Rd\, Sandwich\, IL\, 60548\, United States
CATEGORIES:Rec Games
END:VEVENT
BEGIN:VEVENT
DTSTART;TZID=UTC:20260709T100000
DTEND;TZID=UTC:20260709T110000
DTSTAMP:20260423T063704
CREATED:20230614T194812Z
LAST-MODIFIED:20260407T191055Z
UID:10003881-1783591200-1783594800@fvoas.org
SUMMARY:Bingo
DESCRIPTION:Requires $2.00 fee.
URL:https://fvoas.org/event/bingo-2-2/2026-07-09/
LOCATION:Fox Valley Community Services (Sandwich)\, 1406 Suydam Rd\, Sandwich\, IL\, 60548\, United States
CATEGORIES:Rec Games
END:VEVENT
BEGIN:VEVENT
DTSTART;TZID=UTC:20260709T123000
DTEND;TZID=UTC:20260709T133000
DTSTAMP:20260423T063704
CREATED:20230614T195118Z
LAST-MODIFIED:20251029T175128Z
UID:10004830-1783600200-1783603800@fvoas.org
SUMMARY:Cards
DESCRIPTION:
URL:https://fvoas.org/event/cards-2/2026-07-09/
LOCATION:Fox Valley Community Services (Sandwich)\, 1406 Suydam Rd\, Sandwich\, IL\, 60548\, United States
CATEGORIES:Rec Games
END:VEVENT
BEGIN:VEVENT
DTSTART;TZID=UTC:20260710T133000
DTEND;TZID=UTC:20260710T143000
DTSTAMP:20260423T063704
CREATED:20240531T165235Z
LAST-MODIFIED:20251230T162640Z
UID:10024285-1783690200-1783693800@fvoas.org
SUMMARY:Cards
DESCRIPTION:
URL:https://fvoas.org/event/cards-3/2026-07-10/
LOCATION:Fox Valley Community Services (Sandwich)\, 1406 Suydam Rd\, Sandwich\, IL\, 60548\, United States
CATEGORIES:Rec Games
END:VEVENT
BEGIN:VEVENT
DTSTART;TZID=UTC:20260713T103000
DTEND;TZID=UTC:20260713T113000
DTSTAMP:20260423T063704
CREATED:20250725T161856Z
LAST-MODIFIED:20250725T161856Z
UID:10025606-1783938600-1783942200@fvoas.org
SUMMARY:Wii Bowling
DESCRIPTION:
URL:https://fvoas.org/event/wii-bowling-2-2/2026-07-13/
LOCATION:Fox Valley Community Services (Sandwich)\, 1406 Suydam Rd\, Sandwich\, IL\, 60548\, United States
CATEGORIES:Rec Games
END:VEVENT
BEGIN:VEVENT
DTSTART;TZID=UTC:20260713T123000
DTEND;TZID=UTC:20260713T133000
DTSTAMP:20260423T063704
CREATED:20230614T194352Z
LAST-MODIFIED:20251201T192034Z
UID:10003619-1783945800-1783949400@fvoas.org
SUMMARY:Bingo
DESCRIPTION:Requires a $2.00 fee
URL:https://fvoas.org/event/bingo/2026-07-13/
LOCATION:Fox Valley Community Services (Sandwich)\, 1406 Suydam Rd\, Sandwich\, IL\, 60548\, United States
CATEGORIES:Rec Games
END:VEVENT
BEGIN:VEVENT
DTSTART;TZID=UTC:20260713T133000
DTEND;TZID=UTC:20260713T143000
DTSTAMP:20260423T063704
CREATED:20250428T195309Z
LAST-MODIFIED:20251029T184947Z
UID:10004407-1783949400-1783953000@fvoas.org
SUMMARY:Cards
DESCRIPTION:
URL:https://fvoas.org/event/cards/2026-07-13/
LOCATION:Fox Valley Community Services (Sandwich)\, 1406 Suydam Rd\, Sandwich\, IL\, 60548\, United States
CATEGORIES:Rec Games
END:VEVENT
BEGIN:VEVENT
DTSTART;TZID=UTC:20260714T123000
DTEND;TZID=UTC:20260714T133000
DTSTAMP:20260423T063704
CREATED:20250630T165812Z
LAST-MODIFIED:20260406T181010Z
UID:10025049-1784032200-1784035800@fvoas.org
SUMMARY:Mexican Train
DESCRIPTION:Dominos game!
URL:https://fvoas.org/event/mexican-train-2-2/2026-07-14/
LOCATION:Fox Valley Community Services (Sandwich)\, 1406 Suydam Rd\, Sandwich\, IL\, 60548\, United States
CATEGORIES:Rec Games
END:VEVENT
BEGIN:VEVENT
DTSTART;TZID=UTC:20260715T123000
DTEND;TZID=UTC:20260715T123000
DTSTAMP:20260423T063704
CREATED:20251029T174713Z
LAST-MODIFIED:20251230T164956Z
UID:10026541-1784118600-1784118600@fvoas.org
SUMMARY:Bunco
DESCRIPTION:Requires $2.00 fee.
URL:https://fvoas.org/event/bunko-2-2/2026-07-15/
LOCATION:Fox Valley Community Services (Sandwich)\, 1406 Suydam Rd\, Sandwich\, IL\, 60548\, United States
CATEGORIES:Rec Games
END:VEVENT
BEGIN:VEVENT
DTSTART;TZID=UTC:20260716T100000
DTEND;TZID=UTC:20260716T110000
DTSTAMP:20260423T063704
CREATED:20230614T194812Z
LAST-MODIFIED:20260407T191055Z
UID:10003882-1784196000-1784199600@fvoas.org
SUMMARY:Bingo
DESCRIPTION:Requires $2.00 fee.
URL:https://fvoas.org/event/bingo-2-2/2026-07-16/
LOCATION:Fox Valley Community Services (Sandwich)\, 1406 Suydam Rd\, Sandwich\, IL\, 60548\, United States
CATEGORIES:Rec Games
END:VEVENT
BEGIN:VEVENT
DTSTART;TZID=UTC:20260716T123000
DTEND;TZID=UTC:20260716T133000
DTSTAMP:20260423T063704
CREATED:20230614T195118Z
LAST-MODIFIED:20251029T175128Z
UID:10004832-1784205000-1784208600@fvoas.org
SUMMARY:Cards
DESCRIPTION:
URL:https://fvoas.org/event/cards-2/2026-07-16/
LOCATION:Fox Valley Community Services (Sandwich)\, 1406 Suydam Rd\, Sandwich\, IL\, 60548\, United States
CATEGORIES:Rec Games
END:VEVENT
BEGIN:VEVENT
DTSTART;TZID=UTC:20260717T133000
DTEND;TZID=UTC:20260717T143000
DTSTAMP:20260423T063704
CREATED:20240531T165235Z
LAST-MODIFIED:20251230T162640Z
UID:10024286-1784295000-1784298600@fvoas.org
SUMMARY:Cards
DESCRIPTION:
URL:https://fvoas.org/event/cards-3/2026-07-17/
LOCATION:Fox Valley Community Services (Sandwich)\, 1406 Suydam Rd\, Sandwich\, IL\, 60548\, United States
CATEGORIES:Rec Games
END:VEVENT
BEGIN:VEVENT
DTSTART;TZID=UTC:20260720T103000
DTEND;TZID=UTC:20260720T113000
DTSTAMP:20260423T063704
CREATED:20250725T161856Z
LAST-MODIFIED:20250725T161856Z
UID:10025607-1784543400-1784547000@fvoas.org
SUMMARY:Wii Bowling
DESCRIPTION:
URL:https://fvoas.org/event/wii-bowling-2-2/2026-07-20/
LOCATION:Fox Valley Community Services (Sandwich)\, 1406 Suydam Rd\, Sandwich\, IL\, 60548\, United States
CATEGORIES:Rec Games
END:VEVENT
END:VCALENDAR