BEGIN:VCALENDAR
VERSION:2.0
PRODID:-//Fox Valley Community Services - ECPv6.15.20//NONSGML v1.0//EN
CALSCALE:GREGORIAN
METHOD:PUBLISH
X-ORIGINAL-URL:https://fvoas.org
X-WR-CALDESC:Events for Fox Valley Community Services
REFRESH-INTERVAL;VALUE=DURATION:PT1H
X-Robots-Tag:noindex
X-PUBLISHED-TTL:PT1H
BEGIN:VTIMEZONE
TZID:UTC
BEGIN:STANDARD
TZOFFSETFROM:+0000
TZOFFSETTO:+0000
TZNAME:UTC
DTSTART:20250101T000000
END:STANDARD
END:VTIMEZONE
BEGIN:VEVENT
DTSTART;TZID=UTC:20260324T080000
DTEND;TZID=UTC:20260324T090000
DTSTAMP:20260422T220838
CREATED:20230614T200534Z
LAST-MODIFIED:20251029T185218Z
UID:10006734-1774339200-1774342800@fvoas.org
SUMMARY:Men's Breakfast
DESCRIPTION:JOIN Voluntary Action Center for their esteemed Men`s Breakfast \nRequires $7.00 fee.
URL:https://fvoas.org/event/mens-breakfast/2026-03-24/
LOCATION:Fox Valley Community Services (Sandwich)\, 1406 Suydam Rd\, Sandwich\, IL\, 60548\, United States
CATEGORIES:Social Activities
END:VEVENT
BEGIN:VEVENT
DTSTART;TZID=UTC:20260324T083000
DTEND;TZID=UTC:20260324T093000
DTSTAMP:20260422T220838
CREATED:20230614T200048Z
LAST-MODIFIED:20241205T175004Z
UID:10017971-1774341000-1774344600@fvoas.org
SUMMARY:Bible Study
DESCRIPTION:
URL:https://fvoas.org/event/bible-study/2026-03-24/
LOCATION:Fox Valley Community Services (Sandwich)\, 1406 Suydam Rd\, Sandwich\, IL\, 60548\, United States
CATEGORIES:Social Activities
END:VEVENT
BEGIN:VEVENT
DTSTART;TZID=UTC:20260324T090000
DTEND;TZID=UTC:20260324T100000
DTSTAMP:20260422T220838
CREATED:20251202T144804Z
LAST-MODIFIED:20251202T145557Z
UID:10029116-1774342800-1774346400@fvoas.org
SUMMARY:Garden Club
DESCRIPTION:FVCS Garden Club is a hands-on\, all-experience-level group learning to grow together. We trade tips\, tricks\, and skills from seed starting and soil health to staking\, pruning\, and harvesting growing confidence\, friendships\, and great food along the way. In the spirit of FVCS’s mission to enrich one’s journey of life\, join us to dig in\, share what you know\, and learn something new.
URL:https://fvoas.org/event/garden-club/2026-03-24/
LOCATION:Fox Valley Community Services (Sandwich)\, 1406 Suydam Rd\, Sandwich\, IL\, 60548\, United States
CATEGORIES:Social Activities
ATTACH;FMTTYPE=image/png:https://fvoas.org/wp-content/uploads/2025/12/2.png
END:VEVENT
BEGIN:VEVENT
DTSTART;TZID=UTC:20260324T103000
DTEND;TZID=UTC:20260324T113000
DTSTAMP:20260422T220838
CREATED:20251201T184156Z
LAST-MODIFIED:20251230T164732Z
UID:10015066-1774348200-1774351800@fvoas.org
SUMMARY:Everyone Has A Story
DESCRIPTION:
URL:https://fvoas.org/event/everyone-has-a-story-2-2-2-2/2026-03-24/
LOCATION:Fox Valley Community Services (Sandwich)\, 1406 Suydam Rd\, Sandwich\, IL\, 60548\, United States
CATEGORIES:Social Activities
END:VEVENT
END:VCALENDAR