BEGIN:VCALENDAR
VERSION:2.0
PRODID:-//Fox Valley Community Services - ECPv6.15.20//NONSGML v1.0//EN
CALSCALE:GREGORIAN
METHOD:PUBLISH
X-ORIGINAL-URL:https://fvoas.org
X-WR-CALDESC:Events for Fox Valley Community Services
REFRESH-INTERVAL;VALUE=DURATION:PT1H
X-Robots-Tag:noindex
X-PUBLISHED-TTL:PT1H
BEGIN:VTIMEZONE
TZID:UTC
BEGIN:STANDARD
TZOFFSETFROM:+0000
TZOFFSETTO:+0000
TZNAME:UTC
DTSTART:20250101T000000
END:STANDARD
END:VTIMEZONE
BEGIN:VEVENT
DTSTART;TZID=UTC:20260417T133000
DTEND;TZID=UTC:20260417T150000
DTSTAMP:20260423T015124
CREATED:20260203T145457Z
LAST-MODIFIED:20260203T145500Z
UID:10031277-1776432600-1776438000@fvoas.org
SUMMARY:Happy Hatz Workshop
DESCRIPTION:
URL:https://fvoas.org/event/happy-hatz-workshop-2-2-2-2-2/2026-04-17/
LOCATION:Fox Valley Community Services (Sandwich)\, 1406 Suydam Rd\, Sandwich\, IL\, 60548\, United States
CATEGORIES:Social Activities
END:VEVENT
END:VCALENDAR