BEGIN:VCALENDAR
VERSION:2.0
PRODID:-//Fox Valley Community Services - ECPv6.15.20//NONSGML v1.0//EN
CALSCALE:GREGORIAN
METHOD:PUBLISH
X-WR-CALNAME:Fox Valley Community Services
X-ORIGINAL-URL:https://fvoas.org
X-WR-CALDESC:Events for Fox Valley Community Services
REFRESH-INTERVAL;VALUE=DURATION:PT1H
X-Robots-Tag:noindex
X-PUBLISHED-TTL:PT1H
BEGIN:VTIMEZONE
TZID:UTC
BEGIN:STANDARD
TZOFFSETFROM:+0000
TZOFFSETTO:+0000
TZNAME:UTC
DTSTART:20250101T000000
END:STANDARD
END:VTIMEZONE
BEGIN:VEVENT
DTSTART;TZID=UTC:20260420T133000
DTEND;TZID=UTC:20260420T143000
DTSTAMP:20260420T121312
CREATED:20251029T180503Z
LAST-MODIFIED:20251029T185339Z
UID:10027812-1776691800-1776695400@fvoas.org
SUMMARY:Hookers Workshop
DESCRIPTION:Whether you are advanced or learning to crotchet please join our hooker’s workshop to advance your crocheting skills.
URL:https://fvoas.org/event/hookers-workshop/2026-04-20/
LOCATION:Fox Valley Community Services (Sandwich)\, 1406 Suydam Rd\, Sandwich\, IL\, 60548\, United States
CATEGORIES:Social Activities
END:VEVENT
BEGIN:VEVENT
DTSTART;TZID=UTC:20260421T080000
DTEND;TZID=UTC:20260421T090000
DTSTAMP:20260420T121312
CREATED:20230614T200534Z
LAST-MODIFIED:20251029T185218Z
UID:10006738-1776758400-1776762000@fvoas.org
SUMMARY:Men's Breakfast
DESCRIPTION:JOIN Voluntary Action Center for their esteemed Men`s Breakfast \nRequires $7.00 fee.
URL:https://fvoas.org/event/mens-breakfast/2026-04-21/
LOCATION:Fox Valley Community Services (Sandwich)\, 1406 Suydam Rd\, Sandwich\, IL\, 60548\, United States
CATEGORIES:Social Activities
END:VEVENT
BEGIN:VEVENT
DTSTART;TZID=UTC:20260421T083000
DTEND;TZID=UTC:20260421T093000
DTSTAMP:20260420T121312
CREATED:20230614T200048Z
LAST-MODIFIED:20241205T175004Z
UID:10017975-1776760200-1776763800@fvoas.org
SUMMARY:Bible Study
DESCRIPTION:
URL:https://fvoas.org/event/bible-study/2026-04-21/
LOCATION:Fox Valley Community Services (Sandwich)\, 1406 Suydam Rd\, Sandwich\, IL\, 60548\, United States
CATEGORIES:Social Activities
END:VEVENT
BEGIN:VEVENT
DTSTART;TZID=UTC:20260423T121500
DTEND;TZID=UTC:20260423T133000
DTSTAMP:20260420T121312
CREATED:20231127T152508Z
LAST-MODIFIED:20260406T181354Z
UID:10025975-1776946500-1776951000@fvoas.org
SUMMARY:Bean Bag Baseball
DESCRIPTION:⚾️ Join Us for Bean Bag Baseball Every Thursday! ⚾️ \n🎉 It’s all about fun\, laughter\, and friendly competition at Fox Valley Community Services! We’re thrilled to invite you to our weekly Bean Bag Baseball game—an exciting blend of classic baseball and cornhole that’s become a community favorite. \nWhen? Every Thursday\, right after lunch at 12:30 PM \n📍 Where? At Fox Valley Community Services \n🌟 Style: Played on a cornhole-style board\, but with a baseball twist!\n🌀 Teams: Play as part of a dynamic team\, aiming to score the most points.\n🎯 Objective: Score like in baseball\, but with bean bags and strategic throws.\n⏳ Duration: A full game runs for 9 innings—may the best team win! \n 
URL:https://fvoas.org/event/bean-bag-baseball/2026-04-23/
LOCATION:Fox Valley Community Services (Sandwich)\, 1406 Suydam Rd\, Sandwich\, IL\, 60548\, United States
CATEGORIES:Social Activities
END:VEVENT
BEGIN:VEVENT
DTSTART;TZID=UTC:20260423T133000
DTEND;TZID=UTC:20260423T143000
DTSTAMP:20260420T121312
CREATED:20251229T191841Z
LAST-MODIFIED:20251229T191844Z
UID:10029181-1776951000-1776954600@fvoas.org
SUMMARY:Pinterest Picks Crafting Group
DESCRIPTION:
URL:https://fvoas.org/event/pinterest-picks-crafting-group-3-2-2-2/2026-04-23/
LOCATION:Fox Valley Community Services (Sandwich)\, 1406 Suydam Rd\, Sandwich\, IL\, 60548\, United States
CATEGORIES:Social Activities
END:VEVENT
BEGIN:VEVENT
DTSTART;TZID=UTC:20260427T133000
DTEND;TZID=UTC:20260427T143000
DTSTAMP:20260420T121312
CREATED:20251029T180503Z
LAST-MODIFIED:20251029T185339Z
UID:10027813-1777296600-1777300200@fvoas.org
SUMMARY:Hookers Workshop
DESCRIPTION:Whether you are advanced or learning to crotchet please join our hooker’s workshop to advance your crocheting skills.
URL:https://fvoas.org/event/hookers-workshop/2026-04-27/
LOCATION:Fox Valley Community Services (Sandwich)\, 1406 Suydam Rd\, Sandwich\, IL\, 60548\, United States
CATEGORIES:Social Activities
END:VEVENT
BEGIN:VEVENT
DTSTART;TZID=UTC:20260428T080000
DTEND;TZID=UTC:20260428T090000
DTSTAMP:20260420T121312
CREATED:20230614T200534Z
LAST-MODIFIED:20251029T185218Z
UID:10006739-1777363200-1777366800@fvoas.org
SUMMARY:Men's Breakfast
DESCRIPTION:JOIN Voluntary Action Center for their esteemed Men`s Breakfast \nRequires $7.00 fee.
URL:https://fvoas.org/event/mens-breakfast/2026-04-28/
LOCATION:Fox Valley Community Services (Sandwich)\, 1406 Suydam Rd\, Sandwich\, IL\, 60548\, United States
CATEGORIES:Social Activities
END:VEVENT
BEGIN:VEVENT
DTSTART;TZID=UTC:20260428T083000
DTEND;TZID=UTC:20260428T093000
DTSTAMP:20260420T121312
CREATED:20230614T200048Z
LAST-MODIFIED:20241205T175004Z
UID:10017976-1777365000-1777368600@fvoas.org
SUMMARY:Bible Study
DESCRIPTION:
URL:https://fvoas.org/event/bible-study/2026-04-28/
LOCATION:Fox Valley Community Services (Sandwich)\, 1406 Suydam Rd\, Sandwich\, IL\, 60548\, United States
CATEGORIES:Social Activities
END:VEVENT
BEGIN:VEVENT
DTSTART;TZID=UTC:20260428T090000
DTEND;TZID=UTC:20260428T100000
DTSTAMP:20260420T121312
CREATED:20251202T144804Z
LAST-MODIFIED:20251202T145557Z
UID:10029117-1777366800-1777370400@fvoas.org
SUMMARY:Garden Club
DESCRIPTION:FVCS Garden Club is a hands-on\, all-experience-level group learning to grow together. We trade tips\, tricks\, and skills from seed starting and soil health to staking\, pruning\, and harvesting growing confidence\, friendships\, and great food along the way. In the spirit of FVCS’s mission to enrich one’s journey of life\, join us to dig in\, share what you know\, and learn something new.
URL:https://fvoas.org/event/garden-club/2026-04-28/
LOCATION:Fox Valley Community Services (Sandwich)\, 1406 Suydam Rd\, Sandwich\, IL\, 60548\, United States
CATEGORIES:Social Activities
ATTACH;FMTTYPE=image/png:https://fvoas.org/wp-content/uploads/2025/12/2.png
END:VEVENT
BEGIN:VEVENT
DTSTART;TZID=UTC:20260428T103000
DTEND;TZID=UTC:20260428T113000
DTSTAMP:20260420T121312
CREATED:20251201T184156Z
LAST-MODIFIED:20251230T164732Z
UID:10015067-1777372200-1777375800@fvoas.org
SUMMARY:Everyone Has A Story
DESCRIPTION:
URL:https://fvoas.org/event/everyone-has-a-story-2-2-2-2/2026-04-28/
LOCATION:Fox Valley Community Services (Sandwich)\, 1406 Suydam Rd\, Sandwich\, IL\, 60548\, United States
CATEGORIES:Social Activities
END:VEVENT
BEGIN:VEVENT
DTSTART;TZID=UTC:20260430T100000
DTEND;TZID=UTC:20260430T100000
DTSTAMP:20260420T121312
CREATED:20260327T171556Z
LAST-MODIFIED:20260327T180132Z
UID:10031335-1777543200-1777543200@fvoas.org
SUMMARY:Swing into Spring
DESCRIPTION:Come for Bingo Stay for the FUN:\n\nBingo at 10 AM\nLunch provided by VAC\, be sure to sign up with Sallie\nEntertainment starts at 12:30\, taking us through the bandstand days.
URL:https://fvoas.org/event/swing-into-spring/
LOCATION:IL
CATEGORIES:Entertainment,Social Activities
ATTACH;FMTTYPE=image/jpeg:https://fvoas.org/wp-content/uploads/2026/03/Swing-into-spring.jpg
END:VEVENT
BEGIN:VEVENT
DTSTART;TZID=UTC:20260504T133000
DTEND;TZID=UTC:20260504T143000
DTSTAMP:20260420T121312
CREATED:20251029T180503Z
LAST-MODIFIED:20251029T185339Z
UID:10027814-1777901400-1777905000@fvoas.org
SUMMARY:Hookers Workshop
DESCRIPTION:Whether you are advanced or learning to crotchet please join our hooker’s workshop to advance your crocheting skills.
URL:https://fvoas.org/event/hookers-workshop/2026-05-04/
LOCATION:Fox Valley Community Services (Sandwich)\, 1406 Suydam Rd\, Sandwich\, IL\, 60548\, United States
CATEGORIES:Social Activities
END:VEVENT
BEGIN:VEVENT
DTSTART;TZID=UTC:20260505T080000
DTEND;TZID=UTC:20260505T090000
DTSTAMP:20260420T121312
CREATED:20230614T200534Z
LAST-MODIFIED:20251029T185218Z
UID:10006740-1777968000-1777971600@fvoas.org
SUMMARY:Men's Breakfast
DESCRIPTION:JOIN Voluntary Action Center for their esteemed Men`s Breakfast \nRequires $7.00 fee.
URL:https://fvoas.org/event/mens-breakfast/2026-05-05/
LOCATION:Fox Valley Community Services (Sandwich)\, 1406 Suydam Rd\, Sandwich\, IL\, 60548\, United States
CATEGORIES:Social Activities
END:VEVENT
BEGIN:VEVENT
DTSTART;TZID=UTC:20260505T083000
DTEND;TZID=UTC:20260505T093000
DTSTAMP:20260420T121312
CREATED:20230614T200048Z
LAST-MODIFIED:20241205T175004Z
UID:10017977-1777969800-1777973400@fvoas.org
SUMMARY:Bible Study
DESCRIPTION:
URL:https://fvoas.org/event/bible-study/2026-05-05/
LOCATION:Fox Valley Community Services (Sandwich)\, 1406 Suydam Rd\, Sandwich\, IL\, 60548\, United States
CATEGORIES:Social Activities
END:VEVENT
BEGIN:VEVENT
DTSTART;TZID=UTC:20260506T093000
DTEND;TZID=UTC:20260506T103000
DTSTAMP:20260420T121312
CREATED:20230614T195950Z
LAST-MODIFIED:20241205T175100Z
UID:10005976-1778059800-1778063400@fvoas.org
SUMMARY:Bags for Beds
DESCRIPTION:Volunteer group program that creates bed cushions made of recycled grocery bags for the homeless.
URL:https://fvoas.org/event/bags-for-beds/2026-05-06/
LOCATION:Fox Valley Community Services (Sandwich)\, 1406 Suydam Rd\, Sandwich\, IL\, 60548\, United States
CATEGORIES:Social Activities
END:VEVENT
BEGIN:VEVENT
DTSTART;TZID=UTC:20260507T090000
DTEND;TZID=UTC:20260507T100000
DTSTAMP:20260420T121312
CREATED:20230614T202128Z
LAST-MODIFIED:20251201T190549Z
UID:10009408-1778144400-1778148000@fvoas.org
SUMMARY:Donuts and Detials
DESCRIPTION:
URL:https://fvoas.org/event/donuts-and-details/2026-05-07/
LOCATION:Fox Valley Community Services (Sandwich)\, 1406 Suydam Rd\, Sandwich\, IL\, 60548\, United States
CATEGORIES:Social Activities
END:VEVENT
BEGIN:VEVENT
DTSTART;TZID=UTC:20260507T121500
DTEND;TZID=UTC:20260507T133000
DTSTAMP:20260420T121312
CREATED:20231127T152508Z
LAST-MODIFIED:20260406T181354Z
UID:10025977-1778156100-1778160600@fvoas.org
SUMMARY:Bean Bag Baseball
DESCRIPTION:⚾️ Join Us for Bean Bag Baseball Every Thursday! ⚾️ \n🎉 It’s all about fun\, laughter\, and friendly competition at Fox Valley Community Services! We’re thrilled to invite you to our weekly Bean Bag Baseball game—an exciting blend of classic baseball and cornhole that’s become a community favorite. \nWhen? Every Thursday\, right after lunch at 12:30 PM \n📍 Where? At Fox Valley Community Services \n🌟 Style: Played on a cornhole-style board\, but with a baseball twist!\n🌀 Teams: Play as part of a dynamic team\, aiming to score the most points.\n🎯 Objective: Score like in baseball\, but with bean bags and strategic throws.\n⏳ Duration: A full game runs for 9 innings—may the best team win! \n 
URL:https://fvoas.org/event/bean-bag-baseball/2026-05-07/
LOCATION:Fox Valley Community Services (Sandwich)\, 1406 Suydam Rd\, Sandwich\, IL\, 60548\, United States
CATEGORIES:Social Activities
END:VEVENT
BEGIN:VEVENT
DTSTART;TZID=UTC:20260507T133000
DTEND;TZID=UTC:20260507T143000
DTSTAMP:20260420T121312
CREATED:20250630T165319Z
LAST-MODIFIED:20250630T165323Z
UID:10024899-1778160600-1778164200@fvoas.org
SUMMARY:Diamond Art With Dion
DESCRIPTION:Join us on the first Thursday of every month at 12:30
URL:https://fvoas.org/event/diamond-art-with-dion-2-2-2/2026-05-07/
LOCATION:Fox Valley Community Services (Sandwich)\, 1406 Suydam Rd\, Sandwich\, IL\, 60548\, United States
CATEGORIES:Social Activities
END:VEVENT
BEGIN:VEVENT
DTSTART;TZID=UTC:20260511T133000
DTEND;TZID=UTC:20260511T143000
DTSTAMP:20260420T121312
CREATED:20251029T180503Z
LAST-MODIFIED:20251029T185339Z
UID:10027815-1778506200-1778509800@fvoas.org
SUMMARY:Hookers Workshop
DESCRIPTION:Whether you are advanced or learning to crotchet please join our hooker’s workshop to advance your crocheting skills.
URL:https://fvoas.org/event/hookers-workshop/2026-05-11/
LOCATION:Fox Valley Community Services (Sandwich)\, 1406 Suydam Rd\, Sandwich\, IL\, 60548\, United States
CATEGORIES:Social Activities
END:VEVENT
BEGIN:VEVENT
DTSTART;TZID=UTC:20260512T080000
DTEND;TZID=UTC:20260512T090000
DTSTAMP:20260420T121312
CREATED:20230614T200534Z
LAST-MODIFIED:20251029T185218Z
UID:10006741-1778572800-1778576400@fvoas.org
SUMMARY:Men's Breakfast
DESCRIPTION:JOIN Voluntary Action Center for their esteemed Men`s Breakfast \nRequires $7.00 fee.
URL:https://fvoas.org/event/mens-breakfast/2026-05-12/
LOCATION:Fox Valley Community Services (Sandwich)\, 1406 Suydam Rd\, Sandwich\, IL\, 60548\, United States
CATEGORIES:Social Activities
END:VEVENT
BEGIN:VEVENT
DTSTART;TZID=UTC:20260512T083000
DTEND;TZID=UTC:20260512T093000
DTSTAMP:20260420T121312
CREATED:20230614T200048Z
LAST-MODIFIED:20241205T175004Z
UID:10017978-1778574600-1778578200@fvoas.org
SUMMARY:Bible Study
DESCRIPTION:
URL:https://fvoas.org/event/bible-study/2026-05-12/
LOCATION:Fox Valley Community Services (Sandwich)\, 1406 Suydam Rd\, Sandwich\, IL\, 60548\, United States
CATEGORIES:Social Activities
END:VEVENT
BEGIN:VEVENT
DTSTART;TZID=UTC:20260512T103000
DTEND;TZID=UTC:20260512T113000
DTSTAMP:20260420T121312
CREATED:20251201T184146Z
LAST-MODIFIED:20251230T164740Z
UID:10015009-1778581800-1778585400@fvoas.org
SUMMARY:Everyone Has A Story
DESCRIPTION:
URL:https://fvoas.org/event/everyone-has-a-story-3-2-2/2026-05-12/
LOCATION:Fox Valley Community Services (Sandwich)\, 1406 Suydam Rd\, Sandwich\, IL\, 60548\, United States
CATEGORIES:Social Activities
END:VEVENT
BEGIN:VEVENT
DTSTART;TZID=UTC:20260512T123000
DTEND;TZID=UTC:20260512T133000
DTSTAMP:20260420T121312
CREATED:20260411T054238Z
LAST-MODIFIED:20260411T054241Z
UID:10032282-1778589000-1778592600@fvoas.org
SUMMARY:Painting with Sheri
DESCRIPTION:
URL:https://fvoas.org/event/painting-with-sheri-3-2-2-2-2-2/2026-05-12/
LOCATION:Fox Valley Community Services (Sandwich)\, 1406 Suydam Rd\, Sandwich\, IL\, 60548\, United States
CATEGORIES:Social Activities
END:VEVENT
BEGIN:VEVENT
DTSTART;TZID=UTC:20260513T120000
DTEND;TZID=UTC:20260513T160000
DTSTAMP:20260420T121312
CREATED:20230614T195803Z
LAST-MODIFIED:20240531T173425Z
UID:10009675-1778673600-1778688000@fvoas.org
SUMMARY:Food Pantry Delivery - DeKalb County Community Gardens
DESCRIPTION:
URL:https://fvoas.org/event/alzheimers-caregivers-food-pantry/2026-05-13/
LOCATION:Fox Valley Community Services (Sandwich)\, 1406 Suydam Rd\, Sandwich\, IL\, 60548\, United States
CATEGORIES:Social Activities
END:VEVENT
BEGIN:VEVENT
DTSTART;TZID=UTC:20260513T180000
DTEND;TZID=UTC:20260513T190000
DTSTAMP:20260420T121312
CREATED:20240426T145418Z
LAST-MODIFIED:20240506T163442Z
UID:10014429-1778695200-1778698800@fvoas.org
SUMMARY:Alzheimer's Caregivers Support Group
DESCRIPTION:
URL:https://fvoas.org/event/alzheimers-caregivers-support-group-2-2/2026-05-13/
LOCATION:Fox Valley Community Services (Sandwich)\, 1406 Suydam Rd\, Sandwich\, IL\, 60548\, United States
CATEGORIES:Social Activities
END:VEVENT
BEGIN:VEVENT
DTSTART;TZID=UTC:20260514T121500
DTEND;TZID=UTC:20260514T133000
DTSTAMP:20260420T121312
CREATED:20231127T152508Z
LAST-MODIFIED:20260406T181354Z
UID:10025978-1778760900-1778765400@fvoas.org
SUMMARY:Bean Bag Baseball
DESCRIPTION:⚾️ Join Us for Bean Bag Baseball Every Thursday! ⚾️ \n🎉 It’s all about fun\, laughter\, and friendly competition at Fox Valley Community Services! We’re thrilled to invite you to our weekly Bean Bag Baseball game—an exciting blend of classic baseball and cornhole that’s become a community favorite. \nWhen? Every Thursday\, right after lunch at 12:30 PM \n📍 Where? At Fox Valley Community Services \n🌟 Style: Played on a cornhole-style board\, but with a baseball twist!\n🌀 Teams: Play as part of a dynamic team\, aiming to score the most points.\n🎯 Objective: Score like in baseball\, but with bean bags and strategic throws.\n⏳ Duration: A full game runs for 9 innings—may the best team win! \n 
URL:https://fvoas.org/event/bean-bag-baseball/2026-05-14/
LOCATION:Fox Valley Community Services (Sandwich)\, 1406 Suydam Rd\, Sandwich\, IL\, 60548\, United States
CATEGORIES:Social Activities
END:VEVENT
BEGIN:VEVENT
DTSTART;TZID=UTC:20260515T133000
DTEND;TZID=UTC:20260515T150000
DTSTAMP:20260420T121312
CREATED:20260203T145457Z
LAST-MODIFIED:20260203T145500Z
UID:10031278-1778851800-1778857200@fvoas.org
SUMMARY:Happy Hatz Workshop
DESCRIPTION:
URL:https://fvoas.org/event/happy-hatz-workshop-2-2-2-2-2/2026-05-15/
LOCATION:Fox Valley Community Services (Sandwich)\, 1406 Suydam Rd\, Sandwich\, IL\, 60548\, United States
CATEGORIES:Social Activities
END:VEVENT
BEGIN:VEVENT
DTSTART;TZID=UTC:20260518T133000
DTEND;TZID=UTC:20260518T143000
DTSTAMP:20260420T121312
CREATED:20251029T180503Z
LAST-MODIFIED:20251029T185339Z
UID:10027816-1779111000-1779114600@fvoas.org
SUMMARY:Hookers Workshop
DESCRIPTION:Whether you are advanced or learning to crotchet please join our hooker’s workshop to advance your crocheting skills.
URL:https://fvoas.org/event/hookers-workshop/2026-05-18/
LOCATION:Fox Valley Community Services (Sandwich)\, 1406 Suydam Rd\, Sandwich\, IL\, 60548\, United States
CATEGORIES:Social Activities
END:VEVENT
BEGIN:VEVENT
DTSTART;TZID=UTC:20260519T080000
DTEND;TZID=UTC:20260519T090000
DTSTAMP:20260420T121312
CREATED:20230614T200534Z
LAST-MODIFIED:20251029T185218Z
UID:10006742-1779177600-1779181200@fvoas.org
SUMMARY:Men's Breakfast
DESCRIPTION:JOIN Voluntary Action Center for their esteemed Men`s Breakfast \nRequires $7.00 fee.
URL:https://fvoas.org/event/mens-breakfast/2026-05-19/
LOCATION:Fox Valley Community Services (Sandwich)\, 1406 Suydam Rd\, Sandwich\, IL\, 60548\, United States
CATEGORIES:Social Activities
END:VEVENT
BEGIN:VEVENT
DTSTART;TZID=UTC:20260519T083000
DTEND;TZID=UTC:20260519T093000
DTSTAMP:20260420T121312
CREATED:20230614T200048Z
LAST-MODIFIED:20241205T175004Z
UID:10017979-1779179400-1779183000@fvoas.org
SUMMARY:Bible Study
DESCRIPTION:
URL:https://fvoas.org/event/bible-study/2026-05-19/
LOCATION:Fox Valley Community Services (Sandwich)\, 1406 Suydam Rd\, Sandwich\, IL\, 60548\, United States
CATEGORIES:Social Activities
END:VEVENT
END:VCALENDAR