BEGIN:VCALENDAR
VERSION:2.0
PRODID:-//Fox Valley Community Services - ECPv6.15.20//NONSGML v1.0//EN
CALSCALE:GREGORIAN
METHOD:PUBLISH
X-WR-CALNAME:Fox Valley Community Services
X-ORIGINAL-URL:https://fvoas.org
X-WR-CALDESC:Events for Fox Valley Community Services
REFRESH-INTERVAL;VALUE=DURATION:PT1H
X-Robots-Tag:noindex
X-PUBLISHED-TTL:PT1H
BEGIN:VTIMEZONE
TZID:UTC
BEGIN:STANDARD
TZOFFSETFROM:+0000
TZOFFSETTO:+0000
TZNAME:UTC
DTSTART:20250101T000000
END:STANDARD
END:VTIMEZONE
BEGIN:VEVENT
DTSTART;TZID=UTC:20261005T133000
DTEND;TZID=UTC:20261005T143000
DTSTAMP:20260423T173508
CREATED:20251029T180503Z
LAST-MODIFIED:20251029T185339Z
UID:10027836-1791207000-1791210600@fvoas.org
SUMMARY:Hookers Workshop
DESCRIPTION:Whether you are advanced or learning to crotchet please join our hooker’s workshop to advance your crocheting skills.
URL:https://fvoas.org/event/hookers-workshop/2026-10-05/
LOCATION:Fox Valley Community Services (Sandwich)\, 1406 Suydam Rd\, Sandwich\, IL\, 60548\, United States
CATEGORIES:Social Activities
END:VEVENT
BEGIN:VEVENT
DTSTART;TZID=UTC:20261006T080000
DTEND;TZID=UTC:20261006T090000
DTSTAMP:20260423T173508
CREATED:20230614T200534Z
LAST-MODIFIED:20251029T185218Z
UID:10006762-1791273600-1791277200@fvoas.org
SUMMARY:Men's Breakfast
DESCRIPTION:JOIN Voluntary Action Center for their esteemed Men`s Breakfast \nRequires $7.00 fee.
URL:https://fvoas.org/event/mens-breakfast/2026-10-06/
LOCATION:Fox Valley Community Services (Sandwich)\, 1406 Suydam Rd\, Sandwich\, IL\, 60548\, United States
CATEGORIES:Social Activities
END:VEVENT
BEGIN:VEVENT
DTSTART;TZID=UTC:20261006T083000
DTEND;TZID=UTC:20261006T093000
DTSTAMP:20260423T173508
CREATED:20230614T200048Z
LAST-MODIFIED:20241205T175004Z
UID:10017999-1791275400-1791279000@fvoas.org
SUMMARY:Bible Study
DESCRIPTION:
URL:https://fvoas.org/event/bible-study/2026-10-06/
LOCATION:Fox Valley Community Services (Sandwich)\, 1406 Suydam Rd\, Sandwich\, IL\, 60548\, United States
CATEGORIES:Social Activities
END:VEVENT
BEGIN:VEVENT
DTSTART;TZID=UTC:20261007T093000
DTEND;TZID=UTC:20261007T103000
DTSTAMP:20260423T173508
CREATED:20230614T195950Z
LAST-MODIFIED:20241205T175100Z
UID:10005981-1791365400-1791369000@fvoas.org
SUMMARY:Bags for Beds
DESCRIPTION:Volunteer group program that creates bed cushions made of recycled grocery bags for the homeless.
URL:https://fvoas.org/event/bags-for-beds/2026-10-07/
LOCATION:Fox Valley Community Services (Sandwich)\, 1406 Suydam Rd\, Sandwich\, IL\, 60548\, United States
CATEGORIES:Social Activities
END:VEVENT
BEGIN:VEVENT
DTSTART;TZID=UTC:20261008T121500
DTEND;TZID=UTC:20261008T133000
DTSTAMP:20260423T173508
CREATED:20231127T152508Z
LAST-MODIFIED:20260406T181354Z
UID:10025999-1791461700-1791466200@fvoas.org
SUMMARY:Bean Bag Baseball
DESCRIPTION:⚾️ Join Us for Bean Bag Baseball Every Thursday! ⚾️ \n🎉 It’s all about fun\, laughter\, and friendly competition at Fox Valley Community Services! We’re thrilled to invite you to our weekly Bean Bag Baseball game—an exciting blend of classic baseball and cornhole that’s become a community favorite. \nWhen? Every Thursday\, right after lunch at 12:30 PM \n📍 Where? At Fox Valley Community Services \n🌟 Style: Played on a cornhole-style board\, but with a baseball twist!\n🌀 Teams: Play as part of a dynamic team\, aiming to score the most points.\n🎯 Objective: Score like in baseball\, but with bean bags and strategic throws.\n⏳ Duration: A full game runs for 9 innings—may the best team win! \n 
URL:https://fvoas.org/event/bean-bag-baseball/2026-10-08/
LOCATION:Fox Valley Community Services (Sandwich)\, 1406 Suydam Rd\, Sandwich\, IL\, 60548\, United States
CATEGORIES:Social Activities
END:VEVENT
BEGIN:VEVENT
DTSTART;TZID=UTC:20261012T133000
DTEND;TZID=UTC:20261012T143000
DTSTAMP:20260423T173508
CREATED:20251029T180503Z
LAST-MODIFIED:20251029T185339Z
UID:10027837-1791811800-1791815400@fvoas.org
SUMMARY:Hookers Workshop
DESCRIPTION:Whether you are advanced or learning to crotchet please join our hooker’s workshop to advance your crocheting skills.
URL:https://fvoas.org/event/hookers-workshop/2026-10-12/
LOCATION:Fox Valley Community Services (Sandwich)\, 1406 Suydam Rd\, Sandwich\, IL\, 60548\, United States
CATEGORIES:Social Activities
END:VEVENT
BEGIN:VEVENT
DTSTART;TZID=UTC:20261013T080000
DTEND;TZID=UTC:20261013T090000
DTSTAMP:20260423T173508
CREATED:20230614T200534Z
LAST-MODIFIED:20251029T185218Z
UID:10006763-1791878400-1791882000@fvoas.org
SUMMARY:Men's Breakfast
DESCRIPTION:JOIN Voluntary Action Center for their esteemed Men`s Breakfast \nRequires $7.00 fee.
URL:https://fvoas.org/event/mens-breakfast/2026-10-13/
LOCATION:Fox Valley Community Services (Sandwich)\, 1406 Suydam Rd\, Sandwich\, IL\, 60548\, United States
CATEGORIES:Social Activities
END:VEVENT
BEGIN:VEVENT
DTSTART;TZID=UTC:20261013T083000
DTEND;TZID=UTC:20261013T093000
DTSTAMP:20260423T173508
CREATED:20230614T200048Z
LAST-MODIFIED:20241205T175004Z
UID:10018000-1791880200-1791883800@fvoas.org
SUMMARY:Bible Study
DESCRIPTION:
URL:https://fvoas.org/event/bible-study/2026-10-13/
LOCATION:Fox Valley Community Services (Sandwich)\, 1406 Suydam Rd\, Sandwich\, IL\, 60548\, United States
CATEGORIES:Social Activities
END:VEVENT
BEGIN:VEVENT
DTSTART;TZID=UTC:20261013T103000
DTEND;TZID=UTC:20261013T113000
DTSTAMP:20260423T173508
CREATED:20251201T184146Z
LAST-MODIFIED:20251230T164740Z
UID:10015014-1791887400-1791891000@fvoas.org
SUMMARY:Everyone Has A Story
DESCRIPTION:
URL:https://fvoas.org/event/everyone-has-a-story-3-2-2/2026-10-13/
LOCATION:Fox Valley Community Services (Sandwich)\, 1406 Suydam Rd\, Sandwich\, IL\, 60548\, United States
CATEGORIES:Social Activities
END:VEVENT
BEGIN:VEVENT
DTSTART;TZID=UTC:20261013T123000
DTEND;TZID=UTC:20261013T133000
DTSTAMP:20260423T173508
CREATED:20260411T054238Z
LAST-MODIFIED:20260411T054241Z
UID:10032287-1791894600-1791898200@fvoas.org
SUMMARY:Painting with Sheri
DESCRIPTION:
URL:https://fvoas.org/event/painting-with-sheri-3-2-2-2-2-2/2026-10-13/
LOCATION:Fox Valley Community Services (Sandwich)\, 1406 Suydam Rd\, Sandwich\, IL\, 60548\, United States
CATEGORIES:Social Activities
END:VEVENT
BEGIN:VEVENT
DTSTART;TZID=UTC:20261014T120000
DTEND;TZID=UTC:20261014T160000
DTSTAMP:20260423T173508
CREATED:20230614T195803Z
LAST-MODIFIED:20240531T173425Z
UID:10009680-1791979200-1791993600@fvoas.org
SUMMARY:Food Pantry Delivery - DeKalb County Community Gardens
DESCRIPTION:
URL:https://fvoas.org/event/alzheimers-caregivers-food-pantry/2026-10-14/
LOCATION:Fox Valley Community Services (Sandwich)\, 1406 Suydam Rd\, Sandwich\, IL\, 60548\, United States
CATEGORIES:Social Activities
END:VEVENT
BEGIN:VEVENT
DTSTART;TZID=UTC:20261014T180000
DTEND;TZID=UTC:20261014T190000
DTSTAMP:20260423T173508
CREATED:20240426T145418Z
LAST-MODIFIED:20240506T163442Z
UID:10014434-1792000800-1792004400@fvoas.org
SUMMARY:Alzheimer's Caregivers Support Group
DESCRIPTION:
URL:https://fvoas.org/event/alzheimers-caregivers-support-group-2-2/2026-10-14/
LOCATION:Fox Valley Community Services (Sandwich)\, 1406 Suydam Rd\, Sandwich\, IL\, 60548\, United States
CATEGORIES:Social Activities
END:VEVENT
BEGIN:VEVENT
DTSTART;TZID=UTC:20261015T121500
DTEND;TZID=UTC:20261015T133000
DTSTAMP:20260423T173508
CREATED:20231127T152508Z
LAST-MODIFIED:20260406T181354Z
UID:10026000-1792066500-1792071000@fvoas.org
SUMMARY:Bean Bag Baseball
DESCRIPTION:⚾️ Join Us for Bean Bag Baseball Every Thursday! ⚾️ \n🎉 It’s all about fun\, laughter\, and friendly competition at Fox Valley Community Services! We’re thrilled to invite you to our weekly Bean Bag Baseball game—an exciting blend of classic baseball and cornhole that’s become a community favorite. \nWhen? Every Thursday\, right after lunch at 12:30 PM \n📍 Where? At Fox Valley Community Services \n🌟 Style: Played on a cornhole-style board\, but with a baseball twist!\n🌀 Teams: Play as part of a dynamic team\, aiming to score the most points.\n🎯 Objective: Score like in baseball\, but with bean bags and strategic throws.\n⏳ Duration: A full game runs for 9 innings—may the best team win! \n 
URL:https://fvoas.org/event/bean-bag-baseball/2026-10-15/
LOCATION:Fox Valley Community Services (Sandwich)\, 1406 Suydam Rd\, Sandwich\, IL\, 60548\, United States
CATEGORIES:Social Activities
END:VEVENT
BEGIN:VEVENT
DTSTART;TZID=UTC:20261016T133000
DTEND;TZID=UTC:20261016T150000
DTSTAMP:20260423T173508
CREATED:20260203T145457Z
LAST-MODIFIED:20260203T145500Z
UID:10031283-1792157400-1792162800@fvoas.org
SUMMARY:Happy Hatz Workshop
DESCRIPTION:
URL:https://fvoas.org/event/happy-hatz-workshop-2-2-2-2-2/2026-10-16/
LOCATION:Fox Valley Community Services (Sandwich)\, 1406 Suydam Rd\, Sandwich\, IL\, 60548\, United States
CATEGORIES:Social Activities
END:VEVENT
BEGIN:VEVENT
DTSTART;TZID=UTC:20261019T133000
DTEND;TZID=UTC:20261019T143000
DTSTAMP:20260423T173508
CREATED:20251029T180503Z
LAST-MODIFIED:20251029T185339Z
UID:10027838-1792416600-1792420200@fvoas.org
SUMMARY:Hookers Workshop
DESCRIPTION:Whether you are advanced or learning to crotchet please join our hooker’s workshop to advance your crocheting skills.
URL:https://fvoas.org/event/hookers-workshop/2026-10-19/
LOCATION:Fox Valley Community Services (Sandwich)\, 1406 Suydam Rd\, Sandwich\, IL\, 60548\, United States
CATEGORIES:Social Activities
END:VEVENT
BEGIN:VEVENT
DTSTART;TZID=UTC:20261020T080000
DTEND;TZID=UTC:20261020T090000
DTSTAMP:20260423T173508
CREATED:20230614T200534Z
LAST-MODIFIED:20251029T185218Z
UID:10006764-1792483200-1792486800@fvoas.org
SUMMARY:Men's Breakfast
DESCRIPTION:JOIN Voluntary Action Center for their esteemed Men`s Breakfast \nRequires $7.00 fee.
URL:https://fvoas.org/event/mens-breakfast/2026-10-20/
LOCATION:Fox Valley Community Services (Sandwich)\, 1406 Suydam Rd\, Sandwich\, IL\, 60548\, United States
CATEGORIES:Social Activities
END:VEVENT
BEGIN:VEVENT
DTSTART;TZID=UTC:20261020T083000
DTEND;TZID=UTC:20261020T093000
DTSTAMP:20260423T173508
CREATED:20230614T200048Z
LAST-MODIFIED:20241205T175004Z
UID:10018001-1792485000-1792488600@fvoas.org
SUMMARY:Bible Study
DESCRIPTION:
URL:https://fvoas.org/event/bible-study/2026-10-20/
LOCATION:Fox Valley Community Services (Sandwich)\, 1406 Suydam Rd\, Sandwich\, IL\, 60548\, United States
CATEGORIES:Social Activities
END:VEVENT
BEGIN:VEVENT
DTSTART;TZID=UTC:20261021T163000
DTEND;TZID=UTC:20261021T200000
DTSTAMP:20260423T173508
CREATED:20240207T151248Z
LAST-MODIFIED:20240229T154131Z
UID:10012104-1792600200-1792612800@fvoas.org
SUMMARY:Bingo After Hours
DESCRIPTION:6-ON $7 a set / 9-ON $10 a set (each additional set $5) \nEarlybird Bingo $ 1 each (TRADE IN / 2 for $1) \nSpeed Bingo $1 each / 6 for $5 \nABE (Rollover) $1 / 6 for $5
URL:https://fvoas.org/event/bingo-after-hours/2026-10-21/
LOCATION:Fox Valley Community Services (Sandwich)\, 1406 Suydam Rd\, Sandwich\, IL\, 60548\, United States
CATEGORIES:Social Activities
ATTACH;FMTTYPE=image/png:https://fvoas.org/wp-content/uploads/2024/02/Bingo-After-Hour-Logo.png
END:VEVENT
BEGIN:VEVENT
DTSTART;TZID=UTC:20261022T121500
DTEND;TZID=UTC:20261022T133000
DTSTAMP:20260423T173508
CREATED:20231127T152508Z
LAST-MODIFIED:20260406T181354Z
UID:10026001-1792671300-1792675800@fvoas.org
SUMMARY:Bean Bag Baseball
DESCRIPTION:⚾️ Join Us for Bean Bag Baseball Every Thursday! ⚾️ \n🎉 It’s all about fun\, laughter\, and friendly competition at Fox Valley Community Services! We’re thrilled to invite you to our weekly Bean Bag Baseball game—an exciting blend of classic baseball and cornhole that’s become a community favorite. \nWhen? Every Thursday\, right after lunch at 12:30 PM \n📍 Where? At Fox Valley Community Services \n🌟 Style: Played on a cornhole-style board\, but with a baseball twist!\n🌀 Teams: Play as part of a dynamic team\, aiming to score the most points.\n🎯 Objective: Score like in baseball\, but with bean bags and strategic throws.\n⏳ Duration: A full game runs for 9 innings—may the best team win! \n 
URL:https://fvoas.org/event/bean-bag-baseball/2026-10-22/
LOCATION:Fox Valley Community Services (Sandwich)\, 1406 Suydam Rd\, Sandwich\, IL\, 60548\, United States
CATEGORIES:Social Activities
END:VEVENT
BEGIN:VEVENT
DTSTART;TZID=UTC:20261022T133000
DTEND;TZID=UTC:20261022T143000
DTSTAMP:20260423T173508
CREATED:20251229T191841Z
LAST-MODIFIED:20251229T191844Z
UID:10029187-1792675800-1792679400@fvoas.org
SUMMARY:Pinterest Picks Crafting Group
DESCRIPTION:
URL:https://fvoas.org/event/pinterest-picks-crafting-group-3-2-2-2/2026-10-22/
LOCATION:Fox Valley Community Services (Sandwich)\, 1406 Suydam Rd\, Sandwich\, IL\, 60548\, United States
CATEGORIES:Social Activities
END:VEVENT
BEGIN:VEVENT
DTSTART;TZID=UTC:20261026T133000
DTEND;TZID=UTC:20261026T143000
DTSTAMP:20260423T173508
CREATED:20251029T180503Z
LAST-MODIFIED:20251029T185339Z
UID:10027839-1793021400-1793025000@fvoas.org
SUMMARY:Hookers Workshop
DESCRIPTION:Whether you are advanced or learning to crotchet please join our hooker’s workshop to advance your crocheting skills.
URL:https://fvoas.org/event/hookers-workshop/2026-10-26/
LOCATION:Fox Valley Community Services (Sandwich)\, 1406 Suydam Rd\, Sandwich\, IL\, 60548\, United States
CATEGORIES:Social Activities
END:VEVENT
BEGIN:VEVENT
DTSTART;TZID=UTC:20261027T080000
DTEND;TZID=UTC:20261027T090000
DTSTAMP:20260423T173508
CREATED:20230614T200534Z
LAST-MODIFIED:20251029T185218Z
UID:10006765-1793088000-1793091600@fvoas.org
SUMMARY:Men's Breakfast
DESCRIPTION:JOIN Voluntary Action Center for their esteemed Men`s Breakfast \nRequires $7.00 fee.
URL:https://fvoas.org/event/mens-breakfast/2026-10-27/
LOCATION:Fox Valley Community Services (Sandwich)\, 1406 Suydam Rd\, Sandwich\, IL\, 60548\, United States
CATEGORIES:Social Activities
END:VEVENT
BEGIN:VEVENT
DTSTART;TZID=UTC:20261027T083000
DTEND;TZID=UTC:20261027T093000
DTSTAMP:20260423T173508
CREATED:20230614T200048Z
LAST-MODIFIED:20241205T175004Z
UID:10018002-1793089800-1793093400@fvoas.org
SUMMARY:Bible Study
DESCRIPTION:
URL:https://fvoas.org/event/bible-study/2026-10-27/
LOCATION:Fox Valley Community Services (Sandwich)\, 1406 Suydam Rd\, Sandwich\, IL\, 60548\, United States
CATEGORIES:Social Activities
END:VEVENT
BEGIN:VEVENT
DTSTART;TZID=UTC:20261027T090000
DTEND;TZID=UTC:20261027T100000
DTSTAMP:20260423T173508
CREATED:20251202T144804Z
LAST-MODIFIED:20251202T145557Z
UID:10029123-1793091600-1793095200@fvoas.org
SUMMARY:Garden Club
DESCRIPTION:FVCS Garden Club is a hands-on\, all-experience-level group learning to grow together. We trade tips\, tricks\, and skills from seed starting and soil health to staking\, pruning\, and harvesting growing confidence\, friendships\, and great food along the way. In the spirit of FVCS’s mission to enrich one’s journey of life\, join us to dig in\, share what you know\, and learn something new.
URL:https://fvoas.org/event/garden-club/2026-10-27/
LOCATION:Fox Valley Community Services (Sandwich)\, 1406 Suydam Rd\, Sandwich\, IL\, 60548\, United States
CATEGORIES:Social Activities
ATTACH;FMTTYPE=image/png:https://fvoas.org/wp-content/uploads/2025/12/2.png
END:VEVENT
BEGIN:VEVENT
DTSTART;TZID=UTC:20261027T103000
DTEND;TZID=UTC:20261027T113000
DTSTAMP:20260423T173508
CREATED:20251201T184156Z
LAST-MODIFIED:20251230T164732Z
UID:10015073-1793097000-1793100600@fvoas.org
SUMMARY:Everyone Has A Story
DESCRIPTION:
URL:https://fvoas.org/event/everyone-has-a-story-2-2-2-2/2026-10-27/
LOCATION:Fox Valley Community Services (Sandwich)\, 1406 Suydam Rd\, Sandwich\, IL\, 60548\, United States
CATEGORIES:Social Activities
END:VEVENT
BEGIN:VEVENT
DTSTART;TZID=UTC:20261029T121500
DTEND;TZID=UTC:20261029T133000
DTSTAMP:20260423T173508
CREATED:20231127T152508Z
LAST-MODIFIED:20260406T181354Z
UID:10026002-1793276100-1793280600@fvoas.org
SUMMARY:Bean Bag Baseball
DESCRIPTION:⚾️ Join Us for Bean Bag Baseball Every Thursday! ⚾️ \n🎉 It’s all about fun\, laughter\, and friendly competition at Fox Valley Community Services! We’re thrilled to invite you to our weekly Bean Bag Baseball game—an exciting blend of classic baseball and cornhole that’s become a community favorite. \nWhen? Every Thursday\, right after lunch at 12:30 PM \n📍 Where? At Fox Valley Community Services \n🌟 Style: Played on a cornhole-style board\, but with a baseball twist!\n🌀 Teams: Play as part of a dynamic team\, aiming to score the most points.\n🎯 Objective: Score like in baseball\, but with bean bags and strategic throws.\n⏳ Duration: A full game runs for 9 innings—may the best team win! \n 
URL:https://fvoas.org/event/bean-bag-baseball/2026-10-29/
LOCATION:Fox Valley Community Services (Sandwich)\, 1406 Suydam Rd\, Sandwich\, IL\, 60548\, United States
CATEGORIES:Social Activities
END:VEVENT
BEGIN:VEVENT
DTSTART;TZID=UTC:20261102T133000
DTEND;TZID=UTC:20261102T143000
DTSTAMP:20260423T173508
CREATED:20251029T180503Z
LAST-MODIFIED:20251029T185339Z
UID:10027840-1793626200-1793629800@fvoas.org
SUMMARY:Hookers Workshop
DESCRIPTION:Whether you are advanced or learning to crotchet please join our hooker’s workshop to advance your crocheting skills.
URL:https://fvoas.org/event/hookers-workshop/2026-11-02/
LOCATION:Fox Valley Community Services (Sandwich)\, 1406 Suydam Rd\, Sandwich\, IL\, 60548\, United States
CATEGORIES:Social Activities
END:VEVENT
BEGIN:VEVENT
DTSTART;TZID=UTC:20261103T080000
DTEND;TZID=UTC:20261103T090000
DTSTAMP:20260423T173508
CREATED:20230614T200534Z
LAST-MODIFIED:20251029T185218Z
UID:10006766-1793692800-1793696400@fvoas.org
SUMMARY:Men's Breakfast
DESCRIPTION:JOIN Voluntary Action Center for their esteemed Men`s Breakfast \nRequires $7.00 fee.
URL:https://fvoas.org/event/mens-breakfast/2026-11-03/
LOCATION:Fox Valley Community Services (Sandwich)\, 1406 Suydam Rd\, Sandwich\, IL\, 60548\, United States
CATEGORIES:Social Activities
END:VEVENT
BEGIN:VEVENT
DTSTART;TZID=UTC:20261103T083000
DTEND;TZID=UTC:20261103T093000
DTSTAMP:20260423T173508
CREATED:20230614T200048Z
LAST-MODIFIED:20241205T175004Z
UID:10018003-1793694600-1793698200@fvoas.org
SUMMARY:Bible Study
DESCRIPTION:
URL:https://fvoas.org/event/bible-study/2026-11-03/
LOCATION:Fox Valley Community Services (Sandwich)\, 1406 Suydam Rd\, Sandwich\, IL\, 60548\, United States
CATEGORIES:Social Activities
END:VEVENT
BEGIN:VEVENT
DTSTART;TZID=UTC:20261104T093000
DTEND;TZID=UTC:20261104T103000
DTSTAMP:20260423T173508
CREATED:20230614T195950Z
LAST-MODIFIED:20241205T175100Z
UID:10005982-1793784600-1793788200@fvoas.org
SUMMARY:Bags for Beds
DESCRIPTION:Volunteer group program that creates bed cushions made of recycled grocery bags for the homeless.
URL:https://fvoas.org/event/bags-for-beds/2026-11-04/
LOCATION:Fox Valley Community Services (Sandwich)\, 1406 Suydam Rd\, Sandwich\, IL\, 60548\, United States
CATEGORIES:Social Activities
END:VEVENT
END:VCALENDAR