BEGIN:VCALENDAR
VERSION:2.0
PRODID:-//Fox Valley Community Services - ECPv6.15.20//NONSGML v1.0//EN
CALSCALE:GREGORIAN
METHOD:PUBLISH
X-WR-CALNAME:Fox Valley Community Services
X-ORIGINAL-URL:https://fvoas.org
X-WR-CALDESC:Events for Fox Valley Community Services
REFRESH-INTERVAL;VALUE=DURATION:PT1H
X-Robots-Tag:noindex
X-PUBLISHED-TTL:PT1H
BEGIN:VTIMEZONE
TZID:UTC
BEGIN:STANDARD
TZOFFSETFROM:+0000
TZOFFSETTO:+0000
TZNAME:UTC
DTSTART:20220101T000000
END:STANDARD
END:VTIMEZONE
BEGIN:VEVENT
DTSTART;TZID=UTC:20240105T113000
DTEND;TZID=UTC:20240105T123000
DTSTAMP:20260422T165417
CREATED:20230614T201319Z
LAST-MODIFIED:20251230T162559Z
UID:10007629-1704454200-1704457800@fvoas.org
SUMMARY:Lunch
DESCRIPTION:Reserve your meal by calling 815-787-6219 ext. 2.\nThe VAC congregate lunch program is donation based.\nSuggested lunch donation of $6.00.\nLunch is available to all seniors regardless of their inability to contribute towards the cost of their lunch.
URL:https://fvoas.org/event/lunch/2024-01-05/
LOCATION:Fox Valley Community Services (Sandwich)\, 1406 Suydam Rd\, Sandwich\, IL\, 60548\, United States
CATEGORIES:Additional Services
END:VEVENT
BEGIN:VEVENT
DTSTART;TZID=UTC:20240105T103000
DTEND;TZID=UTC:20240105T111500
DTSTAMP:20260422T165417
CREATED:20230614T172136Z
LAST-MODIFIED:20260406T175746Z
UID:10010212-1704450600-1704453300@fvoas.org
SUMMARY:Bingocize
DESCRIPTION:
URL:https://fvoas.org/event/bingocize/2024-01-05/
LOCATION:Fox Valley Community Services (Sandwich)\, 1406 Suydam Rd\, Sandwich\, IL\, 60548\, United States
CATEGORIES:Health and Wellness
END:VEVENT
BEGIN:VEVENT
DTSTART;TZID=UTC:20240105T090000
DTEND;TZID=UTC:20240105T100000
DTSTAMP:20260422T165417
CREATED:20230614T201217Z
LAST-MODIFIED:20260406T180510Z
UID:10007183-1704445200-1704448800@fvoas.org
SUMMARY:Line Dancing
DESCRIPTION:
URL:https://fvoas.org/event/line-dancing/2024-01-05/
LOCATION:Fox Valley Community Services (Sandwich)\, 1406 Suydam Rd\, Sandwich\, IL\, 60548\, United States
CATEGORIES:Entertainment
END:VEVENT
BEGIN:VEVENT
DTSTART;TZID=UTC:20240104T123000
DTEND;TZID=UTC:20240104T133000
DTSTAMP:20260422T165417
CREATED:20230614T195118Z
LAST-MODIFIED:20251029T175128Z
UID:10004568-1704371400-1704375000@fvoas.org
SUMMARY:Cards
DESCRIPTION:
URL:https://fvoas.org/event/cards-2/2024-01-04/
LOCATION:Fox Valley Community Services (Sandwich)\, 1406 Suydam Rd\, Sandwich\, IL\, 60548\, United States
CATEGORIES:Rec Games
END:VEVENT
BEGIN:VEVENT
DTSTART;TZID=UTC:20240104T113000
DTEND;TZID=UTC:20240104T123000
DTSTAMP:20260422T165417
CREATED:20230614T201319Z
LAST-MODIFIED:20251230T162559Z
UID:10007628-1704367800-1704371400@fvoas.org
SUMMARY:Lunch
DESCRIPTION:Reserve your meal by calling 815-787-6219 ext. 2.\nThe VAC congregate lunch program is donation based.\nSuggested lunch donation of $6.00.\nLunch is available to all seniors regardless of their inability to contribute towards the cost of their lunch.
URL:https://fvoas.org/event/lunch/2024-01-04/
LOCATION:Fox Valley Community Services (Sandwich)\, 1406 Suydam Rd\, Sandwich\, IL\, 60548\, United States
CATEGORIES:Additional Services
END:VEVENT
BEGIN:VEVENT
DTSTART;TZID=UTC:20240104T100000
DTEND;TZID=UTC:20240104T110000
DTSTAMP:20260422T165417
CREATED:20230614T194812Z
LAST-MODIFIED:20260407T191055Z
UID:10003750-1704362400-1704366000@fvoas.org
SUMMARY:Bingo
DESCRIPTION:Requires $2.00 fee.
URL:https://fvoas.org/event/bingo-2-2/2024-01-04/
LOCATION:Fox Valley Community Services (Sandwich)\, 1406 Suydam Rd\, Sandwich\, IL\, 60548\, United States
CATEGORIES:Rec Games
END:VEVENT
BEGIN:VEVENT
DTSTART;TZID=UTC:20240104T090000
DTEND;TZID=UTC:20240104T100000
DTSTAMP:20260422T165417
CREATED:20230614T202128Z
LAST-MODIFIED:20251201T190549Z
UID:10009380-1704358800-1704362400@fvoas.org
SUMMARY:Donuts and Detials
DESCRIPTION:
URL:https://fvoas.org/event/donuts-and-details/2024-01-04/
LOCATION:Fox Valley Community Services (Sandwich)\, 1406 Suydam Rd\, Sandwich\, IL\, 60548\, United States
CATEGORIES:Social Activities
END:VEVENT
BEGIN:VEVENT
DTSTART;TZID=UTC:20240103T113000
DTEND;TZID=UTC:20240103T123000
DTSTAMP:20260422T165417
CREATED:20230614T201319Z
LAST-MODIFIED:20251230T162559Z
UID:10007627-1704281400-1704285000@fvoas.org
SUMMARY:Lunch
DESCRIPTION:Reserve your meal by calling 815-787-6219 ext. 2.\nThe VAC congregate lunch program is donation based.\nSuggested lunch donation of $6.00.\nLunch is available to all seniors regardless of their inability to contribute towards the cost of their lunch.
URL:https://fvoas.org/event/lunch/2024-01-03/
LOCATION:Fox Valley Community Services (Sandwich)\, 1406 Suydam Rd\, Sandwich\, IL\, 60548\, United States
CATEGORIES:Additional Services
END:VEVENT
BEGIN:VEVENT
DTSTART;TZID=UTC:20240103T093000
DTEND;TZID=UTC:20240103T103000
DTSTAMP:20260422T165417
CREATED:20230614T195950Z
LAST-MODIFIED:20241205T175100Z
UID:10005948-1704274200-1704277800@fvoas.org
SUMMARY:Bags for Beds
DESCRIPTION:Volunteer group program that creates bed cushions made of recycled grocery bags for the homeless.
URL:https://fvoas.org/event/bags-for-beds/2024-01-03/
LOCATION:Fox Valley Community Services (Sandwich)\, 1406 Suydam Rd\, Sandwich\, IL\, 60548\, United States
CATEGORIES:Social Activities
END:VEVENT
BEGIN:VEVENT
DTSTART;TZID=UTC:20240103T093000
DTEND;TZID=UTC:20240103T103000
DTSTAMP:20260422T165417
CREATED:20230614T192123Z
LAST-MODIFIED:20251201T190112Z
UID:10000708-1704274200-1704277800@fvoas.org
SUMMARY:Chair Exercise
DESCRIPTION:
URL:https://fvoas.org/event/chair-exercise/2024-01-03/
LOCATION:Fox Valley Community Services (Sandwich)\, 1406 Suydam Rd\, Sandwich\, IL\, 60548\, United States
CATEGORIES:Health and Wellness
END:VEVENT
BEGIN:VEVENT
DTSTART;TZID=UTC:20240103T083000
DTEND;TZID=UTC:20240103T093000
DTSTAMP:20260422T165417
CREATED:20230614T192927Z
LAST-MODIFIED:20251201T190059Z
UID:10001760-1704270600-1704274200@fvoas.org
SUMMARY:Group Fitness
DESCRIPTION:Members Free / Non-members $3 fee
URL:https://fvoas.org/event/group-fitness/2024-01-03/
LOCATION:Fox Valley Community Services (Sandwich)\, 1406 Suydam Rd\, Sandwich\, IL\, 60548\, United States
CATEGORIES:Health and Wellness
END:VEVENT
BEGIN:VEVENT
DTSTART;TZID=UTC:20240102T164500
DTEND;TZID=UTC:20240102T180000
DTSTAMP:20260422T165417
CREATED:20230614T194150Z
LAST-MODIFIED:20251029T180032Z
UID:10026822-1704213900-1704218400@fvoas.org
SUMMARY:Stretching with Mini
DESCRIPTION:
URL:https://fvoas.org/event/stretching-with-mini/2024-01-02/
LOCATION:Fox Valley Community Services (Sandwich)\, 1406 Suydam Rd\, Sandwich\, IL\, 60548\, United States
CATEGORIES:Health and Wellness
END:VEVENT
BEGIN:VEVENT
DTSTART;TZID=UTC:20240102T113000
DTEND;TZID=UTC:20240102T123000
DTSTAMP:20260422T165417
CREATED:20230614T201319Z
LAST-MODIFIED:20251230T162559Z
UID:10007626-1704195000-1704198600@fvoas.org
SUMMARY:Lunch
DESCRIPTION:Reserve your meal by calling 815-787-6219 ext. 2.\nThe VAC congregate lunch program is donation based.\nSuggested lunch donation of $6.00.\nLunch is available to all seniors regardless of their inability to contribute towards the cost of their lunch.
URL:https://fvoas.org/event/lunch/2024-01-02/
LOCATION:Fox Valley Community Services (Sandwich)\, 1406 Suydam Rd\, Sandwich\, IL\, 60548\, United States
CATEGORIES:Additional Services
END:VEVENT
BEGIN:VEVENT
DTSTART;TZID=UTC:20240102T103000
DTEND;TZID=UTC:20240102T111500
DTSTAMP:20260422T165417
CREATED:20230614T172136Z
LAST-MODIFIED:20260406T175746Z
UID:10010211-1704191400-1704194100@fvoas.org
SUMMARY:Bingocize
DESCRIPTION:
URL:https://fvoas.org/event/bingocize/2024-01-02/
LOCATION:Fox Valley Community Services (Sandwich)\, 1406 Suydam Rd\, Sandwich\, IL\, 60548\, United States
CATEGORIES:Health and Wellness
END:VEVENT
BEGIN:VEVENT
DTSTART;TZID=UTC:20240102T090000
DTEND;TZID=UTC:20240102T100000
DTSTAMP:20260422T165417
CREATED:20230614T171933Z
LAST-MODIFIED:20240430T133148Z
UID:10000068-1704186000-1704189600@fvoas.org
SUMMARY:Audiologist
DESCRIPTION:
URL:https://fvoas.org/event/audiologist/2024-01-02/
LOCATION:Fox Valley Community Services (Sandwich)\, 1406 Suydam Rd\, Sandwich\, IL\, 60548\, United States
CATEGORIES:Health and Wellness
END:VEVENT
BEGIN:VEVENT
DTSTART;TZID=UTC:20240102T083000
DTEND;TZID=UTC:20240102T093000
DTSTAMP:20260422T165417
CREATED:20230614T200048Z
LAST-MODIFIED:20241205T175004Z
UID:10017856-1704184200-1704187800@fvoas.org
SUMMARY:Bible Study
DESCRIPTION:
URL:https://fvoas.org/event/bible-study/2024-01-02/
LOCATION:Fox Valley Community Services (Sandwich)\, 1406 Suydam Rd\, Sandwich\, IL\, 60548\, United States
CATEGORIES:Social Activities
END:VEVENT
BEGIN:VEVENT
DTSTART;TZID=UTC:20240102T080000
DTEND;TZID=UTC:20240102T090000
DTSTAMP:20260422T165417
CREATED:20230614T200534Z
LAST-MODIFIED:20251029T185218Z
UID:10006618-1704182400-1704186000@fvoas.org
SUMMARY:Men's Breakfast
DESCRIPTION:JOIN Voluntary Action Center for their esteemed Men`s Breakfast \nRequires $7.00 fee.
URL:https://fvoas.org/event/mens-breakfast/2024-01-02/
LOCATION:Fox Valley Community Services (Sandwich)\, 1406 Suydam Rd\, Sandwich\, IL\, 60548\, United States
CATEGORIES:Social Activities
END:VEVENT
BEGIN:VEVENT
DTSTART;TZID=UTC:20240101T123000
DTEND;TZID=UTC:20240101T133000
DTSTAMP:20260422T165417
CREATED:20230614T194352Z
LAST-MODIFIED:20251201T192034Z
UID:10023773-1704112200-1704115800@fvoas.org
SUMMARY:Bingo
DESCRIPTION:Requires a $2.00 fee
URL:https://fvoas.org/event/bingo/2024-01-01/
LOCATION:Fox Valley Community Services (Sandwich)\, 1406 Suydam Rd\, Sandwich\, IL\, 60548\, United States
CATEGORIES:Rec Games
END:VEVENT
BEGIN:VEVENT
DTSTART;TZID=UTC:20240101T113000
DTEND;TZID=UTC:20240101T123000
DTSTAMP:20260422T165417
CREATED:20230614T201319Z
LAST-MODIFIED:20251230T162559Z
UID:10023625-1704108600-1704112200@fvoas.org
SUMMARY:Lunch
DESCRIPTION:Reserve your meal by calling 815-787-6219 ext. 2.\nThe VAC congregate lunch program is donation based.\nSuggested lunch donation of $6.00.\nLunch is available to all seniors regardless of their inability to contribute towards the cost of their lunch.
URL:https://fvoas.org/event/lunch/2024-01-01/
LOCATION:Fox Valley Community Services (Sandwich)\, 1406 Suydam Rd\, Sandwich\, IL\, 60548\, United States
CATEGORIES:Additional Services
END:VEVENT
BEGIN:VEVENT
DTSTART;TZID=UTC:20240101T093000
DTEND;TZID=UTC:20240101T103000
DTSTAMP:20260422T165417
CREATED:20230614T192123Z
LAST-MODIFIED:20251201T190112Z
UID:10000707-1704101400-1704105000@fvoas.org
SUMMARY:Chair Exercise
DESCRIPTION:
URL:https://fvoas.org/event/chair-exercise/2024-01-01/
LOCATION:Fox Valley Community Services (Sandwich)\, 1406 Suydam Rd\, Sandwich\, IL\, 60548\, United States
CATEGORIES:Health and Wellness
END:VEVENT
BEGIN:VEVENT
DTSTART;TZID=UTC:20240101T083000
DTEND;TZID=UTC:20240101T093000
DTSTAMP:20260422T165417
CREATED:20230614T192927Z
LAST-MODIFIED:20251201T190059Z
UID:10001759-1704097800-1704101400@fvoas.org
SUMMARY:Group Fitness
DESCRIPTION:Members Free / Non-members $3 fee
URL:https://fvoas.org/event/group-fitness/2024-01-01/
LOCATION:Fox Valley Community Services (Sandwich)\, 1406 Suydam Rd\, Sandwich\, IL\, 60548\, United States
CATEGORIES:Health and Wellness
END:VEVENT
BEGIN:VEVENT
DTSTART;TZID=UTC:20231229T113000
DTEND;TZID=UTC:20231229T123000
DTSTAMP:20260422T165417
CREATED:20230614T201319Z
LAST-MODIFIED:20251230T162559Z
UID:10007622-1703849400-1703853000@fvoas.org
SUMMARY:Lunch
DESCRIPTION:Reserve your meal by calling 815-787-6219 ext. 2.\nThe VAC congregate lunch program is donation based.\nSuggested lunch donation of $6.00.\nLunch is available to all seniors regardless of their inability to contribute towards the cost of their lunch.
URL:https://fvoas.org/event/lunch/2023-12-29/
LOCATION:Fox Valley Community Services (Sandwich)\, 1406 Suydam Rd\, Sandwich\, IL\, 60548\, United States
CATEGORIES:Additional Services
END:VEVENT
BEGIN:VEVENT
DTSTART;TZID=UTC:20231229T103000
DTEND;TZID=UTC:20231229T111500
DTSTAMP:20260422T165417
CREATED:20230614T172136Z
LAST-MODIFIED:20260406T175746Z
UID:10010210-1703845800-1703848500@fvoas.org
SUMMARY:Bingocize
DESCRIPTION:
URL:https://fvoas.org/event/bingocize/2023-12-29/
LOCATION:Fox Valley Community Services (Sandwich)\, 1406 Suydam Rd\, Sandwich\, IL\, 60548\, United States
CATEGORIES:Health and Wellness
END:VEVENT
BEGIN:VEVENT
DTSTART;TZID=UTC:20231229T100000
DTEND;TZID=UTC:20231229T120000
DTSTAMP:20260422T165417
CREATED:20231127T160613Z
LAST-MODIFIED:20231127T160613Z
UID:10011823-1703844000-1703851200@fvoas.org
SUMMARY:New Years Party
DESCRIPTION:New Year’s Eve Extravaganza: Cheers to 2023
URL:https://fvoas.org/event/new-years-party/
LOCATION:Fox Valley Community Services (Sandwich)\, 1406 Suydam Rd\, Sandwich\, IL\, 60548\, United States
CATEGORIES:Rec Games
END:VEVENT
BEGIN:VEVENT
DTSTART;TZID=UTC:20231229T090000
DTEND;TZID=UTC:20231229T100000
DTSTAMP:20260422T165417
CREATED:20230614T201217Z
LAST-MODIFIED:20260406T180510Z
UID:10007182-1703840400-1703844000@fvoas.org
SUMMARY:Line Dancing
DESCRIPTION:
URL:https://fvoas.org/event/line-dancing/2023-12-29/
LOCATION:Fox Valley Community Services (Sandwich)\, 1406 Suydam Rd\, Sandwich\, IL\, 60548\, United States
CATEGORIES:Entertainment
END:VEVENT
BEGIN:VEVENT
DTSTART;TZID=UTC:20231228T123000
DTEND;TZID=UTC:20231228T133000
DTSTAMP:20260422T165417
CREATED:20230614T195118Z
LAST-MODIFIED:20251029T175128Z
UID:10004566-1703766600-1703770200@fvoas.org
SUMMARY:Cards
DESCRIPTION:
URL:https://fvoas.org/event/cards-2/2023-12-28/
LOCATION:Fox Valley Community Services (Sandwich)\, 1406 Suydam Rd\, Sandwich\, IL\, 60548\, United States
CATEGORIES:Rec Games
END:VEVENT
BEGIN:VEVENT
DTSTART;TZID=UTC:20231228T113000
DTEND;TZID=UTC:20231228T123000
DTSTAMP:20260422T165417
CREATED:20230614T201319Z
LAST-MODIFIED:20251230T162559Z
UID:10007621-1703763000-1703766600@fvoas.org
SUMMARY:Lunch
DESCRIPTION:Reserve your meal by calling 815-787-6219 ext. 2.\nThe VAC congregate lunch program is donation based.\nSuggested lunch donation of $6.00.\nLunch is available to all seniors regardless of their inability to contribute towards the cost of their lunch.
URL:https://fvoas.org/event/lunch/2023-12-28/
LOCATION:Fox Valley Community Services (Sandwich)\, 1406 Suydam Rd\, Sandwich\, IL\, 60548\, United States
CATEGORIES:Additional Services
END:VEVENT
BEGIN:VEVENT
DTSTART;TZID=UTC:20231228T100000
DTEND;TZID=UTC:20231228T110000
DTSTAMP:20260422T165417
CREATED:20230614T194812Z
LAST-MODIFIED:20260407T191055Z
UID:10003749-1703757600-1703761200@fvoas.org
SUMMARY:Bingo
DESCRIPTION:Requires $2.00 fee.
URL:https://fvoas.org/event/bingo-2-2/2023-12-28/
LOCATION:Fox Valley Community Services (Sandwich)\, 1406 Suydam Rd\, Sandwich\, IL\, 60548\, United States
CATEGORIES:Rec Games
END:VEVENT
BEGIN:VEVENT
DTSTART;TZID=UTC:20231227T113000
DTEND;TZID=UTC:20231227T123000
DTSTAMP:20260422T165417
CREATED:20230614T201319Z
LAST-MODIFIED:20251230T162559Z
UID:10007620-1703676600-1703680200@fvoas.org
SUMMARY:Lunch
DESCRIPTION:Reserve your meal by calling 815-787-6219 ext. 2.\nThe VAC congregate lunch program is donation based.\nSuggested lunch donation of $6.00.\nLunch is available to all seniors regardless of their inability to contribute towards the cost of their lunch.
URL:https://fvoas.org/event/lunch/2023-12-27/
LOCATION:Fox Valley Community Services (Sandwich)\, 1406 Suydam Rd\, Sandwich\, IL\, 60548\, United States
CATEGORIES:Additional Services
END:VEVENT
BEGIN:VEVENT
DTSTART;TZID=UTC:20231227T093000
DTEND;TZID=UTC:20231227T103000
DTSTAMP:20260422T165417
CREATED:20230614T192123Z
LAST-MODIFIED:20251201T190112Z
UID:10000706-1703669400-1703673000@fvoas.org
SUMMARY:Chair Exercise
DESCRIPTION:
URL:https://fvoas.org/event/chair-exercise/2023-12-27/
LOCATION:Fox Valley Community Services (Sandwich)\, 1406 Suydam Rd\, Sandwich\, IL\, 60548\, United States
CATEGORIES:Health and Wellness
END:VEVENT
END:VCALENDAR