BEGIN:VCALENDAR
VERSION:2.0
PRODID:-//Fox Valley Community Services - ECPv6.15.20//NONSGML v1.0//EN
CALSCALE:GREGORIAN
METHOD:PUBLISH
X-WR-CALNAME:Fox Valley Community Services
X-ORIGINAL-URL:https://fvoas.org
X-WR-CALDESC:Events for Fox Valley Community Services
REFRESH-INTERVAL;VALUE=DURATION:PT1H
X-Robots-Tag:noindex
X-PUBLISHED-TTL:PT1H
BEGIN:VTIMEZONE
TZID:UTC
BEGIN:STANDARD
TZOFFSETFROM:+0000
TZOFFSETTO:+0000
TZNAME:UTC
DTSTART:20240101T000000
END:STANDARD
END:VTIMEZONE
BEGIN:VEVENT
DTSTART;TZID=UTC:20251211T090000
DTEND;TZID=UTC:20251211T100000
DTSTAMP:20260424T223825
CREATED:20240531T163353Z
LAST-MODIFIED:20260203T143024Z
UID:10014624-1765443600-1765447200@fvoas.org
SUMMARY:Walkers Group
DESCRIPTION:Seasonal Walkers Group. Meet at the center and head over to the Sandwich Fair Grounds.
URL:https://fvoas.org/event/walkers-group/2025-12-11/
LOCATION:Fox Valley Community Services (Sandwich)\, 1406 Suydam Rd\, Sandwich\, IL\, 60548\, United States
CATEGORIES:Health and Wellness
END:VEVENT
BEGIN:VEVENT
DTSTART;TZID=UTC:20251210T180000
DTEND;TZID=UTC:20251210T190000
DTSTAMP:20260424T223825
CREATED:20240426T145418Z
LAST-MODIFIED:20240506T163442Z
UID:10014424-1765389600-1765393200@fvoas.org
SUMMARY:Alzheimer's Caregivers Support Group
DESCRIPTION:
URL:https://fvoas.org/event/alzheimers-caregivers-support-group-2-2/2025-12-10/
LOCATION:Fox Valley Community Services (Sandwich)\, 1406 Suydam Rd\, Sandwich\, IL\, 60548\, United States
CATEGORIES:Social Activities
END:VEVENT
BEGIN:VEVENT
DTSTART;TZID=UTC:20251210T123000
DTEND;TZID=UTC:20251210T123000
DTSTAMP:20260424T223825
CREATED:20251029T174713Z
LAST-MODIFIED:20251230T164956Z
UID:10026511-1765369800-1765369800@fvoas.org
SUMMARY:Bunco
DESCRIPTION:Requires $2.00 fee.
URL:https://fvoas.org/event/bunko-2-2/2025-12-10/
LOCATION:Fox Valley Community Services (Sandwich)\, 1406 Suydam Rd\, Sandwich\, IL\, 60548\, United States
CATEGORIES:Rec Games
END:VEVENT
BEGIN:VEVENT
DTSTART;TZID=UTC:20251210T120000
DTEND;TZID=UTC:20251210T160000
DTSTAMP:20260424T223825
CREATED:20230614T195803Z
LAST-MODIFIED:20240531T173425Z
UID:10009670-1765368000-1765382400@fvoas.org
SUMMARY:Food Pantry Delivery - DeKalb County Community Gardens
DESCRIPTION:
URL:https://fvoas.org/event/alzheimers-caregivers-food-pantry/2025-12-10/
LOCATION:Fox Valley Community Services (Sandwich)\, 1406 Suydam Rd\, Sandwich\, IL\, 60548\, United States
CATEGORIES:Social Activities
END:VEVENT
BEGIN:VEVENT
DTSTART;TZID=UTC:20251210T113000
DTEND;TZID=UTC:20251210T123000
DTSTAMP:20260424T223825
CREATED:20230614T201319Z
LAST-MODIFIED:20251230T162559Z
UID:10008334-1765366200-1765369800@fvoas.org
SUMMARY:Lunch
DESCRIPTION:Reserve your meal by calling 815-787-6219 ext. 2.\nThe VAC congregate lunch program is donation based.\nSuggested lunch donation of $6.00.\nLunch is available to all seniors regardless of their inability to contribute towards the cost of their lunch.
URL:https://fvoas.org/event/lunch/2025-12-10/
LOCATION:Fox Valley Community Services (Sandwich)\, 1406 Suydam Rd\, Sandwich\, IL\, 60548\, United States
CATEGORIES:Additional Services
END:VEVENT
BEGIN:VEVENT
DTSTART;TZID=UTC:20251210T103000
DTEND;TZID=UTC:20251210T113000
DTSTAMP:20260424T223825
CREATED:20240730T183938Z
LAST-MODIFIED:20251201T190140Z
UID:10018559-1765362600-1765366200@fvoas.org
SUMMARY:Chair Volleyball 2
DESCRIPTION:
URL:https://fvoas.org/event/chair-volleyball-2/2025-12-10/
LOCATION:Fox Valley Community Services (Sandwich)\, 1406 Suydam Rd\, Sandwich\, IL\, 60548\, United States
CATEGORIES:Health and Wellness
END:VEVENT
BEGIN:VEVENT
DTSTART;TZID=UTC:20251210T100000
DTEND;TZID=UTC:20251210T140000
DTSTAMP:20260424T223825
CREATED:20251029T181657Z
LAST-MODIFIED:20251029T181659Z
UID:10027597-1765360800-1765375200@fvoas.org
SUMMARY:$15 Haircuts
DESCRIPTION:
URL:https://fvoas.org/event/15-haricuts-2/2025-12-10/
LOCATION:Fox Valley Community Services (Sandwich)\, 1406 Suydam Rd\, Sandwich\, IL\, 60548\, United States
CATEGORIES:Health and Wellness
END:VEVENT
BEGIN:VEVENT
DTSTART;TZID=UTC:20251210T093000
DTEND;TZID=UTC:20251210T103000
DTSTAMP:20260424T223825
CREATED:20230614T192123Z
LAST-MODIFIED:20251201T190112Z
UID:10000910-1765359000-1765362600@fvoas.org
SUMMARY:Chair Exercise
DESCRIPTION:
URL:https://fvoas.org/event/chair-exercise/2025-12-10/
LOCATION:Fox Valley Community Services (Sandwich)\, 1406 Suydam Rd\, Sandwich\, IL\, 60548\, United States
CATEGORIES:Health and Wellness
END:VEVENT
BEGIN:VEVENT
DTSTART;TZID=UTC:20251210T083000
DTEND;TZID=UTC:20251210T093000
DTSTAMP:20260424T223825
CREATED:20230614T192927Z
LAST-MODIFIED:20251201T190059Z
UID:10001962-1765355400-1765359000@fvoas.org
SUMMARY:Group Fitness
DESCRIPTION:Members Free / Non-members $3 fee
URL:https://fvoas.org/event/group-fitness/2025-12-10/
LOCATION:Fox Valley Community Services (Sandwich)\, 1406 Suydam Rd\, Sandwich\, IL\, 60548\, United States
CATEGORIES:Health and Wellness
END:VEVENT
BEGIN:VEVENT
DTSTART;TZID=UTC:20251209T180000
DTEND;TZID=UTC:20251209T190000
DTSTAMP:20260424T223825
CREATED:20251201T184314Z
LAST-MODIFIED:20251201T184459Z
UID:10023291-1765303200-1765306800@fvoas.org
SUMMARY:MS Support Group
DESCRIPTION:
URL:https://fvoas.org/event/ms-support-group/
LOCATION:Fox Valley Community Services (Sandwich)\, 1406 Suydam Rd\, Sandwich\, IL\, 60548\, United States
CATEGORIES:Health and Wellness
END:VEVENT
BEGIN:VEVENT
DTSTART;TZID=UTC:20251209T123000
DTEND;TZID=UTC:20251209T133000
DTSTAMP:20260424T223825
CREATED:20250630T165812Z
LAST-MODIFIED:20260406T181010Z
UID:10025042-1765283400-1765287000@fvoas.org
SUMMARY:Mexican Train
DESCRIPTION:Dominos game!
URL:https://fvoas.org/event/mexican-train-2-2/2025-12-09/
LOCATION:Fox Valley Community Services (Sandwich)\, 1406 Suydam Rd\, Sandwich\, IL\, 60548\, United States
CATEGORIES:Rec Games
END:VEVENT
BEGIN:VEVENT
DTSTART;TZID=UTC:20251209T113000
DTEND;TZID=UTC:20251209T133000
DTSTAMP:20260424T223825
CREATED:20250923T142336Z
LAST-MODIFIED:20250923T142339Z
UID:10026254-1765279800-1765287000@fvoas.org
SUMMARY:Boomer Bowling
DESCRIPTION:Hometown Lanes – Plano\, IL \nCall Becky for more details at (815) 786-9404
URL:https://fvoas.org/event/boomer-bowling-2/2025-12-09/
LOCATION:Fox Valley Community Services (Sandwich)\, 1406 Suydam Rd\, Sandwich\, IL\, 60548\, United States
CATEGORIES:Entertainment
END:VEVENT
BEGIN:VEVENT
DTSTART;TZID=UTC:20251209T113000
DTEND;TZID=UTC:20251209T123000
DTSTAMP:20260424T223825
CREATED:20230614T201319Z
LAST-MODIFIED:20251230T162559Z
UID:10008333-1765279800-1765283400@fvoas.org
SUMMARY:Lunch
DESCRIPTION:Reserve your meal by calling 815-787-6219 ext. 2.\nThe VAC congregate lunch program is donation based.\nSuggested lunch donation of $6.00.\nLunch is available to all seniors regardless of their inability to contribute towards the cost of their lunch.
URL:https://fvoas.org/event/lunch/2025-12-09/
LOCATION:Fox Valley Community Services (Sandwich)\, 1406 Suydam Rd\, Sandwich\, IL\, 60548\, United States
CATEGORIES:Additional Services
END:VEVENT
BEGIN:VEVENT
DTSTART;TZID=UTC:20251209T103000
DTEND;TZID=UTC:20251209T113000
DTSTAMP:20260424T223825
CREATED:20251201T184146Z
LAST-MODIFIED:20251230T164740Z
UID:10015004-1765276200-1765279800@fvoas.org
SUMMARY:Everyone Has A Story
DESCRIPTION:
URL:https://fvoas.org/event/everyone-has-a-story-3-2-2/2025-12-09/
LOCATION:Fox Valley Community Services (Sandwich)\, 1406 Suydam Rd\, Sandwich\, IL\, 60548\, United States
CATEGORIES:Social Activities
END:VEVENT
BEGIN:VEVENT
DTSTART;TZID=UTC:20251209T103000
DTEND;TZID=UTC:20251209T111500
DTSTAMP:20260424T223825
CREATED:20230614T172136Z
LAST-MODIFIED:20260406T175746Z
UID:10010413-1765276200-1765278900@fvoas.org
SUMMARY:Bingocize
DESCRIPTION:
URL:https://fvoas.org/event/bingocize/2025-12-09/
LOCATION:Fox Valley Community Services (Sandwich)\, 1406 Suydam Rd\, Sandwich\, IL\, 60548\, United States
CATEGORIES:Health and Wellness
END:VEVENT
BEGIN:VEVENT
DTSTART;TZID=UTC:20251209T090000
DTEND;TZID=UTC:20251209T100000
DTSTAMP:20260424T223825
CREATED:20240531T163353Z
LAST-MODIFIED:20260203T143024Z
UID:10014623-1765270800-1765274400@fvoas.org
SUMMARY:Walkers Group
DESCRIPTION:Seasonal Walkers Group. Meet at the center and head over to the Sandwich Fair Grounds.
URL:https://fvoas.org/event/walkers-group/2025-12-09/
LOCATION:Fox Valley Community Services (Sandwich)\, 1406 Suydam Rd\, Sandwich\, IL\, 60548\, United States
CATEGORIES:Health and Wellness
END:VEVENT
BEGIN:VEVENT
DTSTART;TZID=UTC:20251209T083000
DTEND;TZID=UTC:20251209T093000
DTSTAMP:20260424T223825
CREATED:20230614T200048Z
LAST-MODIFIED:20241205T175004Z
UID:10017956-1765269000-1765272600@fvoas.org
SUMMARY:Bible Study
DESCRIPTION:
URL:https://fvoas.org/event/bible-study/2025-12-09/
LOCATION:Fox Valley Community Services (Sandwich)\, 1406 Suydam Rd\, Sandwich\, IL\, 60548\, United States
CATEGORIES:Social Activities
END:VEVENT
BEGIN:VEVENT
DTSTART;TZID=UTC:20251209T080000
DTEND;TZID=UTC:20251209T090000
DTSTAMP:20260424T223825
CREATED:20230614T200534Z
LAST-MODIFIED:20251029T185218Z
UID:10006719-1765267200-1765270800@fvoas.org
SUMMARY:Men's Breakfast
DESCRIPTION:JOIN Voluntary Action Center for their esteemed Men`s Breakfast \nRequires $7.00 fee.
URL:https://fvoas.org/event/mens-breakfast/2025-12-09/
LOCATION:Fox Valley Community Services (Sandwich)\, 1406 Suydam Rd\, Sandwich\, IL\, 60548\, United States
CATEGORIES:Social Activities
END:VEVENT
BEGIN:VEVENT
DTSTART;TZID=UTC:20251208T133000
DTEND;TZID=UTC:20251208T143000
DTSTAMP:20260424T223825
CREATED:20251029T180503Z
LAST-MODIFIED:20251029T185339Z
UID:10027793-1765200600-1765204200@fvoas.org
SUMMARY:Hookers Workshop
DESCRIPTION:Whether you are advanced or learning to crotchet please join our hooker’s workshop to advance your crocheting skills.
URL:https://fvoas.org/event/hookers-workshop/2025-12-08/
LOCATION:Fox Valley Community Services (Sandwich)\, 1406 Suydam Rd\, Sandwich\, IL\, 60548\, United States
CATEGORIES:Social Activities
END:VEVENT
BEGIN:VEVENT
DTSTART;TZID=UTC:20251208T133000
DTEND;TZID=UTC:20251208T143000
DTSTAMP:20260424T223825
CREATED:20250428T195309Z
LAST-MODIFIED:20251029T184947Z
UID:10004376-1765200600-1765204200@fvoas.org
SUMMARY:Cards
DESCRIPTION:
URL:https://fvoas.org/event/cards/2025-12-08/
LOCATION:Fox Valley Community Services (Sandwich)\, 1406 Suydam Rd\, Sandwich\, IL\, 60548\, United States
CATEGORIES:Rec Games
END:VEVENT
BEGIN:VEVENT
DTSTART;TZID=UTC:20251208T123000
DTEND;TZID=UTC:20251208T133000
DTSTAMP:20260424T223825
CREATED:20230614T194352Z
LAST-MODIFIED:20251201T192034Z
UID:10003588-1765197000-1765200600@fvoas.org
SUMMARY:Bingo
DESCRIPTION:Requires a $2.00 fee
URL:https://fvoas.org/event/bingo/2025-12-08/
LOCATION:Fox Valley Community Services (Sandwich)\, 1406 Suydam Rd\, Sandwich\, IL\, 60548\, United States
CATEGORIES:Rec Games
END:VEVENT
BEGIN:VEVENT
DTSTART;TZID=UTC:20251208T113000
DTEND;TZID=UTC:20251208T123000
DTSTAMP:20260424T223825
CREATED:20230614T201319Z
LAST-MODIFIED:20251230T162559Z
UID:10008332-1765193400-1765197000@fvoas.org
SUMMARY:Lunch
DESCRIPTION:Reserve your meal by calling 815-787-6219 ext. 2.\nThe VAC congregate lunch program is donation based.\nSuggested lunch donation of $6.00.\nLunch is available to all seniors regardless of their inability to contribute towards the cost of their lunch.
URL:https://fvoas.org/event/lunch/2025-12-08/
LOCATION:Fox Valley Community Services (Sandwich)\, 1406 Suydam Rd\, Sandwich\, IL\, 60548\, United States
CATEGORIES:Additional Services
END:VEVENT
BEGIN:VEVENT
DTSTART;TZID=UTC:20251208T103000
DTEND;TZID=UTC:20251208T113000
DTSTAMP:20260424T223825
CREATED:20250725T161856Z
LAST-MODIFIED:20250725T161856Z
UID:10025575-1765189800-1765193400@fvoas.org
SUMMARY:Wii Bowling
DESCRIPTION:
URL:https://fvoas.org/event/wii-bowling-2-2/2025-12-08/
LOCATION:Fox Valley Community Services (Sandwich)\, 1406 Suydam Rd\, Sandwich\, IL\, 60548\, United States
CATEGORIES:Rec Games
END:VEVENT
BEGIN:VEVENT
DTSTART;TZID=UTC:20251208T093000
DTEND;TZID=UTC:20251208T103000
DTSTAMP:20260424T223825
CREATED:20230614T192123Z
LAST-MODIFIED:20251201T190112Z
UID:10000909-1765186200-1765189800@fvoas.org
SUMMARY:Chair Exercise
DESCRIPTION:
URL:https://fvoas.org/event/chair-exercise/2025-12-08/
LOCATION:Fox Valley Community Services (Sandwich)\, 1406 Suydam Rd\, Sandwich\, IL\, 60548\, United States
CATEGORIES:Health and Wellness
END:VEVENT
BEGIN:VEVENT
DTSTART;TZID=UTC:20251208T083000
DTEND;TZID=UTC:20251208T093000
DTSTAMP:20260424T223825
CREATED:20230614T192927Z
LAST-MODIFIED:20251201T190059Z
UID:10001961-1765182600-1765186200@fvoas.org
SUMMARY:Group Fitness
DESCRIPTION:Members Free / Non-members $3 fee
URL:https://fvoas.org/event/group-fitness/2025-12-08/
LOCATION:Fox Valley Community Services (Sandwich)\, 1406 Suydam Rd\, Sandwich\, IL\, 60548\, United States
CATEGORIES:Health and Wellness
END:VEVENT
BEGIN:VEVENT
DTSTART;TZID=UTC:20251205T133000
DTEND;TZID=UTC:20251205T143000
DTSTAMP:20260424T223825
CREATED:20240531T165235Z
LAST-MODIFIED:20251230T162640Z
UID:10024255-1764941400-1764945000@fvoas.org
SUMMARY:Cards
DESCRIPTION:
URL:https://fvoas.org/event/cards-3/2025-12-05/
LOCATION:Fox Valley Community Services (Sandwich)\, 1406 Suydam Rd\, Sandwich\, IL\, 60548\, United States
CATEGORIES:Rec Games
END:VEVENT
BEGIN:VEVENT
DTSTART;TZID=UTC:20251205T123000
DTEND;TZID=UTC:20251205T133000
DTSTAMP:20260424T223825
CREATED:20240531T171138Z
LAST-MODIFIED:20251230T162742Z
UID:10016934-1764937800-1764941400@fvoas.org
SUMMARY:Chair Volleyball
DESCRIPTION:
URL:https://fvoas.org/event/chair-volleyball/2025-12-05/
LOCATION:Fox Valley Community Services (Sandwich)\, 1406 Suydam Rd\, Sandwich\, IL\, 60548\, United States
CATEGORIES:Health and Wellness
END:VEVENT
BEGIN:VEVENT
DTSTART;TZID=UTC:20251205T113000
DTEND;TZID=UTC:20251205T123000
DTSTAMP:20260424T223826
CREATED:20230614T201319Z
LAST-MODIFIED:20251230T162559Z
UID:10008329-1764934200-1764937800@fvoas.org
SUMMARY:Lunch
DESCRIPTION:Reserve your meal by calling 815-787-6219 ext. 2.\nThe VAC congregate lunch program is donation based.\nSuggested lunch donation of $6.00.\nLunch is available to all seniors regardless of their inability to contribute towards the cost of their lunch.
URL:https://fvoas.org/event/lunch/2025-12-05/
LOCATION:Fox Valley Community Services (Sandwich)\, 1406 Suydam Rd\, Sandwich\, IL\, 60548\, United States
CATEGORIES:Additional Services
END:VEVENT
BEGIN:VEVENT
DTSTART;TZID=UTC:20251205T103000
DTEND;TZID=UTC:20251205T111500
DTSTAMP:20260424T223826
CREATED:20230614T172136Z
LAST-MODIFIED:20260406T175746Z
UID:10010412-1764930600-1764933300@fvoas.org
SUMMARY:Bingocize
DESCRIPTION:
URL:https://fvoas.org/event/bingocize/2025-12-05/
LOCATION:Fox Valley Community Services (Sandwich)\, 1406 Suydam Rd\, Sandwich\, IL\, 60548\, United States
CATEGORIES:Health and Wellness
END:VEVENT
BEGIN:VEVENT
DTSTART;TZID=UTC:20251205T090000
DTEND;TZID=UTC:20251205T100000
DTSTAMP:20260424T223826
CREATED:20230614T201217Z
LAST-MODIFIED:20260406T180510Z
UID:10007283-1764925200-1764928800@fvoas.org
SUMMARY:Line Dancing
DESCRIPTION:
URL:https://fvoas.org/event/line-dancing/2025-12-05/
LOCATION:Fox Valley Community Services (Sandwich)\, 1406 Suydam Rd\, Sandwich\, IL\, 60548\, United States
CATEGORIES:Entertainment
END:VEVENT
END:VCALENDAR