BEGIN:VCALENDAR
VERSION:2.0
PRODID:-//Fox Valley Community Services - ECPv6.15.20//NONSGML v1.0//EN
CALSCALE:GREGORIAN
METHOD:PUBLISH
X-WR-CALNAME:Fox Valley Community Services
X-ORIGINAL-URL:https://fvoas.org
X-WR-CALDESC:Events for Fox Valley Community Services
REFRESH-INTERVAL;VALUE=DURATION:PT1H
X-Robots-Tag:noindex
X-PUBLISHED-TTL:PT1H
BEGIN:VTIMEZONE
TZID:UTC
BEGIN:STANDARD
TZOFFSETFROM:+0000
TZOFFSETTO:+0000
TZNAME:UTC
DTSTART:20250101T000000
END:STANDARD
END:VTIMEZONE
BEGIN:VEVENT
DTSTART;TZID=UTC:20260219T100000
DTEND;TZID=UTC:20260219T110000
DTSTAMP:20260424T211042
CREATED:20230614T194812Z
LAST-MODIFIED:20260407T191055Z
UID:10003861-1771495200-1771498800@fvoas.org
SUMMARY:Bingo
DESCRIPTION:Requires $2.00 fee.
URL:https://fvoas.org/event/bingo-2-2/2026-02-19/
LOCATION:Fox Valley Community Services (Sandwich)\, 1406 Suydam Rd\, Sandwich\, IL\, 60548\, United States
CATEGORIES:Rec Games
END:VEVENT
BEGIN:VEVENT
DTSTART;TZID=UTC:20260219T090000
DTEND;TZID=UTC:20260219T100000
DTSTAMP:20260424T211042
CREATED:20240531T163353Z
LAST-MODIFIED:20260203T143024Z
UID:10014644-1771491600-1771495200@fvoas.org
SUMMARY:Walkers Group
DESCRIPTION:Seasonal Walkers Group. Meet at the center and head over to the Sandwich Fair Grounds.
URL:https://fvoas.org/event/walkers-group/2026-02-19/
LOCATION:Fox Valley Community Services (Sandwich)\, 1406 Suydam Rd\, Sandwich\, IL\, 60548\, United States
CATEGORIES:Health and Wellness
END:VEVENT
BEGIN:VEVENT
DTSTART;TZID=UTC:20260218T163000
DTEND;TZID=UTC:20260218T200000
DTSTAMP:20260424T211042
CREATED:20240207T151248Z
LAST-MODIFIED:20240229T154131Z
UID:10012096-1771432200-1771444800@fvoas.org
SUMMARY:Bingo After Hours
DESCRIPTION:6-ON $7 a set / 9-ON $10 a set (each additional set $5) \nEarlybird Bingo $ 1 each (TRADE IN / 2 for $1) \nSpeed Bingo $1 each / 6 for $5 \nABE (Rollover) $1 / 6 for $5
URL:https://fvoas.org/event/bingo-after-hours/2026-02-18/
LOCATION:Fox Valley Community Services (Sandwich)\, 1406 Suydam Rd\, Sandwich\, IL\, 60548\, United States
CATEGORIES:Social Activities
ATTACH;FMTTYPE=image/png:https://fvoas.org/wp-content/uploads/2024/02/Bingo-After-Hour-Logo.png
END:VEVENT
BEGIN:VEVENT
DTSTART;TZID=UTC:20260218T123000
DTEND;TZID=UTC:20260218T123000
DTSTAMP:20260424T211042
CREATED:20251029T174713Z
LAST-MODIFIED:20251230T164956Z
UID:10026520-1771417800-1771417800@fvoas.org
SUMMARY:Bunco
DESCRIPTION:Requires $2.00 fee.
URL:https://fvoas.org/event/bunko-2-2/2026-02-18/
LOCATION:Fox Valley Community Services (Sandwich)\, 1406 Suydam Rd\, Sandwich\, IL\, 60548\, United States
CATEGORIES:Rec Games
END:VEVENT
BEGIN:VEVENT
DTSTART;TZID=UTC:20260218T113000
DTEND;TZID=UTC:20260218T123000
DTSTAMP:20260424T211042
CREATED:20230614T201319Z
LAST-MODIFIED:20251230T162559Z
UID:10008404-1771414200-1771417800@fvoas.org
SUMMARY:Lunch
DESCRIPTION:Reserve your meal by calling 815-787-6219 ext. 2.\nThe VAC congregate lunch program is donation based.\nSuggested lunch donation of $6.00.\nLunch is available to all seniors regardless of their inability to contribute towards the cost of their lunch.
URL:https://fvoas.org/event/lunch/2026-02-18/
LOCATION:Fox Valley Community Services (Sandwich)\, 1406 Suydam Rd\, Sandwich\, IL\, 60548\, United States
CATEGORIES:Additional Services
END:VEVENT
BEGIN:VEVENT
DTSTART;TZID=UTC:20260218T103000
DTEND;TZID=UTC:20260218T113000
DTSTAMP:20260424T211042
CREATED:20240730T183938Z
LAST-MODIFIED:20251201T190140Z
UID:10018569-1771410600-1771414200@fvoas.org
SUMMARY:Chair Volleyball 2
DESCRIPTION:
URL:https://fvoas.org/event/chair-volleyball-2/2026-02-18/
LOCATION:Fox Valley Community Services (Sandwich)\, 1406 Suydam Rd\, Sandwich\, IL\, 60548\, United States
CATEGORIES:Health and Wellness
END:VEVENT
BEGIN:VEVENT
DTSTART;TZID=UTC:20260218T093000
DTEND;TZID=UTC:20260218T103000
DTSTAMP:20260424T211042
CREATED:20230614T192123Z
LAST-MODIFIED:20251201T190112Z
UID:10000930-1771407000-1771410600@fvoas.org
SUMMARY:Chair Exercise
DESCRIPTION:
URL:https://fvoas.org/event/chair-exercise/2026-02-18/
LOCATION:Fox Valley Community Services (Sandwich)\, 1406 Suydam Rd\, Sandwich\, IL\, 60548\, United States
CATEGORIES:Health and Wellness
END:VEVENT
BEGIN:VEVENT
DTSTART;TZID=UTC:20260218T083000
DTEND;TZID=UTC:20260218T093000
DTSTAMP:20260424T211042
CREATED:20230614T192927Z
LAST-MODIFIED:20251201T190059Z
UID:10001982-1771403400-1771407000@fvoas.org
SUMMARY:Group Fitness
DESCRIPTION:Members Free / Non-members $3 fee
URL:https://fvoas.org/event/group-fitness/2026-02-18/
LOCATION:Fox Valley Community Services (Sandwich)\, 1406 Suydam Rd\, Sandwich\, IL\, 60548\, United States
CATEGORIES:Health and Wellness
END:VEVENT
BEGIN:VEVENT
DTSTART;TZID=UTC:20260217T160000
DTEND;TZID=UTC:20260217T170000
DTSTAMP:20260424T211042
CREATED:20251230T164227Z
LAST-MODIFIED:20260406T175205Z
UID:10030132-1771344000-1771347600@fvoas.org
SUMMARY:Dance Fit
DESCRIPTION:
URL:https://fvoas.org/event/dance-fit/2026-02-17/
LOCATION:Fox Valley Community Services (Sandwich)\, 1406 Suydam Rd\, Sandwich\, IL\, 60548\, United States
CATEGORIES:Health and Wellness
END:VEVENT
BEGIN:VEVENT
DTSTART;TZID=UTC:20260217T123000
DTEND;TZID=UTC:20260217T140000
DTSTAMP:20260424T211042
CREATED:20260203T144600Z
LAST-MODIFIED:20260203T144602Z
UID:10030519-1771331400-1771336800@fvoas.org
SUMMARY:Painting with Sheri
DESCRIPTION:
URL:https://fvoas.org/event/painting-with-sheri-3-2-2-2-2/2026-02-17/
LOCATION:Fox Valley Community Services (Sandwich)\, 1406 Suydam Rd\, Sandwich\, IL\, 60548\, United States
CATEGORIES:Social Activities
END:VEVENT
BEGIN:VEVENT
DTSTART;TZID=UTC:20260217T121500
DTEND;TZID=UTC:20260217T131500
DTSTAMP:20260424T211042
CREATED:20251230T164235Z
LAST-MODIFIED:20251230T164238Z
UID:10030388-1771330500-1771334100@fvoas.org
SUMMARY:Dime Jingle
DESCRIPTION:Join us every other Tuesday for Dime Jingle.
URL:https://fvoas.org/event/dime-jingle-2-2-2-2/2026-02-17/
LOCATION:Fox Valley Community Services (Sandwich)\, 1406 Suydam Rd\, Sandwich\, IL\, 60548\, United States
CATEGORIES:Rec Games
END:VEVENT
BEGIN:VEVENT
DTSTART;TZID=UTC:20260217T113000
DTEND;TZID=UTC:20260217T133000
DTSTAMP:20260424T211042
CREATED:20250923T142336Z
LAST-MODIFIED:20250923T142339Z
UID:10026264-1771327800-1771335000@fvoas.org
SUMMARY:Boomer Bowling
DESCRIPTION:Hometown Lanes – Plano\, IL \nCall Becky for more details at (815) 786-9404
URL:https://fvoas.org/event/boomer-bowling-2/2026-02-17/
LOCATION:Fox Valley Community Services (Sandwich)\, 1406 Suydam Rd\, Sandwich\, IL\, 60548\, United States
CATEGORIES:Entertainment
END:VEVENT
BEGIN:VEVENT
DTSTART;TZID=UTC:20260217T113000
DTEND;TZID=UTC:20260217T123000
DTSTAMP:20260424T211042
CREATED:20230614T201319Z
LAST-MODIFIED:20251230T162559Z
UID:10008403-1771327800-1771331400@fvoas.org
SUMMARY:Lunch
DESCRIPTION:Reserve your meal by calling 815-787-6219 ext. 2.\nThe VAC congregate lunch program is donation based.\nSuggested lunch donation of $6.00.\nLunch is available to all seniors regardless of their inability to contribute towards the cost of their lunch.
URL:https://fvoas.org/event/lunch/2026-02-17/
LOCATION:Fox Valley Community Services (Sandwich)\, 1406 Suydam Rd\, Sandwich\, IL\, 60548\, United States
CATEGORIES:Additional Services
END:VEVENT
BEGIN:VEVENT
DTSTART;TZID=UTC:20260217T103000
DTEND;TZID=UTC:20260217T111500
DTSTAMP:20260424T211042
CREATED:20230614T172136Z
LAST-MODIFIED:20260406T175746Z
UID:10010433-1771324200-1771326900@fvoas.org
SUMMARY:Bingocize
DESCRIPTION:
URL:https://fvoas.org/event/bingocize/2026-02-17/
LOCATION:Fox Valley Community Services (Sandwich)\, 1406 Suydam Rd\, Sandwich\, IL\, 60548\, United States
CATEGORIES:Health and Wellness
END:VEVENT
BEGIN:VEVENT
DTSTART;TZID=UTC:20260217T090000
DTEND;TZID=UTC:20260217T100000
DTSTAMP:20260424T211042
CREATED:20240531T163353Z
LAST-MODIFIED:20260203T143024Z
UID:10014643-1771318800-1771322400@fvoas.org
SUMMARY:Walkers Group
DESCRIPTION:Seasonal Walkers Group. Meet at the center and head over to the Sandwich Fair Grounds.
URL:https://fvoas.org/event/walkers-group/2026-02-17/
LOCATION:Fox Valley Community Services (Sandwich)\, 1406 Suydam Rd\, Sandwich\, IL\, 60548\, United States
CATEGORIES:Health and Wellness
END:VEVENT
BEGIN:VEVENT
DTSTART;TZID=UTC:20260217T083000
DTEND;TZID=UTC:20260217T093000
DTSTAMP:20260424T211042
CREATED:20230614T200048Z
LAST-MODIFIED:20241205T175004Z
UID:10017966-1771317000-1771320600@fvoas.org
SUMMARY:Bible Study
DESCRIPTION:
URL:https://fvoas.org/event/bible-study/2026-02-17/
LOCATION:Fox Valley Community Services (Sandwich)\, 1406 Suydam Rd\, Sandwich\, IL\, 60548\, United States
CATEGORIES:Social Activities
END:VEVENT
BEGIN:VEVENT
DTSTART;TZID=UTC:20260217T080000
DTEND;TZID=UTC:20260217T090000
DTSTAMP:20260424T211042
CREATED:20230614T200534Z
LAST-MODIFIED:20251029T185218Z
UID:10006729-1771315200-1771318800@fvoas.org
SUMMARY:Men's Breakfast
DESCRIPTION:JOIN Voluntary Action Center for their esteemed Men`s Breakfast \nRequires $7.00 fee.
URL:https://fvoas.org/event/mens-breakfast/2026-02-17/
LOCATION:Fox Valley Community Services (Sandwich)\, 1406 Suydam Rd\, Sandwich\, IL\, 60548\, United States
CATEGORIES:Social Activities
END:VEVENT
BEGIN:VEVENT
DTSTART;TZID=UTC:20260216T133000
DTEND;TZID=UTC:20260216T143000
DTSTAMP:20260424T211042
CREATED:20251029T180503Z
LAST-MODIFIED:20251029T185339Z
UID:10027803-1771248600-1771252200@fvoas.org
SUMMARY:Hookers Workshop
DESCRIPTION:Whether you are advanced or learning to crotchet please join our hooker’s workshop to advance your crocheting skills.
URL:https://fvoas.org/event/hookers-workshop/2026-02-16/
LOCATION:Fox Valley Community Services (Sandwich)\, 1406 Suydam Rd\, Sandwich\, IL\, 60548\, United States
CATEGORIES:Social Activities
END:VEVENT
BEGIN:VEVENT
DTSTART;TZID=UTC:20260216T133000
DTEND;TZID=UTC:20260216T143000
DTSTAMP:20260424T211042
CREATED:20250428T195309Z
LAST-MODIFIED:20251029T184947Z
UID:10004386-1771248600-1771252200@fvoas.org
SUMMARY:Cards
DESCRIPTION:
URL:https://fvoas.org/event/cards/2026-02-16/
LOCATION:Fox Valley Community Services (Sandwich)\, 1406 Suydam Rd\, Sandwich\, IL\, 60548\, United States
CATEGORIES:Rec Games
END:VEVENT
BEGIN:VEVENT
DTSTART;TZID=UTC:20260216T123000
DTEND;TZID=UTC:20260216T133000
DTSTAMP:20260424T211042
CREATED:20230614T194352Z
LAST-MODIFIED:20251201T192034Z
UID:10003598-1771245000-1771248600@fvoas.org
SUMMARY:Bingo
DESCRIPTION:Requires a $2.00 fee
URL:https://fvoas.org/event/bingo/2026-02-16/
LOCATION:Fox Valley Community Services (Sandwich)\, 1406 Suydam Rd\, Sandwich\, IL\, 60548\, United States
CATEGORIES:Rec Games
END:VEVENT
BEGIN:VEVENT
DTSTART;TZID=UTC:20260216T113000
DTEND;TZID=UTC:20260216T123000
DTSTAMP:20260424T211042
CREATED:20230614T201319Z
LAST-MODIFIED:20251230T162559Z
UID:10008402-1771241400-1771245000@fvoas.org
SUMMARY:Lunch
DESCRIPTION:Reserve your meal by calling 815-787-6219 ext. 2.\nThe VAC congregate lunch program is donation based.\nSuggested lunch donation of $6.00.\nLunch is available to all seniors regardless of their inability to contribute towards the cost of their lunch.
URL:https://fvoas.org/event/lunch/2026-02-16/
LOCATION:Fox Valley Community Services (Sandwich)\, 1406 Suydam Rd\, Sandwich\, IL\, 60548\, United States
CATEGORIES:Additional Services
END:VEVENT
BEGIN:VEVENT
DTSTART;TZID=UTC:20260216T103000
DTEND;TZID=UTC:20260216T113000
DTSTAMP:20260424T211042
CREATED:20250725T161856Z
LAST-MODIFIED:20250725T161856Z
UID:10025585-1771237800-1771241400@fvoas.org
SUMMARY:Wii Bowling
DESCRIPTION:
URL:https://fvoas.org/event/wii-bowling-2-2/2026-02-16/
LOCATION:Fox Valley Community Services (Sandwich)\, 1406 Suydam Rd\, Sandwich\, IL\, 60548\, United States
CATEGORIES:Rec Games
END:VEVENT
BEGIN:VEVENT
DTSTART;TZID=UTC:20260216T100000
DTEND;TZID=UTC:20260216T120000
DTSTAMP:20260424T211042
CREATED:20260203T144628Z
LAST-MODIFIED:20260203T144630Z
UID:10029278-1771236000-1771243200@fvoas.org
SUMMARY:Podiatrist
DESCRIPTION:Dr. LaPlant is ready to address all of your podiatric needs and is here to help with: \n\nNotorious bunions that disrupt your daily life\nDiabetic foot care to ensure effective management of diabetes-related foot complications\nTreatment for heel pain to keep you on your feet and in motion\nSolutions for a broad array of foot & ankle problems\nNail issues\, from infections to ingrowths\n\nGreat feet are the pillars of good health. \nDr. LaPlant accepts Medicare and all insurance coverage make sure to stop in to pickup a restoration form.
URL:https://fvoas.org/event/podiatrist-2-2-2/2026-02-16/
LOCATION:Fox Valley Community Services (Sandwich)\, 1406 Suydam Rd\, Sandwich\, IL\, 60548\, United States
CATEGORIES:Health and Wellness
END:VEVENT
BEGIN:VEVENT
DTSTART;TZID=UTC:20260216T093000
DTEND;TZID=UTC:20260216T103000
DTSTAMP:20260424T211042
CREATED:20230614T192123Z
LAST-MODIFIED:20251201T190112Z
UID:10000929-1771234200-1771237800@fvoas.org
SUMMARY:Chair Exercise
DESCRIPTION:
URL:https://fvoas.org/event/chair-exercise/2026-02-16/
LOCATION:Fox Valley Community Services (Sandwich)\, 1406 Suydam Rd\, Sandwich\, IL\, 60548\, United States
CATEGORIES:Health and Wellness
END:VEVENT
BEGIN:VEVENT
DTSTART;TZID=UTC:20260216T083000
DTEND;TZID=UTC:20260216T093000
DTSTAMP:20260424T211042
CREATED:20230614T192927Z
LAST-MODIFIED:20251201T190059Z
UID:10001981-1771230600-1771234200@fvoas.org
SUMMARY:Group Fitness
DESCRIPTION:Members Free / Non-members $3 fee
URL:https://fvoas.org/event/group-fitness/2026-02-16/
LOCATION:Fox Valley Community Services (Sandwich)\, 1406 Suydam Rd\, Sandwich\, IL\, 60548\, United States
CATEGORIES:Health and Wellness
END:VEVENT
BEGIN:VEVENT
DTSTART;TZID=UTC:20260213T133000
DTEND;TZID=UTC:20260213T143000
DTSTAMP:20260424T211042
CREATED:20240531T165235Z
LAST-MODIFIED:20251230T162640Z
UID:10024264-1770989400-1770993000@fvoas.org
SUMMARY:Cards
DESCRIPTION:
URL:https://fvoas.org/event/cards-3/2026-02-13/
LOCATION:Fox Valley Community Services (Sandwich)\, 1406 Suydam Rd\, Sandwich\, IL\, 60548\, United States
CATEGORIES:Rec Games
END:VEVENT
BEGIN:VEVENT
DTSTART;TZID=UTC:20260213T123000
DTEND;TZID=UTC:20260213T133000
DTSTAMP:20260424T211042
CREATED:20240531T171138Z
LAST-MODIFIED:20251230T162742Z
UID:10016944-1770985800-1770989400@fvoas.org
SUMMARY:Chair Volleyball
DESCRIPTION:
URL:https://fvoas.org/event/chair-volleyball/2026-02-13/
LOCATION:Fox Valley Community Services (Sandwich)\, 1406 Suydam Rd\, Sandwich\, IL\, 60548\, United States
CATEGORIES:Health and Wellness
END:VEVENT
BEGIN:VEVENT
DTSTART;TZID=UTC:20260213T113000
DTEND;TZID=UTC:20260213T123000
DTSTAMP:20260424T211042
CREATED:20230614T201319Z
LAST-MODIFIED:20251230T162559Z
UID:10008399-1770982200-1770985800@fvoas.org
SUMMARY:Lunch
DESCRIPTION:Reserve your meal by calling 815-787-6219 ext. 2.\nThe VAC congregate lunch program is donation based.\nSuggested lunch donation of $6.00.\nLunch is available to all seniors regardless of their inability to contribute towards the cost of their lunch.
URL:https://fvoas.org/event/lunch/2026-02-13/
LOCATION:Fox Valley Community Services (Sandwich)\, 1406 Suydam Rd\, Sandwich\, IL\, 60548\, United States
CATEGORIES:Additional Services
END:VEVENT
BEGIN:VEVENT
DTSTART;TZID=UTC:20260213T103000
DTEND;TZID=UTC:20260213T111500
DTSTAMP:20260424T211042
CREATED:20230614T172136Z
LAST-MODIFIED:20260406T175746Z
UID:10010432-1770978600-1770981300@fvoas.org
SUMMARY:Bingocize
DESCRIPTION:
URL:https://fvoas.org/event/bingocize/2026-02-13/
LOCATION:Fox Valley Community Services (Sandwich)\, 1406 Suydam Rd\, Sandwich\, IL\, 60548\, United States
CATEGORIES:Health and Wellness
END:VEVENT
BEGIN:VEVENT
DTSTART;TZID=UTC:20260213T090000
DTEND;TZID=UTC:20260213T100000
DTSTAMP:20260424T211042
CREATED:20230614T201217Z
LAST-MODIFIED:20260406T180510Z
UID:10007293-1770973200-1770976800@fvoas.org
SUMMARY:Line Dancing
DESCRIPTION:
URL:https://fvoas.org/event/line-dancing/2026-02-13/
LOCATION:Fox Valley Community Services (Sandwich)\, 1406 Suydam Rd\, Sandwich\, IL\, 60548\, United States
CATEGORIES:Entertainment
END:VEVENT
END:VCALENDAR