BEGIN:VCALENDAR
VERSION:2.0
PRODID:-//Fox Valley Community Services - ECPv6.15.20//NONSGML v1.0//EN
CALSCALE:GREGORIAN
METHOD:PUBLISH
X-WR-CALNAME:Fox Valley Community Services
X-ORIGINAL-URL:https://fvoas.org
X-WR-CALDESC:Events for Fox Valley Community Services
REFRESH-INTERVAL;VALUE=DURATION:PT1H
X-Robots-Tag:noindex
X-PUBLISHED-TTL:PT1H
BEGIN:VTIMEZONE
TZID:UTC
BEGIN:STANDARD
TZOFFSETFROM:+0000
TZOFFSETTO:+0000
TZNAME:UTC
DTSTART:20220101T000000
END:STANDARD
END:VTIMEZONE
BEGIN:VEVENT
DTSTART;TZID=UTC:20230828T123000
DTEND;TZID=UTC:20230828T133000
DTSTAMP:20260422T081159
CREATED:20230614T194352Z
LAST-MODIFIED:20251201T192034Z
UID:10003469-1693225800-1693229400@fvoas.org
SUMMARY:Bingo
DESCRIPTION:Requires a $2.00 fee
URL:https://fvoas.org/event/bingo/2023-08-28/
LOCATION:Fox Valley Community Services (Sandwich)\, 1406 Suydam Rd\, Sandwich\, IL\, 60548\, United States
CATEGORIES:Rec Games
END:VEVENT
BEGIN:VEVENT
DTSTART;TZID=UTC:20230828T113000
DTEND;TZID=UTC:20230828T123000
DTSTAMP:20260422T081159
CREATED:20230614T201319Z
LAST-MODIFIED:20251230T162559Z
UID:10007499-1693222200-1693225800@fvoas.org
SUMMARY:Lunch
DESCRIPTION:Reserve your meal by calling 815-787-6219 ext. 2.\nThe VAC congregate lunch program is donation based.\nSuggested lunch donation of $6.00.\nLunch is available to all seniors regardless of their inability to contribute towards the cost of their lunch.
URL:https://fvoas.org/event/lunch/2023-08-28/
LOCATION:Fox Valley Community Services (Sandwich)\, 1406 Suydam Rd\, Sandwich\, IL\, 60548\, United States
CATEGORIES:Additional Services
END:VEVENT
BEGIN:VEVENT
DTSTART;TZID=UTC:20230828T093000
DTEND;TZID=UTC:20230828T103000
DTSTAMP:20260422T081159
CREATED:20230614T192123Z
LAST-MODIFIED:20251201T190112Z
UID:10000671-1693215000-1693218600@fvoas.org
SUMMARY:Chair Exercise
DESCRIPTION:
URL:https://fvoas.org/event/chair-exercise/2023-08-28/
LOCATION:Fox Valley Community Services (Sandwich)\, 1406 Suydam Rd\, Sandwich\, IL\, 60548\, United States
CATEGORIES:Health and Wellness
END:VEVENT
BEGIN:VEVENT
DTSTART;TZID=UTC:20230828T083000
DTEND;TZID=UTC:20230828T093000
DTSTAMP:20260422T081159
CREATED:20230614T192927Z
LAST-MODIFIED:20251201T190059Z
UID:10001723-1693211400-1693215000@fvoas.org
SUMMARY:Group Fitness
DESCRIPTION:Members Free / Non-members $3 fee
URL:https://fvoas.org/event/group-fitness/2023-08-28/
LOCATION:Fox Valley Community Services (Sandwich)\, 1406 Suydam Rd\, Sandwich\, IL\, 60548\, United States
CATEGORIES:Health and Wellness
END:VEVENT
BEGIN:VEVENT
DTSTART;TZID=UTC:20230825T113000
DTEND;TZID=UTC:20230825T123000
DTSTAMP:20260422T081159
CREATED:20230614T201319Z
LAST-MODIFIED:20251230T162559Z
UID:10007496-1692963000-1692966600@fvoas.org
SUMMARY:Lunch
DESCRIPTION:Reserve your meal by calling 815-787-6219 ext. 2.\nThe VAC congregate lunch program is donation based.\nSuggested lunch donation of $6.00.\nLunch is available to all seniors regardless of their inability to contribute towards the cost of their lunch.
URL:https://fvoas.org/event/lunch/2023-08-25/
LOCATION:Fox Valley Community Services (Sandwich)\, 1406 Suydam Rd\, Sandwich\, IL\, 60548\, United States
CATEGORIES:Additional Services
END:VEVENT
BEGIN:VEVENT
DTSTART;TZID=UTC:20230825T103000
DTEND;TZID=UTC:20230825T111500
DTSTAMP:20260422T081159
CREATED:20230614T172136Z
LAST-MODIFIED:20260406T175746Z
UID:10010174-1692959400-1692962100@fvoas.org
SUMMARY:Bingocize
DESCRIPTION:
URL:https://fvoas.org/event/bingocize/2023-08-25/
LOCATION:Fox Valley Community Services (Sandwich)\, 1406 Suydam Rd\, Sandwich\, IL\, 60548\, United States
CATEGORIES:Health and Wellness
END:VEVENT
BEGIN:VEVENT
DTSTART;TZID=UTC:20230825T090000
DTEND;TZID=UTC:20230825T100000
DTSTAMP:20260422T081159
CREATED:20230614T201217Z
LAST-MODIFIED:20260406T180510Z
UID:10007164-1692954000-1692957600@fvoas.org
SUMMARY:Line Dancing
DESCRIPTION:
URL:https://fvoas.org/event/line-dancing/2023-08-25/
LOCATION:Fox Valley Community Services (Sandwich)\, 1406 Suydam Rd\, Sandwich\, IL\, 60548\, United States
CATEGORIES:Entertainment
END:VEVENT
BEGIN:VEVENT
DTSTART;TZID=UTC:20230824T123000
DTEND;TZID=UTC:20230824T133000
DTSTAMP:20260422T081159
CREATED:20230614T195118Z
LAST-MODIFIED:20251029T175128Z
UID:10004530-1692880200-1692883800@fvoas.org
SUMMARY:Cards
DESCRIPTION:
URL:https://fvoas.org/event/cards-2/2023-08-24/
LOCATION:Fox Valley Community Services (Sandwich)\, 1406 Suydam Rd\, Sandwich\, IL\, 60548\, United States
CATEGORIES:Rec Games
END:VEVENT
BEGIN:VEVENT
DTSTART;TZID=UTC:20230824T113000
DTEND;TZID=UTC:20230824T123000
DTSTAMP:20260422T081159
CREATED:20230614T201319Z
LAST-MODIFIED:20251230T162559Z
UID:10007495-1692876600-1692880200@fvoas.org
SUMMARY:Lunch
DESCRIPTION:Reserve your meal by calling 815-787-6219 ext. 2.\nThe VAC congregate lunch program is donation based.\nSuggested lunch donation of $6.00.\nLunch is available to all seniors regardless of their inability to contribute towards the cost of their lunch.
URL:https://fvoas.org/event/lunch/2023-08-24/
LOCATION:Fox Valley Community Services (Sandwich)\, 1406 Suydam Rd\, Sandwich\, IL\, 60548\, United States
CATEGORIES:Additional Services
END:VEVENT
BEGIN:VEVENT
DTSTART;TZID=UTC:20230824T100000
DTEND;TZID=UTC:20230824T110000
DTSTAMP:20260422T081159
CREATED:20230614T194812Z
LAST-MODIFIED:20260407T191055Z
UID:10003731-1692871200-1692874800@fvoas.org
SUMMARY:Bingo
DESCRIPTION:Requires $2.00 fee.
URL:https://fvoas.org/event/bingo-2-2/2023-08-24/
LOCATION:Fox Valley Community Services (Sandwich)\, 1406 Suydam Rd\, Sandwich\, IL\, 60548\, United States
CATEGORIES:Rec Games
END:VEVENT
BEGIN:VEVENT
DTSTART;TZID=UTC:20230823T113000
DTEND;TZID=UTC:20230823T123000
DTSTAMP:20260422T081159
CREATED:20230614T201319Z
LAST-MODIFIED:20251230T162559Z
UID:10007494-1692790200-1692793800@fvoas.org
SUMMARY:Lunch
DESCRIPTION:Reserve your meal by calling 815-787-6219 ext. 2.\nThe VAC congregate lunch program is donation based.\nSuggested lunch donation of $6.00.\nLunch is available to all seniors regardless of their inability to contribute towards the cost of their lunch.
URL:https://fvoas.org/event/lunch/2023-08-23/
LOCATION:Fox Valley Community Services (Sandwich)\, 1406 Suydam Rd\, Sandwich\, IL\, 60548\, United States
CATEGORIES:Additional Services
END:VEVENT
BEGIN:VEVENT
DTSTART;TZID=UTC:20230823T093000
DTEND;TZID=UTC:20230823T103000
DTSTAMP:20260422T081159
CREATED:20230614T192123Z
LAST-MODIFIED:20251201T190112Z
UID:10000670-1692783000-1692786600@fvoas.org
SUMMARY:Chair Exercise
DESCRIPTION:
URL:https://fvoas.org/event/chair-exercise/2023-08-23/
LOCATION:Fox Valley Community Services (Sandwich)\, 1406 Suydam Rd\, Sandwich\, IL\, 60548\, United States
CATEGORIES:Health and Wellness
END:VEVENT
BEGIN:VEVENT
DTSTART;TZID=UTC:20230823T083000
DTEND;TZID=UTC:20230823T093000
DTSTAMP:20260422T081159
CREATED:20230614T192927Z
LAST-MODIFIED:20251201T190059Z
UID:10001722-1692779400-1692783000@fvoas.org
SUMMARY:Group Fitness
DESCRIPTION:Members Free / Non-members $3 fee
URL:https://fvoas.org/event/group-fitness/2023-08-23/
LOCATION:Fox Valley Community Services (Sandwich)\, 1406 Suydam Rd\, Sandwich\, IL\, 60548\, United States
CATEGORIES:Health and Wellness
END:VEVENT
BEGIN:VEVENT
DTSTART;TZID=UTC:20230822T164500
DTEND;TZID=UTC:20230822T180000
DTSTAMP:20260422T081159
CREATED:20230614T194150Z
LAST-MODIFIED:20251029T180032Z
UID:10026803-1692722700-1692727200@fvoas.org
SUMMARY:Stretching with Mini
DESCRIPTION:
URL:https://fvoas.org/event/stretching-with-mini/2023-08-22/
LOCATION:Fox Valley Community Services (Sandwich)\, 1406 Suydam Rd\, Sandwich\, IL\, 60548\, United States
CATEGORIES:Health and Wellness
END:VEVENT
BEGIN:VEVENT
DTSTART;TZID=UTC:20230822T113000
DTEND;TZID=UTC:20230822T123000
DTSTAMP:20260422T081159
CREATED:20230614T201319Z
LAST-MODIFIED:20251230T162559Z
UID:10007493-1692703800-1692707400@fvoas.org
SUMMARY:Lunch
DESCRIPTION:Reserve your meal by calling 815-787-6219 ext. 2.\nThe VAC congregate lunch program is donation based.\nSuggested lunch donation of $6.00.\nLunch is available to all seniors regardless of their inability to contribute towards the cost of their lunch.
URL:https://fvoas.org/event/lunch/2023-08-22/
LOCATION:Fox Valley Community Services (Sandwich)\, 1406 Suydam Rd\, Sandwich\, IL\, 60548\, United States
CATEGORIES:Additional Services
END:VEVENT
BEGIN:VEVENT
DTSTART;TZID=UTC:20230822T103000
DTEND;TZID=UTC:20230822T113000
DTSTAMP:20260422T081159
CREATED:20230614T200945Z
LAST-MODIFIED:20240220T161127Z
UID:10007035-1692700200-1692703800@fvoas.org
SUMMARY:Writer's Group
DESCRIPTION:
URL:https://fvoas.org/event/writers-group-2/2023-08-22/
LOCATION:Fox Valley Community Services (Sandwich)\, 1406 Suydam Rd\, Sandwich\, IL\, 60548\, United States
CATEGORIES:Social Activities
END:VEVENT
BEGIN:VEVENT
DTSTART;TZID=UTC:20230822T103000
DTEND;TZID=UTC:20230822T111500
DTSTAMP:20260422T081159
CREATED:20230614T172136Z
LAST-MODIFIED:20260406T175746Z
UID:10010173-1692700200-1692702900@fvoas.org
SUMMARY:Bingocize
DESCRIPTION:
URL:https://fvoas.org/event/bingocize/2023-08-22/
LOCATION:Fox Valley Community Services (Sandwich)\, 1406 Suydam Rd\, Sandwich\, IL\, 60548\, United States
CATEGORIES:Health and Wellness
END:VEVENT
BEGIN:VEVENT
DTSTART;TZID=UTC:20230822T090000
DTEND;TZID=UTC:20230822T110000
DTSTAMP:20260422T081159
CREATED:20230803T160258Z
LAST-MODIFIED:20260203T145330Z
UID:10009315-1692694800-1692702000@fvoas.org
SUMMARY:Senior Services - Dekalb
DESCRIPTION:
URL:https://fvoas.org/event/senior-services-dekalb-2/2023-08-22/
LOCATION:Fox Valley Community Services (Dekalb)\, 1701 E. Lincoln Highway\, Dekalb\, IL\, 60115\, United States
CATEGORIES:Additional Services
END:VEVENT
BEGIN:VEVENT
DTSTART;TZID=UTC:20230822T083000
DTEND;TZID=UTC:20230822T093000
DTSTAMP:20260422T081159
CREATED:20230614T200048Z
LAST-MODIFIED:20241205T175004Z
UID:10017837-1692693000-1692696600@fvoas.org
SUMMARY:Bible Study
DESCRIPTION:
URL:https://fvoas.org/event/bible-study/2023-08-22/
LOCATION:Fox Valley Community Services (Sandwich)\, 1406 Suydam Rd\, Sandwich\, IL\, 60548\, United States
CATEGORIES:Social Activities
END:VEVENT
BEGIN:VEVENT
DTSTART;TZID=UTC:20230822T080000
DTEND;TZID=UTC:20230822T090000
DTSTAMP:20260422T081159
CREATED:20230614T200534Z
LAST-MODIFIED:20251029T185218Z
UID:10006599-1692691200-1692694800@fvoas.org
SUMMARY:Men's Breakfast
DESCRIPTION:JOIN Voluntary Action Center for their esteemed Men`s Breakfast \nRequires $7.00 fee.
URL:https://fvoas.org/event/mens-breakfast/2023-08-22/
LOCATION:Fox Valley Community Services (Sandwich)\, 1406 Suydam Rd\, Sandwich\, IL\, 60548\, United States
CATEGORIES:Social Activities
END:VEVENT
BEGIN:VEVENT
DTSTART;TZID=UTC:20230821T123000
DTEND;TZID=UTC:20230821T133000
DTSTAMP:20260422T081159
CREATED:20230614T194352Z
LAST-MODIFIED:20251201T192034Z
UID:10003468-1692621000-1692624600@fvoas.org
SUMMARY:Bingo
DESCRIPTION:Requires a $2.00 fee
URL:https://fvoas.org/event/bingo/2023-08-21/
LOCATION:Fox Valley Community Services (Sandwich)\, 1406 Suydam Rd\, Sandwich\, IL\, 60548\, United States
CATEGORIES:Rec Games
END:VEVENT
BEGIN:VEVENT
DTSTART;TZID=UTC:20230821T113000
DTEND;TZID=UTC:20230821T123000
DTSTAMP:20260422T081159
CREATED:20230614T201319Z
LAST-MODIFIED:20251230T162559Z
UID:10007492-1692617400-1692621000@fvoas.org
SUMMARY:Lunch
DESCRIPTION:Reserve your meal by calling 815-787-6219 ext. 2.\nThe VAC congregate lunch program is donation based.\nSuggested lunch donation of $6.00.\nLunch is available to all seniors regardless of their inability to contribute towards the cost of their lunch.
URL:https://fvoas.org/event/lunch/2023-08-21/
LOCATION:Fox Valley Community Services (Sandwich)\, 1406 Suydam Rd\, Sandwich\, IL\, 60548\, United States
CATEGORIES:Additional Services
END:VEVENT
BEGIN:VEVENT
DTSTART;TZID=UTC:20230821T100000
DTEND;TZID=UTC:20230821T233000
DTSTAMP:20260422T081159
CREATED:20230803T164718Z
LAST-MODIFIED:20230803T164718Z
UID:10009779-1692612000-1692660600@fvoas.org
SUMMARY:Ivy Oaks Flower Arranging
DESCRIPTION:
URL:https://fvoas.org/event/ivy-oaks-flower-arranging/
LOCATION:Fox Valley Community Services (Sandwich)\, 1406 Suydam Rd\, Sandwich\, IL\, 60548\, United States
CATEGORIES:Social Activities
END:VEVENT
BEGIN:VEVENT
DTSTART;TZID=UTC:20230821T093000
DTEND;TZID=UTC:20230821T103000
DTSTAMP:20260422T081159
CREATED:20230614T192123Z
LAST-MODIFIED:20251201T190112Z
UID:10000669-1692610200-1692613800@fvoas.org
SUMMARY:Chair Exercise
DESCRIPTION:
URL:https://fvoas.org/event/chair-exercise/2023-08-21/
LOCATION:Fox Valley Community Services (Sandwich)\, 1406 Suydam Rd\, Sandwich\, IL\, 60548\, United States
CATEGORIES:Health and Wellness
END:VEVENT
BEGIN:VEVENT
DTSTART;TZID=UTC:20230821T083000
DTEND;TZID=UTC:20230821T093000
DTSTAMP:20260422T081159
CREATED:20230614T192927Z
LAST-MODIFIED:20251201T190059Z
UID:10001721-1692606600-1692610200@fvoas.org
SUMMARY:Group Fitness
DESCRIPTION:Members Free / Non-members $3 fee
URL:https://fvoas.org/event/group-fitness/2023-08-21/
LOCATION:Fox Valley Community Services (Sandwich)\, 1406 Suydam Rd\, Sandwich\, IL\, 60548\, United States
CATEGORIES:Health and Wellness
END:VEVENT
BEGIN:VEVENT
DTSTART;TZID=UTC:20230818T113000
DTEND;TZID=UTC:20230818T123000
DTSTAMP:20260422T081159
CREATED:20230614T201319Z
LAST-MODIFIED:20251230T162559Z
UID:10007489-1692358200-1692361800@fvoas.org
SUMMARY:Lunch
DESCRIPTION:Reserve your meal by calling 815-787-6219 ext. 2.\nThe VAC congregate lunch program is donation based.\nSuggested lunch donation of $6.00.\nLunch is available to all seniors regardless of their inability to contribute towards the cost of their lunch.
URL:https://fvoas.org/event/lunch/2023-08-18/
LOCATION:Fox Valley Community Services (Sandwich)\, 1406 Suydam Rd\, Sandwich\, IL\, 60548\, United States
CATEGORIES:Additional Services
END:VEVENT
BEGIN:VEVENT
DTSTART;TZID=UTC:20230818T103000
DTEND;TZID=UTC:20230818T111500
DTSTAMP:20260422T081159
CREATED:20230614T172136Z
LAST-MODIFIED:20260406T175746Z
UID:10010172-1692354600-1692357300@fvoas.org
SUMMARY:Bingocize
DESCRIPTION:
URL:https://fvoas.org/event/bingocize/2023-08-18/
LOCATION:Fox Valley Community Services (Sandwich)\, 1406 Suydam Rd\, Sandwich\, IL\, 60548\, United States
CATEGORIES:Health and Wellness
END:VEVENT
BEGIN:VEVENT
DTSTART;TZID=UTC:20230818T090000
DTEND;TZID=UTC:20230818T100000
DTSTAMP:20260422T081159
CREATED:20230614T201217Z
LAST-MODIFIED:20260406T180510Z
UID:10007163-1692349200-1692352800@fvoas.org
SUMMARY:Line Dancing
DESCRIPTION:
URL:https://fvoas.org/event/line-dancing/2023-08-18/
LOCATION:Fox Valley Community Services (Sandwich)\, 1406 Suydam Rd\, Sandwich\, IL\, 60548\, United States
CATEGORIES:Entertainment
END:VEVENT
BEGIN:VEVENT
DTSTART;TZID=UTC:20230817T130000
DTEND;TZID=UTC:20230817T140000
DTSTAMP:20260422T081159
CREATED:20230614T171725Z
LAST-MODIFIED:20230614T171725Z
UID:10000003-1692277200-1692280800@fvoas.org
SUMMARY:Alzheimer's Support Group
DESCRIPTION:
URL:https://fvoas.org/event/alzheimers-support-group/2023-08-17/
LOCATION:Fox Valley Community Services (Sandwich)\, 1406 Suydam Rd\, Sandwich\, IL\, 60548\, United States
CATEGORIES:Health and Wellness
END:VEVENT
BEGIN:VEVENT
DTSTART;TZID=UTC:20230817T123000
DTEND;TZID=UTC:20230817T133000
DTSTAMP:20260422T081159
CREATED:20230614T195118Z
LAST-MODIFIED:20251029T175128Z
UID:10004528-1692275400-1692279000@fvoas.org
SUMMARY:Cards
DESCRIPTION:
URL:https://fvoas.org/event/cards-2/2023-08-17/
LOCATION:Fox Valley Community Services (Sandwich)\, 1406 Suydam Rd\, Sandwich\, IL\, 60548\, United States
CATEGORIES:Rec Games
END:VEVENT
END:VCALENDAR