BEGIN:VCALENDAR
VERSION:2.0
PRODID:-//Fox Valley Community Services - ECPv6.15.20//NONSGML v1.0//EN
CALSCALE:GREGORIAN
METHOD:PUBLISH
X-WR-CALNAME:Fox Valley Community Services
X-ORIGINAL-URL:https://fvoas.org
X-WR-CALDESC:Events for Fox Valley Community Services
REFRESH-INTERVAL;VALUE=DURATION:PT1H
X-Robots-Tag:noindex
X-PUBLISHED-TTL:PT1H
BEGIN:VTIMEZONE
TZID:UTC
BEGIN:STANDARD
TZOFFSETFROM:+0000
TZOFFSETTO:+0000
TZNAME:UTC
DTSTART:20220101T000000
END:STANDARD
END:VTIMEZONE
BEGIN:VEVENT
DTSTART;TZID=UTC:20231019T123000
DTEND;TZID=UTC:20231019T133000
DTSTAMP:20260421T135033
CREATED:20230614T195118Z
LAST-MODIFIED:20251029T175128Z
UID:10004546-1697718600-1697722200@fvoas.org
SUMMARY:Cards
DESCRIPTION:
URL:https://fvoas.org/event/cards-2/2023-10-19/
LOCATION:Fox Valley Community Services (Sandwich)\, 1406 Suydam Rd\, Sandwich\, IL\, 60548\, United States
CATEGORIES:Rec Games
END:VEVENT
BEGIN:VEVENT
DTSTART;TZID=UTC:20231019T113000
DTEND;TZID=UTC:20231019T123000
DTSTAMP:20260421T135033
CREATED:20230614T201319Z
LAST-MODIFIED:20251230T162559Z
UID:10007551-1697715000-1697718600@fvoas.org
SUMMARY:Lunch
DESCRIPTION:Reserve your meal by calling 815-787-6219 ext. 2.\nThe VAC congregate lunch program is donation based.\nSuggested lunch donation of $6.00.\nLunch is available to all seniors regardless of their inability to contribute towards the cost of their lunch.
URL:https://fvoas.org/event/lunch/2023-10-19/
LOCATION:Fox Valley Community Services (Sandwich)\, 1406 Suydam Rd\, Sandwich\, IL\, 60548\, United States
CATEGORIES:Additional Services
END:VEVENT
BEGIN:VEVENT
DTSTART;TZID=UTC:20231019T100000
DTEND;TZID=UTC:20231019T110000
DTSTAMP:20260421T135033
CREATED:20230614T194812Z
LAST-MODIFIED:20260407T191055Z
UID:10003739-1697709600-1697713200@fvoas.org
SUMMARY:Bingo
DESCRIPTION:Requires $2.00 fee.
URL:https://fvoas.org/event/bingo-2-2/2023-10-19/
LOCATION:Fox Valley Community Services (Sandwich)\, 1406 Suydam Rd\, Sandwich\, IL\, 60548\, United States
CATEGORIES:Rec Games
END:VEVENT
BEGIN:VEVENT
DTSTART;TZID=UTC:20231018T113000
DTEND;TZID=UTC:20231018T123000
DTSTAMP:20260421T135033
CREATED:20230614T201319Z
LAST-MODIFIED:20251230T162559Z
UID:10007550-1697628600-1697632200@fvoas.org
SUMMARY:Lunch
DESCRIPTION:Reserve your meal by calling 815-787-6219 ext. 2.\nThe VAC congregate lunch program is donation based.\nSuggested lunch donation of $6.00.\nLunch is available to all seniors regardless of their inability to contribute towards the cost of their lunch.
URL:https://fvoas.org/event/lunch/2023-10-18/
LOCATION:Fox Valley Community Services (Sandwich)\, 1406 Suydam Rd\, Sandwich\, IL\, 60548\, United States
CATEGORIES:Additional Services
END:VEVENT
BEGIN:VEVENT
DTSTART;TZID=UTC:20231018T093000
DTEND;TZID=UTC:20231018T103000
DTSTAMP:20260421T135033
CREATED:20230614T192123Z
LAST-MODIFIED:20251201T190112Z
UID:10000686-1697621400-1697625000@fvoas.org
SUMMARY:Chair Exercise
DESCRIPTION:
URL:https://fvoas.org/event/chair-exercise/2023-10-18/
LOCATION:Fox Valley Community Services (Sandwich)\, 1406 Suydam Rd\, Sandwich\, IL\, 60548\, United States
CATEGORIES:Health and Wellness
END:VEVENT
BEGIN:VEVENT
DTSTART;TZID=UTC:20231018T083000
DTEND;TZID=UTC:20231018T093000
DTSTAMP:20260421T135033
CREATED:20230614T192927Z
LAST-MODIFIED:20251201T190059Z
UID:10001738-1697617800-1697621400@fvoas.org
SUMMARY:Group Fitness
DESCRIPTION:Members Free / Non-members $3 fee
URL:https://fvoas.org/event/group-fitness/2023-10-18/
LOCATION:Fox Valley Community Services (Sandwich)\, 1406 Suydam Rd\, Sandwich\, IL\, 60548\, United States
CATEGORIES:Health and Wellness
END:VEVENT
BEGIN:VEVENT
DTSTART;TZID=UTC:20231017T164500
DTEND;TZID=UTC:20231017T180000
DTSTAMP:20260421T135033
CREATED:20230614T194150Z
LAST-MODIFIED:20251029T180032Z
UID:10026811-1697561100-1697565600@fvoas.org
SUMMARY:Stretching with Mini
DESCRIPTION:
URL:https://fvoas.org/event/stretching-with-mini/2023-10-17/
LOCATION:Fox Valley Community Services (Sandwich)\, 1406 Suydam Rd\, Sandwich\, IL\, 60548\, United States
CATEGORIES:Health and Wellness
END:VEVENT
BEGIN:VEVENT
DTSTART;TZID=UTC:20231017T113000
DTEND;TZID=UTC:20231017T123000
DTSTAMP:20260421T135033
CREATED:20230614T201319Z
LAST-MODIFIED:20251230T162559Z
UID:10007549-1697542200-1697545800@fvoas.org
SUMMARY:Lunch
DESCRIPTION:Reserve your meal by calling 815-787-6219 ext. 2.\nThe VAC congregate lunch program is donation based.\nSuggested lunch donation of $6.00.\nLunch is available to all seniors regardless of their inability to contribute towards the cost of their lunch.
URL:https://fvoas.org/event/lunch/2023-10-17/
LOCATION:Fox Valley Community Services (Sandwich)\, 1406 Suydam Rd\, Sandwich\, IL\, 60548\, United States
CATEGORIES:Additional Services
END:VEVENT
BEGIN:VEVENT
DTSTART;TZID=UTC:20231017T103000
DTEND;TZID=UTC:20231017T111500
DTSTAMP:20260421T135033
CREATED:20230614T172136Z
LAST-MODIFIED:20260406T175746Z
UID:10010189-1697538600-1697541300@fvoas.org
SUMMARY:Bingocize
DESCRIPTION:
URL:https://fvoas.org/event/bingocize/2023-10-17/
LOCATION:Fox Valley Community Services (Sandwich)\, 1406 Suydam Rd\, Sandwich\, IL\, 60548\, United States
CATEGORIES:Health and Wellness
END:VEVENT
BEGIN:VEVENT
DTSTART;TZID=UTC:20231017T083000
DTEND;TZID=UTC:20231017T093000
DTSTAMP:20260421T135033
CREATED:20230614T200048Z
LAST-MODIFIED:20241205T175004Z
UID:10017845-1697531400-1697535000@fvoas.org
SUMMARY:Bible Study
DESCRIPTION:
URL:https://fvoas.org/event/bible-study/2023-10-17/
LOCATION:Fox Valley Community Services (Sandwich)\, 1406 Suydam Rd\, Sandwich\, IL\, 60548\, United States
CATEGORIES:Social Activities
END:VEVENT
BEGIN:VEVENT
DTSTART;TZID=UTC:20231017T080000
DTEND;TZID=UTC:20231017T090000
DTSTAMP:20260421T135033
CREATED:20230614T200534Z
LAST-MODIFIED:20251029T185218Z
UID:10006607-1697529600-1697533200@fvoas.org
SUMMARY:Men's Breakfast
DESCRIPTION:JOIN Voluntary Action Center for their esteemed Men`s Breakfast \nRequires $7.00 fee.
URL:https://fvoas.org/event/mens-breakfast/2023-10-17/
LOCATION:Fox Valley Community Services (Sandwich)\, 1406 Suydam Rd\, Sandwich\, IL\, 60548\, United States
CATEGORIES:Social Activities
END:VEVENT
BEGIN:VEVENT
DTSTART;TZID=UTC:20231016T123000
DTEND;TZID=UTC:20231016T133000
DTSTAMP:20260421T135033
CREATED:20230614T194352Z
LAST-MODIFIED:20251201T192034Z
UID:10003476-1697459400-1697463000@fvoas.org
SUMMARY:Bingo
DESCRIPTION:Requires a $2.00 fee
URL:https://fvoas.org/event/bingo/2023-10-16/
LOCATION:Fox Valley Community Services (Sandwich)\, 1406 Suydam Rd\, Sandwich\, IL\, 60548\, United States
CATEGORIES:Rec Games
END:VEVENT
BEGIN:VEVENT
DTSTART;TZID=UTC:20231016T113000
DTEND;TZID=UTC:20231016T123000
DTSTAMP:20260421T135033
CREATED:20230614T201319Z
LAST-MODIFIED:20251230T162559Z
UID:10007548-1697455800-1697459400@fvoas.org
SUMMARY:Lunch
DESCRIPTION:Reserve your meal by calling 815-787-6219 ext. 2.\nThe VAC congregate lunch program is donation based.\nSuggested lunch donation of $6.00.\nLunch is available to all seniors regardless of their inability to contribute towards the cost of their lunch.
URL:https://fvoas.org/event/lunch/2023-10-16/
LOCATION:Fox Valley Community Services (Sandwich)\, 1406 Suydam Rd\, Sandwich\, IL\, 60548\, United States
CATEGORIES:Additional Services
END:VEVENT
BEGIN:VEVENT
DTSTART;TZID=UTC:20231016T093000
DTEND;TZID=UTC:20231016T103000
DTSTAMP:20260421T135033
CREATED:20230614T192123Z
LAST-MODIFIED:20251201T190112Z
UID:10000685-1697448600-1697452200@fvoas.org
SUMMARY:Chair Exercise
DESCRIPTION:
URL:https://fvoas.org/event/chair-exercise/2023-10-16/
LOCATION:Fox Valley Community Services (Sandwich)\, 1406 Suydam Rd\, Sandwich\, IL\, 60548\, United States
CATEGORIES:Health and Wellness
END:VEVENT
BEGIN:VEVENT
DTSTART;TZID=UTC:20231016T083000
DTEND;TZID=UTC:20231016T093000
DTSTAMP:20260421T135033
CREATED:20230614T192927Z
LAST-MODIFIED:20251201T190059Z
UID:10001737-1697445000-1697448600@fvoas.org
SUMMARY:Group Fitness
DESCRIPTION:Members Free / Non-members $3 fee
URL:https://fvoas.org/event/group-fitness/2023-10-16/
LOCATION:Fox Valley Community Services (Sandwich)\, 1406 Suydam Rd\, Sandwich\, IL\, 60548\, United States
CATEGORIES:Health and Wellness
END:VEVENT
BEGIN:VEVENT
DTSTART;TZID=UTC:20231013T113000
DTEND;TZID=UTC:20231013T123000
DTSTAMP:20260421T135033
CREATED:20230614T201319Z
LAST-MODIFIED:20251230T162559Z
UID:10007545-1697196600-1697200200@fvoas.org
SUMMARY:Lunch
DESCRIPTION:Reserve your meal by calling 815-787-6219 ext. 2.\nThe VAC congregate lunch program is donation based.\nSuggested lunch donation of $6.00.\nLunch is available to all seniors regardless of their inability to contribute towards the cost of their lunch.
URL:https://fvoas.org/event/lunch/2023-10-13/
LOCATION:Fox Valley Community Services (Sandwich)\, 1406 Suydam Rd\, Sandwich\, IL\, 60548\, United States
CATEGORIES:Additional Services
END:VEVENT
BEGIN:VEVENT
DTSTART;TZID=UTC:20231013T103000
DTEND;TZID=UTC:20231013T111500
DTSTAMP:20260421T135033
CREATED:20230614T172136Z
LAST-MODIFIED:20260406T175746Z
UID:10010188-1697193000-1697195700@fvoas.org
SUMMARY:Bingocize
DESCRIPTION:
URL:https://fvoas.org/event/bingocize/2023-10-13/
LOCATION:Fox Valley Community Services (Sandwich)\, 1406 Suydam Rd\, Sandwich\, IL\, 60548\, United States
CATEGORIES:Health and Wellness
END:VEVENT
BEGIN:VEVENT
DTSTART;TZID=UTC:20231013T090000
DTEND;TZID=UTC:20231013T100000
DTSTAMP:20260421T135033
CREATED:20230614T201217Z
LAST-MODIFIED:20260406T180510Z
UID:10007171-1697187600-1697191200@fvoas.org
SUMMARY:Line Dancing
DESCRIPTION:
URL:https://fvoas.org/event/line-dancing/2023-10-13/
LOCATION:Fox Valley Community Services (Sandwich)\, 1406 Suydam Rd\, Sandwich\, IL\, 60548\, United States
CATEGORIES:Entertainment
END:VEVENT
BEGIN:VEVENT
DTSTART;TZID=UTC:20231012T123000
DTEND;TZID=UTC:20231012T133000
DTSTAMP:20260421T135033
CREATED:20230614T195118Z
LAST-MODIFIED:20251029T175128Z
UID:10004544-1697113800-1697117400@fvoas.org
SUMMARY:Cards
DESCRIPTION:
URL:https://fvoas.org/event/cards-2/2023-10-12/
LOCATION:Fox Valley Community Services (Sandwich)\, 1406 Suydam Rd\, Sandwich\, IL\, 60548\, United States
CATEGORIES:Rec Games
END:VEVENT
BEGIN:VEVENT
DTSTART;TZID=UTC:20231012T113000
DTEND;TZID=UTC:20231012T123000
DTSTAMP:20260421T135033
CREATED:20230614T201319Z
LAST-MODIFIED:20251230T162559Z
UID:10007544-1697110200-1697113800@fvoas.org
SUMMARY:Lunch
DESCRIPTION:Reserve your meal by calling 815-787-6219 ext. 2.\nThe VAC congregate lunch program is donation based.\nSuggested lunch donation of $6.00.\nLunch is available to all seniors regardless of their inability to contribute towards the cost of their lunch.
URL:https://fvoas.org/event/lunch/2023-10-12/
LOCATION:Fox Valley Community Services (Sandwich)\, 1406 Suydam Rd\, Sandwich\, IL\, 60548\, United States
CATEGORIES:Additional Services
END:VEVENT
BEGIN:VEVENT
DTSTART;TZID=UTC:20231012T100000
DTEND;TZID=UTC:20231012T110000
DTSTAMP:20260421T135033
CREATED:20230614T194812Z
LAST-MODIFIED:20260407T191055Z
UID:10003738-1697104800-1697108400@fvoas.org
SUMMARY:Bingo
DESCRIPTION:Requires $2.00 fee.
URL:https://fvoas.org/event/bingo-2-2/2023-10-12/
LOCATION:Fox Valley Community Services (Sandwich)\, 1406 Suydam Rd\, Sandwich\, IL\, 60548\, United States
CATEGORIES:Rec Games
END:VEVENT
BEGIN:VEVENT
DTSTART;TZID=UTC:20231011T180000
DTEND;TZID=UTC:20231011T190000
DTSTAMP:20260421T135033
CREATED:20230614T195721Z
LAST-MODIFIED:20230614T195721Z
UID:10005823-1697047200-1697050800@fvoas.org
SUMMARY:Alzheimer's Caregivers Support Group
DESCRIPTION:
URL:https://fvoas.org/event/alzheimers-caregivers-support-group/2023-10-11/
LOCATION:Fox Valley Community Services (Sandwich)\, 1406 Suydam Rd\, Sandwich\, IL\, 60548\, United States
CATEGORIES:Social Activities
END:VEVENT
BEGIN:VEVENT
DTSTART;TZID=UTC:20231011T120000
DTEND;TZID=UTC:20231011T160000
DTSTAMP:20260421T135033
CREATED:20230614T195803Z
LAST-MODIFIED:20240531T173425Z
UID:10009644-1697025600-1697040000@fvoas.org
SUMMARY:Food Pantry Delivery - DeKalb County Community Gardens
DESCRIPTION:
URL:https://fvoas.org/event/alzheimers-caregivers-food-pantry/2023-10-11/
LOCATION:Fox Valley Community Services (Sandwich)\, 1406 Suydam Rd\, Sandwich\, IL\, 60548\, United States
CATEGORIES:Social Activities
END:VEVENT
BEGIN:VEVENT
DTSTART;TZID=UTC:20231011T113000
DTEND;TZID=UTC:20231011T123000
DTSTAMP:20260421T135033
CREATED:20230614T201319Z
LAST-MODIFIED:20251230T162559Z
UID:10007543-1697023800-1697027400@fvoas.org
SUMMARY:Lunch
DESCRIPTION:Reserve your meal by calling 815-787-6219 ext. 2.\nThe VAC congregate lunch program is donation based.\nSuggested lunch donation of $6.00.\nLunch is available to all seniors regardless of their inability to contribute towards the cost of their lunch.
URL:https://fvoas.org/event/lunch/2023-10-11/
LOCATION:Fox Valley Community Services (Sandwich)\, 1406 Suydam Rd\, Sandwich\, IL\, 60548\, United States
CATEGORIES:Additional Services
END:VEVENT
BEGIN:VEVENT
DTSTART;TZID=UTC:20231011T093000
DTEND;TZID=UTC:20231011T103000
DTSTAMP:20260421T135033
CREATED:20230614T192123Z
LAST-MODIFIED:20251201T190112Z
UID:10000684-1697016600-1697020200@fvoas.org
SUMMARY:Chair Exercise
DESCRIPTION:
URL:https://fvoas.org/event/chair-exercise/2023-10-11/
LOCATION:Fox Valley Community Services (Sandwich)\, 1406 Suydam Rd\, Sandwich\, IL\, 60548\, United States
CATEGORIES:Health and Wellness
END:VEVENT
BEGIN:VEVENT
DTSTART;TZID=UTC:20231011T083000
DTEND;TZID=UTC:20231011T093000
DTSTAMP:20260421T135034
CREATED:20230614T192927Z
LAST-MODIFIED:20251201T190059Z
UID:10001736-1697013000-1697016600@fvoas.org
SUMMARY:Group Fitness
DESCRIPTION:Members Free / Non-members $3 fee
URL:https://fvoas.org/event/group-fitness/2023-10-11/
LOCATION:Fox Valley Community Services (Sandwich)\, 1406 Suydam Rd\, Sandwich\, IL\, 60548\, United States
CATEGORIES:Health and Wellness
END:VEVENT
BEGIN:VEVENT
DTSTART;TZID=UTC:20231010T164500
DTEND;TZID=UTC:20231010T180000
DTSTAMP:20260421T135034
CREATED:20230614T194150Z
LAST-MODIFIED:20251029T180032Z
UID:10026810-1696956300-1696960800@fvoas.org
SUMMARY:Stretching with Mini
DESCRIPTION:
URL:https://fvoas.org/event/stretching-with-mini/2023-10-10/
LOCATION:Fox Valley Community Services (Sandwich)\, 1406 Suydam Rd\, Sandwich\, IL\, 60548\, United States
CATEGORIES:Health and Wellness
END:VEVENT
BEGIN:VEVENT
DTSTART;TZID=UTC:20231010T113000
DTEND;TZID=UTC:20231010T123000
DTSTAMP:20260421T135034
CREATED:20230614T201319Z
LAST-MODIFIED:20251230T162559Z
UID:10007542-1696937400-1696941000@fvoas.org
SUMMARY:Lunch
DESCRIPTION:Reserve your meal by calling 815-787-6219 ext. 2.\nThe VAC congregate lunch program is donation based.\nSuggested lunch donation of $6.00.\nLunch is available to all seniors regardless of their inability to contribute towards the cost of their lunch.
URL:https://fvoas.org/event/lunch/2023-10-10/
LOCATION:Fox Valley Community Services (Sandwich)\, 1406 Suydam Rd\, Sandwich\, IL\, 60548\, United States
CATEGORIES:Additional Services
END:VEVENT
BEGIN:VEVENT
DTSTART;TZID=UTC:20231010T103000
DTEND;TZID=UTC:20231010T111500
DTSTAMP:20260421T135034
CREATED:20230614T172136Z
LAST-MODIFIED:20260406T175746Z
UID:10010187-1696933800-1696936500@fvoas.org
SUMMARY:Bingocize
DESCRIPTION:
URL:https://fvoas.org/event/bingocize/2023-10-10/
LOCATION:Fox Valley Community Services (Sandwich)\, 1406 Suydam Rd\, Sandwich\, IL\, 60548\, United States
CATEGORIES:Health and Wellness
END:VEVENT
BEGIN:VEVENT
DTSTART;TZID=UTC:20231010T083000
DTEND;TZID=UTC:20231010T093000
DTSTAMP:20260421T135034
CREATED:20230614T200048Z
LAST-MODIFIED:20241205T175004Z
UID:10017844-1696926600-1696930200@fvoas.org
SUMMARY:Bible Study
DESCRIPTION:
URL:https://fvoas.org/event/bible-study/2023-10-10/
LOCATION:Fox Valley Community Services (Sandwich)\, 1406 Suydam Rd\, Sandwich\, IL\, 60548\, United States
CATEGORIES:Social Activities
END:VEVENT
END:VCALENDAR