BEGIN:VCALENDAR
VERSION:2.0
PRODID:-//Fox Valley Community Services - ECPv6.15.20//NONSGML v1.0//EN
CALSCALE:GREGORIAN
METHOD:PUBLISH
X-ORIGINAL-URL:https://fvoas.org
X-WR-CALDESC:Events for Fox Valley Community Services
REFRESH-INTERVAL;VALUE=DURATION:PT1H
X-Robots-Tag:noindex
X-PUBLISHED-TTL:PT1H
BEGIN:VTIMEZONE
TZID:UTC
BEGIN:STANDARD
TZOFFSETFROM:+0000
TZOFFSETTO:+0000
TZNAME:UTC
DTSTART:20260101T000000
END:STANDARD
END:VTIMEZONE
BEGIN:VEVENT
DTSTART;TZID=UTC:20270108T113000
DTEND;TZID=UTC:20270108T123000
DTSTAMP:20260421T153800
CREATED:20230614T201319Z
LAST-MODIFIED:20251230T162559Z
UID:10008728-1799407800-1799411400@fvoas.org
SUMMARY:Lunch
DESCRIPTION:Reserve your meal by calling 815-787-6219 ext. 2.\nThe VAC congregate lunch program is donation based.\nSuggested lunch donation of $6.00.\nLunch is available to all seniors regardless of their inability to contribute towards the cost of their lunch.
URL:https://fvoas.org/event/lunch/2027-01-08/
LOCATION:Fox Valley Community Services (Sandwich)\, 1406 Suydam Rd\, Sandwich\, IL\, 60548\, United States
CATEGORIES:Additional Services
END:VEVENT
BEGIN:VEVENT
DTSTART;TZID=UTC:20270108T123000
DTEND;TZID=UTC:20270108T133000
DTSTAMP:20260421T153800
CREATED:20240531T171138Z
LAST-MODIFIED:20251230T162742Z
UID:10016991-1799411400-1799415000@fvoas.org
SUMMARY:Chair Volleyball
DESCRIPTION:
URL:https://fvoas.org/event/chair-volleyball/2027-01-08/
LOCATION:Fox Valley Community Services (Sandwich)\, 1406 Suydam Rd\, Sandwich\, IL\, 60548\, United States
CATEGORIES:Health and Wellness
END:VEVENT
BEGIN:VEVENT
DTSTART;TZID=UTC:20270108T133000
DTEND;TZID=UTC:20270108T143000
DTSTAMP:20260421T153800
CREATED:20240531T165235Z
LAST-MODIFIED:20251230T162640Z
UID:10024311-1799415000-1799418600@fvoas.org
SUMMARY:Cards
DESCRIPTION:
URL:https://fvoas.org/event/cards-3/2027-01-08/
LOCATION:Fox Valley Community Services (Sandwich)\, 1406 Suydam Rd\, Sandwich\, IL\, 60548\, United States
CATEGORIES:Rec Games
END:VEVENT
BEGIN:VEVENT
DTSTART;TZID=UTC:20270111T083000
DTEND;TZID=UTC:20270111T093000
DTSTAMP:20260421T153800
CREATED:20230614T192927Z
LAST-MODIFIED:20251201T190059Z
UID:10002075-1799656200-1799659800@fvoas.org
SUMMARY:Group Fitness
DESCRIPTION:Members Free / Non-members $3 fee
URL:https://fvoas.org/event/group-fitness/2027-01-11/
LOCATION:Fox Valley Community Services (Sandwich)\, 1406 Suydam Rd\, Sandwich\, IL\, 60548\, United States
CATEGORIES:Health and Wellness
END:VEVENT
BEGIN:VEVENT
DTSTART;TZID=UTC:20270111T093000
DTEND;TZID=UTC:20270111T103000
DTSTAMP:20260421T153800
CREATED:20230614T192123Z
LAST-MODIFIED:20251201T190112Z
UID:10001023-1799659800-1799663400@fvoas.org
SUMMARY:Chair Exercise
DESCRIPTION:
URL:https://fvoas.org/event/chair-exercise/2027-01-11/
LOCATION:Fox Valley Community Services (Sandwich)\, 1406 Suydam Rd\, Sandwich\, IL\, 60548\, United States
CATEGORIES:Health and Wellness
END:VEVENT
BEGIN:VEVENT
DTSTART;TZID=UTC:20270111T103000
DTEND;TZID=UTC:20270111T113000
DTSTAMP:20260421T153800
CREATED:20250725T161856Z
LAST-MODIFIED:20250725T161856Z
UID:10025632-1799663400-1799667000@fvoas.org
SUMMARY:Wii Bowling
DESCRIPTION:
URL:https://fvoas.org/event/wii-bowling-2-2/2027-01-11/
LOCATION:Fox Valley Community Services (Sandwich)\, 1406 Suydam Rd\, Sandwich\, IL\, 60548\, United States
CATEGORIES:Rec Games
END:VEVENT
BEGIN:VEVENT
DTSTART;TZID=UTC:20270111T113000
DTEND;TZID=UTC:20270111T123000
DTSTAMP:20260421T153800
CREATED:20230614T201319Z
LAST-MODIFIED:20251230T162559Z
UID:10008731-1799667000-1799670600@fvoas.org
SUMMARY:Lunch
DESCRIPTION:Reserve your meal by calling 815-787-6219 ext. 2.\nThe VAC congregate lunch program is donation based.\nSuggested lunch donation of $6.00.\nLunch is available to all seniors regardless of their inability to contribute towards the cost of their lunch.
URL:https://fvoas.org/event/lunch/2027-01-11/
LOCATION:Fox Valley Community Services (Sandwich)\, 1406 Suydam Rd\, Sandwich\, IL\, 60548\, United States
CATEGORIES:Additional Services
END:VEVENT
BEGIN:VEVENT
DTSTART;TZID=UTC:20270111T123000
DTEND;TZID=UTC:20270111T133000
DTSTAMP:20260421T153800
CREATED:20230614T194352Z
LAST-MODIFIED:20251201T192034Z
UID:10003645-1799670600-1799674200@fvoas.org
SUMMARY:Bingo
DESCRIPTION:Requires a $2.00 fee
URL:https://fvoas.org/event/bingo/2027-01-11/
LOCATION:Fox Valley Community Services (Sandwich)\, 1406 Suydam Rd\, Sandwich\, IL\, 60548\, United States
CATEGORIES:Rec Games
END:VEVENT
BEGIN:VEVENT
DTSTART;TZID=UTC:20270111T133000
DTEND;TZID=UTC:20270111T143000
DTSTAMP:20260421T153800
CREATED:20250428T195309Z
LAST-MODIFIED:20251029T184947Z
UID:10004433-1799674200-1799677800@fvoas.org
SUMMARY:Cards
DESCRIPTION:
URL:https://fvoas.org/event/cards/2027-01-11/
LOCATION:Fox Valley Community Services (Sandwich)\, 1406 Suydam Rd\, Sandwich\, IL\, 60548\, United States
CATEGORIES:Rec Games
END:VEVENT
BEGIN:VEVENT
DTSTART;TZID=UTC:20270111T133000
DTEND;TZID=UTC:20270111T143000
DTSTAMP:20260421T153800
CREATED:20251029T180503Z
LAST-MODIFIED:20251029T185339Z
UID:10027850-1799674200-1799677800@fvoas.org
SUMMARY:Hookers Workshop
DESCRIPTION:Whether you are advanced or learning to crotchet please join our hooker’s workshop to advance your crocheting skills.
URL:https://fvoas.org/event/hookers-workshop/2027-01-11/
LOCATION:Fox Valley Community Services (Sandwich)\, 1406 Suydam Rd\, Sandwich\, IL\, 60548\, United States
CATEGORIES:Social Activities
END:VEVENT
BEGIN:VEVENT
DTSTART;TZID=UTC:20270112T080000
DTEND;TZID=UTC:20270112T090000
DTSTAMP:20260421T153800
CREATED:20230614T200534Z
LAST-MODIFIED:20251029T185218Z
UID:10006776-1799740800-1799744400@fvoas.org
SUMMARY:Men's Breakfast
DESCRIPTION:JOIN Voluntary Action Center for their esteemed Men`s Breakfast \nRequires $7.00 fee.
URL:https://fvoas.org/event/mens-breakfast/2027-01-12/
LOCATION:Fox Valley Community Services (Sandwich)\, 1406 Suydam Rd\, Sandwich\, IL\, 60548\, United States
CATEGORIES:Social Activities
END:VEVENT
BEGIN:VEVENT
DTSTART;TZID=UTC:20270112T083000
DTEND;TZID=UTC:20270112T093000
DTSTAMP:20260421T153800
CREATED:20230614T200048Z
LAST-MODIFIED:20241205T175004Z
UID:10018013-1799742600-1799746200@fvoas.org
SUMMARY:Bible Study
DESCRIPTION:
URL:https://fvoas.org/event/bible-study/2027-01-12/
LOCATION:Fox Valley Community Services (Sandwich)\, 1406 Suydam Rd\, Sandwich\, IL\, 60548\, United States
CATEGORIES:Social Activities
END:VEVENT
BEGIN:VEVENT
DTSTART;TZID=UTC:20270112T090000
DTEND;TZID=UTC:20270112T100000
DTSTAMP:20260421T153800
CREATED:20240531T163353Z
LAST-MODIFIED:20260203T143024Z
UID:10014737-1799744400-1799748000@fvoas.org
SUMMARY:Walkers Group
DESCRIPTION:Seasonal Walkers Group. Meet at the center and head over to the Sandwich Fair Grounds.
URL:https://fvoas.org/event/walkers-group/2027-01-12/
LOCATION:Fox Valley Community Services (Sandwich)\, 1406 Suydam Rd\, Sandwich\, IL\, 60548\, United States
CATEGORIES:Health and Wellness
END:VEVENT
BEGIN:VEVENT
DTSTART;TZID=UTC:20270112T103000
DTEND;TZID=UTC:20270112T111500
DTSTAMP:20260421T153801
CREATED:20230614T172136Z
LAST-MODIFIED:20260406T175746Z
UID:10010527-1799749800-1799752500@fvoas.org
SUMMARY:Bingocize
DESCRIPTION:
URL:https://fvoas.org/event/bingocize/2027-01-12/
LOCATION:Fox Valley Community Services (Sandwich)\, 1406 Suydam Rd\, Sandwich\, IL\, 60548\, United States
CATEGORIES:Health and Wellness
END:VEVENT
BEGIN:VEVENT
DTSTART;TZID=UTC:20270112T103000
DTEND;TZID=UTC:20270112T113000
DTSTAMP:20260421T153801
CREATED:20251201T184146Z
LAST-MODIFIED:20251230T164740Z
UID:10015017-1799749800-1799753400@fvoas.org
SUMMARY:Everyone Has A Story
DESCRIPTION:
URL:https://fvoas.org/event/everyone-has-a-story-3-2-2/2027-01-12/
LOCATION:Fox Valley Community Services (Sandwich)\, 1406 Suydam Rd\, Sandwich\, IL\, 60548\, United States
CATEGORIES:Social Activities
END:VEVENT
BEGIN:VEVENT
DTSTART;TZID=UTC:20270112T113000
DTEND;TZID=UTC:20270112T123000
DTSTAMP:20260421T153801
CREATED:20230614T201319Z
LAST-MODIFIED:20251230T162559Z
UID:10008732-1799753400-1799757000@fvoas.org
SUMMARY:Lunch
DESCRIPTION:Reserve your meal by calling 815-787-6219 ext. 2.\nThe VAC congregate lunch program is donation based.\nSuggested lunch donation of $6.00.\nLunch is available to all seniors regardless of their inability to contribute towards the cost of their lunch.
URL:https://fvoas.org/event/lunch/2027-01-12/
LOCATION:Fox Valley Community Services (Sandwich)\, 1406 Suydam Rd\, Sandwich\, IL\, 60548\, United States
CATEGORIES:Additional Services
END:VEVENT
BEGIN:VEVENT
DTSTART;TZID=UTC:20270112T113000
DTEND;TZID=UTC:20270112T133000
DTSTAMP:20260421T153801
CREATED:20250923T142336Z
LAST-MODIFIED:20250923T142339Z
UID:10026311-1799753400-1799760600@fvoas.org
SUMMARY:Boomer Bowling
DESCRIPTION:Hometown Lanes – Plano\, IL \nCall Becky for more details at (815) 786-9404
URL:https://fvoas.org/event/boomer-bowling-2/2027-01-12/
LOCATION:Fox Valley Community Services (Sandwich)\, 1406 Suydam Rd\, Sandwich\, IL\, 60548\, United States
CATEGORIES:Entertainment
END:VEVENT
BEGIN:VEVENT
DTSTART;TZID=UTC:20270112T123000
DTEND;TZID=UTC:20270112T133000
DTSTAMP:20260421T153801
CREATED:20250630T165812Z
LAST-MODIFIED:20260406T181010Z
UID:10025055-1799757000-1799760600@fvoas.org
SUMMARY:Mexican Train
DESCRIPTION:Dominos game!
URL:https://fvoas.org/event/mexican-train-2-2/2027-01-12/
LOCATION:Fox Valley Community Services (Sandwich)\, 1406 Suydam Rd\, Sandwich\, IL\, 60548\, United States
CATEGORIES:Rec Games
END:VEVENT
BEGIN:VEVENT
DTSTART;TZID=UTC:20270112T123000
DTEND;TZID=UTC:20270112T133000
DTSTAMP:20260421T153801
CREATED:20260411T054238Z
LAST-MODIFIED:20260411T054241Z
UID:10032290-1799757000-1799760600@fvoas.org
SUMMARY:Painting with Sheri
DESCRIPTION:
URL:https://fvoas.org/event/painting-with-sheri-3-2-2-2-2-2/2027-01-12/
LOCATION:Fox Valley Community Services (Sandwich)\, 1406 Suydam Rd\, Sandwich\, IL\, 60548\, United States
CATEGORIES:Social Activities
END:VEVENT
BEGIN:VEVENT
DTSTART;TZID=UTC:20270112T160000
DTEND;TZID=UTC:20270112T170000
DTSTAMP:20260421T153801
CREATED:20251230T164227Z
LAST-MODIFIED:20260406T175205Z
UID:10030179-1799769600-1799773200@fvoas.org
SUMMARY:Dance Fit
DESCRIPTION:
URL:https://fvoas.org/event/dance-fit/2027-01-12/
LOCATION:Fox Valley Community Services (Sandwich)\, 1406 Suydam Rd\, Sandwich\, IL\, 60548\, United States
CATEGORIES:Health and Wellness
END:VEVENT
BEGIN:VEVENT
DTSTART;TZID=UTC:20270113T083000
DTEND;TZID=UTC:20270113T093000
DTSTAMP:20260421T153801
CREATED:20230614T192927Z
LAST-MODIFIED:20251201T190059Z
UID:10002076-1799829000-1799832600@fvoas.org
SUMMARY:Group Fitness
DESCRIPTION:Members Free / Non-members $3 fee
URL:https://fvoas.org/event/group-fitness/2027-01-13/
LOCATION:Fox Valley Community Services (Sandwich)\, 1406 Suydam Rd\, Sandwich\, IL\, 60548\, United States
CATEGORIES:Health and Wellness
END:VEVENT
BEGIN:VEVENT
DTSTART;TZID=UTC:20270113T093000
DTEND;TZID=UTC:20270113T103000
DTSTAMP:20260421T153801
CREATED:20230614T192123Z
LAST-MODIFIED:20251201T190112Z
UID:10001024-1799832600-1799836200@fvoas.org
SUMMARY:Chair Exercise
DESCRIPTION:
URL:https://fvoas.org/event/chair-exercise/2027-01-13/
LOCATION:Fox Valley Community Services (Sandwich)\, 1406 Suydam Rd\, Sandwich\, IL\, 60548\, United States
CATEGORIES:Health and Wellness
END:VEVENT
BEGIN:VEVENT
DTSTART;TZID=UTC:20270113T100000
DTEND;TZID=UTC:20270113T140000
DTSTAMP:20260421T153801
CREATED:20251029T181657Z
LAST-MODIFIED:20251029T181659Z
UID:10027610-1799834400-1799848800@fvoas.org
SUMMARY:$15 Haircuts
DESCRIPTION:
URL:https://fvoas.org/event/15-haricuts-2/2027-01-13/
LOCATION:Fox Valley Community Services (Sandwich)\, 1406 Suydam Rd\, Sandwich\, IL\, 60548\, United States
CATEGORIES:Health and Wellness
END:VEVENT
BEGIN:VEVENT
DTSTART;TZID=UTC:20270113T100000
DTEND;TZID=UTC:20270113T140000
DTSTAMP:20260421T153801
CREATED:20260406T174721Z
LAST-MODIFIED:20260406T174723Z
UID:10031345-1799834400-1799848800@fvoas.org
SUMMARY:Senior Services - LaSalle County
DESCRIPTION:
URL:https://fvoas.org/event/senior-services-lasalle-county-2-2/2027-01-13/
LOCATION:Fox Valley Community Services (Sandwich)\, 1406 Suydam Rd\, Sandwich\, IL\, 60548\, United States
CATEGORIES:Additional Services
END:VEVENT
BEGIN:VEVENT
DTSTART;TZID=UTC:20270113T103000
DTEND;TZID=UTC:20270113T113000
DTSTAMP:20260421T153801
CREATED:20240730T183938Z
LAST-MODIFIED:20251201T190140Z
UID:10018616-1799836200-1799839800@fvoas.org
SUMMARY:Chair Volleyball 2
DESCRIPTION:
URL:https://fvoas.org/event/chair-volleyball-2/2027-01-13/
LOCATION:Fox Valley Community Services (Sandwich)\, 1406 Suydam Rd\, Sandwich\, IL\, 60548\, United States
CATEGORIES:Health and Wellness
END:VEVENT
BEGIN:VEVENT
DTSTART;TZID=UTC:20270113T113000
DTEND;TZID=UTC:20270113T123000
DTSTAMP:20260421T153801
CREATED:20230614T201319Z
LAST-MODIFIED:20251230T162559Z
UID:10008733-1799839800-1799843400@fvoas.org
SUMMARY:Lunch
DESCRIPTION:Reserve your meal by calling 815-787-6219 ext. 2.\nThe VAC congregate lunch program is donation based.\nSuggested lunch donation of $6.00.\nLunch is available to all seniors regardless of their inability to contribute towards the cost of their lunch.
URL:https://fvoas.org/event/lunch/2027-01-13/
LOCATION:Fox Valley Community Services (Sandwich)\, 1406 Suydam Rd\, Sandwich\, IL\, 60548\, United States
CATEGORIES:Additional Services
END:VEVENT
BEGIN:VEVENT
DTSTART;TZID=UTC:20270113T120000
DTEND;TZID=UTC:20270113T160000
DTSTAMP:20260421T153801
CREATED:20230614T195803Z
LAST-MODIFIED:20240531T173425Z
UID:10009683-1799841600-1799856000@fvoas.org
SUMMARY:Food Pantry Delivery - DeKalb County Community Gardens
DESCRIPTION:
URL:https://fvoas.org/event/alzheimers-caregivers-food-pantry/2027-01-13/
LOCATION:Fox Valley Community Services (Sandwich)\, 1406 Suydam Rd\, Sandwich\, IL\, 60548\, United States
CATEGORIES:Social Activities
END:VEVENT
BEGIN:VEVENT
DTSTART;TZID=UTC:20270113T123000
DTEND;TZID=UTC:20270113T123000
DTSTAMP:20260421T153801
CREATED:20251029T174713Z
LAST-MODIFIED:20251230T164956Z
UID:10026567-1799843400-1799843400@fvoas.org
SUMMARY:Bunco
DESCRIPTION:Requires $2.00 fee.
URL:https://fvoas.org/event/bunko-2-2/2027-01-13/
LOCATION:Fox Valley Community Services (Sandwich)\, 1406 Suydam Rd\, Sandwich\, IL\, 60548\, United States
CATEGORIES:Rec Games
END:VEVENT
BEGIN:VEVENT
DTSTART;TZID=UTC:20270113T180000
DTEND;TZID=UTC:20270113T190000
DTSTAMP:20260421T153801
CREATED:20240426T145418Z
LAST-MODIFIED:20240506T163442Z
UID:10014437-1799863200-1799866800@fvoas.org
SUMMARY:Alzheimer's Caregivers Support Group
DESCRIPTION:
URL:https://fvoas.org/event/alzheimers-caregivers-support-group-2-2/2027-01-13/
LOCATION:Fox Valley Community Services (Sandwich)\, 1406 Suydam Rd\, Sandwich\, IL\, 60548\, United States
CATEGORIES:Social Activities
END:VEVENT
BEGIN:VEVENT
DTSTART;TZID=UTC:20270114T090000
DTEND;TZID=UTC:20270114T100000
DTSTAMP:20260421T153801
CREATED:20240531T163353Z
LAST-MODIFIED:20260203T143024Z
UID:10014738-1799917200-1799920800@fvoas.org
SUMMARY:Walkers Group
DESCRIPTION:Seasonal Walkers Group. Meet at the center and head over to the Sandwich Fair Grounds.
URL:https://fvoas.org/event/walkers-group/2027-01-14/
LOCATION:Fox Valley Community Services (Sandwich)\, 1406 Suydam Rd\, Sandwich\, IL\, 60548\, United States
CATEGORIES:Health and Wellness
END:VEVENT
END:VCALENDAR