BEGIN:VCALENDAR
VERSION:2.0
PRODID:-//Fox Valley Community Services - ECPv6.15.20//NONSGML v1.0//EN
CALSCALE:GREGORIAN
METHOD:PUBLISH
X-WR-CALNAME:Fox Valley Community Services
X-ORIGINAL-URL:https://fvoas.org
X-WR-CALDESC:Events for Fox Valley Community Services
REFRESH-INTERVAL;VALUE=DURATION:PT1H
X-Robots-Tag:noindex
X-PUBLISHED-TTL:PT1H
BEGIN:VTIMEZONE
TZID:UTC
BEGIN:STANDARD
TZOFFSETFROM:+0000
TZOFFSETTO:+0000
TZNAME:UTC
DTSTART:20240101T000000
END:STANDARD
END:VTIMEZONE
BEGIN:VEVENT
DTSTART;TZID=UTC:20251230T090000
DTEND;TZID=UTC:20251230T100000
DTSTAMP:20260421T095308
CREATED:20240531T163353Z
LAST-MODIFIED:20260203T143024Z
UID:10014629-1767085200-1767088800@fvoas.org
SUMMARY:Walkers Group
DESCRIPTION:Seasonal Walkers Group. Meet at the center and head over to the Sandwich Fair Grounds.
URL:https://fvoas.org/event/walkers-group/2025-12-30/
LOCATION:Fox Valley Community Services (Sandwich)\, 1406 Suydam Rd\, Sandwich\, IL\, 60548\, United States
CATEGORIES:Health and Wellness
END:VEVENT
BEGIN:VEVENT
DTSTART;TZID=UTC:20251230T103000
DTEND;TZID=UTC:20251230T111500
DTSTAMP:20260421T095308
CREATED:20230614T172136Z
LAST-MODIFIED:20260406T175746Z
UID:10010419-1767090600-1767093300@fvoas.org
SUMMARY:Bingocize
DESCRIPTION:
URL:https://fvoas.org/event/bingocize/2025-12-30/
LOCATION:Fox Valley Community Services (Sandwich)\, 1406 Suydam Rd\, Sandwich\, IL\, 60548\, United States
CATEGORIES:Health and Wellness
END:VEVENT
BEGIN:VEVENT
DTSTART;TZID=UTC:20251230T113000
DTEND;TZID=UTC:20251230T123000
DTSTAMP:20260421T095308
CREATED:20230614T201319Z
LAST-MODIFIED:20251230T162559Z
UID:10008354-1767094200-1767097800@fvoas.org
SUMMARY:Lunch
DESCRIPTION:Reserve your meal by calling 815-787-6219 ext. 2.\nThe VAC congregate lunch program is donation based.\nSuggested lunch donation of $6.00.\nLunch is available to all seniors regardless of their inability to contribute towards the cost of their lunch.
URL:https://fvoas.org/event/lunch/2025-12-30/
LOCATION:Fox Valley Community Services (Sandwich)\, 1406 Suydam Rd\, Sandwich\, IL\, 60548\, United States
CATEGORIES:Additional Services
END:VEVENT
BEGIN:VEVENT
DTSTART;TZID=UTC:20251230T113000
DTEND;TZID=UTC:20251230T133000
DTSTAMP:20260421T095308
CREATED:20250923T142336Z
LAST-MODIFIED:20250923T142339Z
UID:10026257-1767094200-1767101400@fvoas.org
SUMMARY:Boomer Bowling
DESCRIPTION:Hometown Lanes – Plano\, IL \nCall Becky for more details at (815) 786-9404
URL:https://fvoas.org/event/boomer-bowling-2/2025-12-30/
LOCATION:Fox Valley Community Services (Sandwich)\, 1406 Suydam Rd\, Sandwich\, IL\, 60548\, United States
CATEGORIES:Entertainment
END:VEVENT
BEGIN:VEVENT
DTSTART;TZID=UTC:20251230T123000
DTEND;TZID=UTC:20251230T133000
DTSTAMP:20260421T095308
CREATED:20250630T165858Z
LAST-MODIFIED:20250630T183105Z
UID:10025374-1767097800-1767101400@fvoas.org
SUMMARY:Mexican Train
DESCRIPTION:Dominos game!
URL:https://fvoas.org/event/mexican-train-2-3/2025-12-30/
LOCATION:Fox Valley Community Services (Sandwich)\, 1406 Suydam Rd\, Sandwich\, IL\, 60548\, United States
CATEGORIES:Rec Games
END:VEVENT
BEGIN:VEVENT
DTSTART;TZID=UTC:20260105T083000
DTEND;TZID=UTC:20260105T093000
DTSTAMP:20260421T095308
CREATED:20230614T192927Z
LAST-MODIFIED:20251201T190059Z
UID:10001969-1767601800-1767605400@fvoas.org
SUMMARY:Group Fitness
DESCRIPTION:Members Free / Non-members $3 fee
URL:https://fvoas.org/event/group-fitness/2026-01-05/
LOCATION:Fox Valley Community Services (Sandwich)\, 1406 Suydam Rd\, Sandwich\, IL\, 60548\, United States
CATEGORIES:Health and Wellness
END:VEVENT
BEGIN:VEVENT
DTSTART;TZID=UTC:20260105T093000
DTEND;TZID=UTC:20260105T103000
DTSTAMP:20260421T095308
CREATED:20230614T192123Z
LAST-MODIFIED:20251201T190112Z
UID:10000917-1767605400-1767609000@fvoas.org
SUMMARY:Chair Exercise
DESCRIPTION:
URL:https://fvoas.org/event/chair-exercise/2026-01-05/
LOCATION:Fox Valley Community Services (Sandwich)\, 1406 Suydam Rd\, Sandwich\, IL\, 60548\, United States
CATEGORIES:Health and Wellness
END:VEVENT
BEGIN:VEVENT
DTSTART;TZID=UTC:20260105T103000
DTEND;TZID=UTC:20260105T113000
DTSTAMP:20260421T095308
CREATED:20250725T161856Z
LAST-MODIFIED:20250725T161856Z
UID:10025579-1767609000-1767612600@fvoas.org
SUMMARY:Wii Bowling
DESCRIPTION:
URL:https://fvoas.org/event/wii-bowling-2-2/2026-01-05/
LOCATION:Fox Valley Community Services (Sandwich)\, 1406 Suydam Rd\, Sandwich\, IL\, 60548\, United States
CATEGORIES:Rec Games
END:VEVENT
BEGIN:VEVENT
DTSTART;TZID=UTC:20260105T113000
DTEND;TZID=UTC:20260105T123000
DTSTAMP:20260421T095308
CREATED:20230614T201319Z
LAST-MODIFIED:20251230T162559Z
UID:10008360-1767612600-1767616200@fvoas.org
SUMMARY:Lunch
DESCRIPTION:Reserve your meal by calling 815-787-6219 ext. 2.\nThe VAC congregate lunch program is donation based.\nSuggested lunch donation of $6.00.\nLunch is available to all seniors regardless of their inability to contribute towards the cost of their lunch.
URL:https://fvoas.org/event/lunch/2026-01-05/
LOCATION:Fox Valley Community Services (Sandwich)\, 1406 Suydam Rd\, Sandwich\, IL\, 60548\, United States
CATEGORIES:Additional Services
END:VEVENT
BEGIN:VEVENT
DTSTART;TZID=UTC:20260105T123000
DTEND;TZID=UTC:20260105T133000
DTSTAMP:20260421T095308
CREATED:20230614T194352Z
LAST-MODIFIED:20251201T192034Z
UID:10003592-1767616200-1767619800@fvoas.org
SUMMARY:Bingo
DESCRIPTION:Requires a $2.00 fee
URL:https://fvoas.org/event/bingo/2026-01-05/
LOCATION:Fox Valley Community Services (Sandwich)\, 1406 Suydam Rd\, Sandwich\, IL\, 60548\, United States
CATEGORIES:Rec Games
END:VEVENT
BEGIN:VEVENT
DTSTART;TZID=UTC:20260105T133000
DTEND;TZID=UTC:20260105T143000
DTSTAMP:20260421T095308
CREATED:20250428T195309Z
LAST-MODIFIED:20251029T184947Z
UID:10004380-1767619800-1767623400@fvoas.org
SUMMARY:Cards
DESCRIPTION:
URL:https://fvoas.org/event/cards/2026-01-05/
LOCATION:Fox Valley Community Services (Sandwich)\, 1406 Suydam Rd\, Sandwich\, IL\, 60548\, United States
CATEGORIES:Rec Games
END:VEVENT
BEGIN:VEVENT
DTSTART;TZID=UTC:20260105T133000
DTEND;TZID=UTC:20260105T143000
DTSTAMP:20260421T095308
CREATED:20251029T180503Z
LAST-MODIFIED:20251029T185339Z
UID:10027797-1767619800-1767623400@fvoas.org
SUMMARY:Hookers Workshop
DESCRIPTION:Whether you are advanced or learning to crotchet please join our hooker’s workshop to advance your crocheting skills.
URL:https://fvoas.org/event/hookers-workshop/2026-01-05/
LOCATION:Fox Valley Community Services (Sandwich)\, 1406 Suydam Rd\, Sandwich\, IL\, 60548\, United States
CATEGORIES:Social Activities
END:VEVENT
BEGIN:VEVENT
DTSTART;TZID=UTC:20260106T080000
DTEND;TZID=UTC:20260106T090000
DTSTAMP:20260421T095308
CREATED:20230614T200534Z
LAST-MODIFIED:20251029T185218Z
UID:10006723-1767686400-1767690000@fvoas.org
SUMMARY:Men's Breakfast
DESCRIPTION:JOIN Voluntary Action Center for their esteemed Men`s Breakfast \nRequires $7.00 fee.
URL:https://fvoas.org/event/mens-breakfast/2026-01-06/
LOCATION:Fox Valley Community Services (Sandwich)\, 1406 Suydam Rd\, Sandwich\, IL\, 60548\, United States
CATEGORIES:Social Activities
END:VEVENT
BEGIN:VEVENT
DTSTART;TZID=UTC:20260106T083000
DTEND;TZID=UTC:20260106T093000
DTSTAMP:20260421T095308
CREATED:20230614T200048Z
LAST-MODIFIED:20241205T175004Z
UID:10017960-1767688200-1767691800@fvoas.org
SUMMARY:Bible Study
DESCRIPTION:
URL:https://fvoas.org/event/bible-study/2026-01-06/
LOCATION:Fox Valley Community Services (Sandwich)\, 1406 Suydam Rd\, Sandwich\, IL\, 60548\, United States
CATEGORIES:Social Activities
END:VEVENT
BEGIN:VEVENT
DTSTART;TZID=UTC:20260106T090000
DTEND;TZID=UTC:20260106T100000
DTSTAMP:20260421T095308
CREATED:20230614T171933Z
LAST-MODIFIED:20240430T133148Z
UID:10000092-1767690000-1767693600@fvoas.org
SUMMARY:Audiologist
DESCRIPTION:
URL:https://fvoas.org/event/audiologist/2026-01-06/
LOCATION:Fox Valley Community Services (Sandwich)\, 1406 Suydam Rd\, Sandwich\, IL\, 60548\, United States
CATEGORIES:Health and Wellness
END:VEVENT
BEGIN:VEVENT
DTSTART;TZID=UTC:20260106T090000
DTEND;TZID=UTC:20260106T100000
DTSTAMP:20260421T095308
CREATED:20240531T163353Z
LAST-MODIFIED:20260203T143024Z
UID:10014631-1767690000-1767693600@fvoas.org
SUMMARY:Walkers Group
DESCRIPTION:Seasonal Walkers Group. Meet at the center and head over to the Sandwich Fair Grounds.
URL:https://fvoas.org/event/walkers-group/2026-01-06/
LOCATION:Fox Valley Community Services (Sandwich)\, 1406 Suydam Rd\, Sandwich\, IL\, 60548\, United States
CATEGORIES:Health and Wellness
END:VEVENT
BEGIN:VEVENT
DTSTART;TZID=UTC:20260106T103000
DTEND;TZID=UTC:20260106T111500
DTSTAMP:20260421T095308
CREATED:20230614T172136Z
LAST-MODIFIED:20260406T175746Z
UID:10010421-1767695400-1767698100@fvoas.org
SUMMARY:Bingocize
DESCRIPTION:
URL:https://fvoas.org/event/bingocize/2026-01-06/
LOCATION:Fox Valley Community Services (Sandwich)\, 1406 Suydam Rd\, Sandwich\, IL\, 60548\, United States
CATEGORIES:Health and Wellness
END:VEVENT
BEGIN:VEVENT
DTSTART;TZID=UTC:20260106T113000
DTEND;TZID=UTC:20260106T123000
DTSTAMP:20260421T095308
CREATED:20230614T201319Z
LAST-MODIFIED:20251230T162559Z
UID:10008361-1767699000-1767702600@fvoas.org
SUMMARY:Lunch
DESCRIPTION:Reserve your meal by calling 815-787-6219 ext. 2.\nThe VAC congregate lunch program is donation based.\nSuggested lunch donation of $6.00.\nLunch is available to all seniors regardless of their inability to contribute towards the cost of their lunch.
URL:https://fvoas.org/event/lunch/2026-01-06/
LOCATION:Fox Valley Community Services (Sandwich)\, 1406 Suydam Rd\, Sandwich\, IL\, 60548\, United States
CATEGORIES:Additional Services
END:VEVENT
BEGIN:VEVENT
DTSTART;TZID=UTC:20260106T113000
DTEND;TZID=UTC:20260106T133000
DTSTAMP:20260421T095308
CREATED:20250923T142336Z
LAST-MODIFIED:20250923T142339Z
UID:10026258-1767699000-1767706200@fvoas.org
SUMMARY:Boomer Bowling
DESCRIPTION:Hometown Lanes – Plano\, IL \nCall Becky for more details at (815) 786-9404
URL:https://fvoas.org/event/boomer-bowling-2/2026-01-06/
LOCATION:Fox Valley Community Services (Sandwich)\, 1406 Suydam Rd\, Sandwich\, IL\, 60548\, United States
CATEGORIES:Entertainment
END:VEVENT
BEGIN:VEVENT
DTSTART;TZID=UTC:20260106T121500
DTEND;TZID=UTC:20260106T131500
DTSTAMP:20260421T095308
CREATED:20251230T164235Z
LAST-MODIFIED:20251230T164238Z
UID:10027315-1767701700-1767705300@fvoas.org
SUMMARY:Dime Jingle
DESCRIPTION:Join us every other Tuesday for Dime Jingle.
URL:https://fvoas.org/event/dime-jingle-2-2-2-2/2026-01-06/
LOCATION:Fox Valley Community Services (Sandwich)\, 1406 Suydam Rd\, Sandwich\, IL\, 60548\, United States
CATEGORIES:Rec Games
END:VEVENT
BEGIN:VEVENT
DTSTART;TZID=UTC:20260106T160000
DTEND;TZID=UTC:20260106T170000
DTSTAMP:20260421T095308
CREATED:20251230T164227Z
LAST-MODIFIED:20260406T175205Z
UID:10030127-1767715200-1767718800@fvoas.org
SUMMARY:Dance Fit
DESCRIPTION:
URL:https://fvoas.org/event/dance-fit/2026-01-06/
LOCATION:Fox Valley Community Services (Sandwich)\, 1406 Suydam Rd\, Sandwich\, IL\, 60548\, United States
CATEGORIES:Health and Wellness
END:VEVENT
BEGIN:VEVENT
DTSTART;TZID=UTC:20260106T180000
DTEND;TZID=UTC:20260106T190000
DTSTAMP:20260421T095308
CREATED:20250428T200635Z
LAST-MODIFIED:20250428T200638Z
UID:10023292-1767722400-1767726000@fvoas.org
SUMMARY:MS Support Group
DESCRIPTION:
URL:https://fvoas.org/event/ms-support-group-2-2-2-2/2026-01-06/
LOCATION:Fox Valley Community Services (Sandwich)\, 1406 Suydam Rd\, Sandwich\, IL\, 60548\, United States
CATEGORIES:Health and Wellness
END:VEVENT
BEGIN:VEVENT
DTSTART;TZID=UTC:20260107T083000
DTEND;TZID=UTC:20260107T093000
DTSTAMP:20260421T095308
CREATED:20230614T192927Z
LAST-MODIFIED:20251201T190059Z
UID:10001970-1767774600-1767778200@fvoas.org
SUMMARY:Group Fitness
DESCRIPTION:Members Free / Non-members $3 fee
URL:https://fvoas.org/event/group-fitness/2026-01-07/
LOCATION:Fox Valley Community Services (Sandwich)\, 1406 Suydam Rd\, Sandwich\, IL\, 60548\, United States
CATEGORIES:Health and Wellness
END:VEVENT
BEGIN:VEVENT
DTSTART;TZID=UTC:20260107T093000
DTEND;TZID=UTC:20260107T103000
DTSTAMP:20260421T095308
CREATED:20230614T192123Z
LAST-MODIFIED:20251201T190112Z
UID:10000918-1767778200-1767781800@fvoas.org
SUMMARY:Chair Exercise
DESCRIPTION:
URL:https://fvoas.org/event/chair-exercise/2026-01-07/
LOCATION:Fox Valley Community Services (Sandwich)\, 1406 Suydam Rd\, Sandwich\, IL\, 60548\, United States
CATEGORIES:Health and Wellness
END:VEVENT
BEGIN:VEVENT
DTSTART;TZID=UTC:20260107T093000
DTEND;TZID=UTC:20260107T103000
DTSTAMP:20260421T095308
CREATED:20230614T195950Z
LAST-MODIFIED:20241205T175100Z
UID:10005972-1767778200-1767781800@fvoas.org
SUMMARY:Bags for Beds
DESCRIPTION:Volunteer group program that creates bed cushions made of recycled grocery bags for the homeless.
URL:https://fvoas.org/event/bags-for-beds/2026-01-07/
LOCATION:Fox Valley Community Services (Sandwich)\, 1406 Suydam Rd\, Sandwich\, IL\, 60548\, United States
CATEGORIES:Social Activities
END:VEVENT
BEGIN:VEVENT
DTSTART;TZID=UTC:20260107T113000
DTEND;TZID=UTC:20260107T123000
DTSTAMP:20260421T095308
CREATED:20230614T201319Z
LAST-MODIFIED:20251230T162559Z
UID:10008362-1767785400-1767789000@fvoas.org
SUMMARY:Lunch
DESCRIPTION:Reserve your meal by calling 815-787-6219 ext. 2.\nThe VAC congregate lunch program is donation based.\nSuggested lunch donation of $6.00.\nLunch is available to all seniors regardless of their inability to contribute towards the cost of their lunch.
URL:https://fvoas.org/event/lunch/2026-01-07/
LOCATION:Fox Valley Community Services (Sandwich)\, 1406 Suydam Rd\, Sandwich\, IL\, 60548\, United States
CATEGORIES:Additional Services
END:VEVENT
BEGIN:VEVENT
DTSTART;TZID=UTC:20260107T123000
DTEND;TZID=UTC:20260107T123000
DTSTAMP:20260421T095308
CREATED:20251029T174713Z
LAST-MODIFIED:20251230T164956Z
UID:10026514-1767789000-1767789000@fvoas.org
SUMMARY:Bunco
DESCRIPTION:Requires $2.00 fee.
URL:https://fvoas.org/event/bunko-2-2/2026-01-07/
LOCATION:Fox Valley Community Services (Sandwich)\, 1406 Suydam Rd\, Sandwich\, IL\, 60548\, United States
CATEGORIES:Rec Games
END:VEVENT
BEGIN:VEVENT
DTSTART;TZID=UTC:20260108T090000
DTEND;TZID=UTC:20260108T100000
DTSTAMP:20260421T095308
CREATED:20240531T163353Z
LAST-MODIFIED:20260203T143024Z
UID:10014632-1767862800-1767866400@fvoas.org
SUMMARY:Walkers Group
DESCRIPTION:Seasonal Walkers Group. Meet at the center and head over to the Sandwich Fair Grounds.
URL:https://fvoas.org/event/walkers-group/2026-01-08/
LOCATION:Fox Valley Community Services (Sandwich)\, 1406 Suydam Rd\, Sandwich\, IL\, 60548\, United States
CATEGORIES:Health and Wellness
END:VEVENT
BEGIN:VEVENT
DTSTART;TZID=UTC:20260108T100000
DTEND;TZID=UTC:20260108T110000
DTSTAMP:20260421T095308
CREATED:20230614T194812Z
LAST-MODIFIED:20260407T191055Z
UID:10003855-1767866400-1767870000@fvoas.org
SUMMARY:Bingo
DESCRIPTION:Requires $2.00 fee.
URL:https://fvoas.org/event/bingo-2-2/2026-01-08/
LOCATION:Fox Valley Community Services (Sandwich)\, 1406 Suydam Rd\, Sandwich\, IL\, 60548\, United States
CATEGORIES:Rec Games
END:VEVENT
BEGIN:VEVENT
DTSTART;TZID=UTC:20260108T100000
DTEND;TZID=UTC:20260108T120000
DTSTAMP:20260421T095308
CREATED:20251230T163110Z
LAST-MODIFIED:20251230T164032Z
UID:10028468-1767866400-1767873600@fvoas.org
SUMMARY:Podiatrist
DESCRIPTION:Dr. LaPlant is ready to address all of your podiatric needs and is here to help with: \n\nNotorious bunions that disrupt your daily life\nDiabetic foot care to ensure effective management of diabetes-related foot complications\nTreatment for heel pain to keep you on your feet and in motion\nSolutions for a broad array of foot & ankle problems\nNail issues\, from infections to ingrowths\n\nGreat feet are the pillars of good health. \nDr. LaPlant accepts Medicare and all insurance coverage make sure to stop in to pickup a restoration form.
URL:https://fvoas.org/event/podiatrist-2-2/
LOCATION:Fox Valley Community Services (Sandwich)\, 1406 Suydam Rd\, Sandwich\, IL\, 60548\, United States
CATEGORIES:Health and Wellness
END:VEVENT
END:VCALENDAR