BEGIN:VCALENDAR
VERSION:2.0
PRODID:-//Fox Valley Community Services - ECPv6.15.20//NONSGML v1.0//EN
CALSCALE:GREGORIAN
METHOD:PUBLISH
X-WR-CALNAME:Fox Valley Community Services
X-ORIGINAL-URL:https://fvoas.org
X-WR-CALDESC:Events for Fox Valley Community Services
REFRESH-INTERVAL;VALUE=DURATION:PT1H
X-Robots-Tag:noindex
X-PUBLISHED-TTL:PT1H
BEGIN:VTIMEZONE
TZID:UTC
BEGIN:STANDARD
TZOFFSETFROM:+0000
TZOFFSETTO:+0000
TZNAME:UTC
DTSTART:20250101T000000
END:STANDARD
END:VTIMEZONE
BEGIN:VEVENT
DTSTART;TZID=UTC:20260521T130000
DTEND;TZID=UTC:20260521T140000
DTSTAMP:20260422T195737
CREATED:20230614T171725Z
LAST-MODIFIED:20230614T171725Z
UID:10000036-1779368400-1779372000@fvoas.org
SUMMARY:Alzheimer's Support Group
DESCRIPTION:
URL:https://fvoas.org/event/alzheimers-support-group/2026-05-21/
LOCATION:Fox Valley Community Services (Sandwich)\, 1406 Suydam Rd\, Sandwich\, IL\, 60548\, United States
CATEGORIES:Health and Wellness
END:VEVENT
BEGIN:VEVENT
DTSTART;TZID=UTC:20260618T130000
DTEND;TZID=UTC:20260618T140000
DTSTAMP:20260422T195737
CREATED:20230614T171725Z
LAST-MODIFIED:20230614T171725Z
UID:10000037-1781787600-1781791200@fvoas.org
SUMMARY:Alzheimer's Support Group
DESCRIPTION:
URL:https://fvoas.org/event/alzheimers-support-group/2026-06-18/
LOCATION:Fox Valley Community Services (Sandwich)\, 1406 Suydam Rd\, Sandwich\, IL\, 60548\, United States
CATEGORIES:Health and Wellness
END:VEVENT
BEGIN:VEVENT
DTSTART;TZID=UTC:20260716T130000
DTEND;TZID=UTC:20260716T140000
DTSTAMP:20260422T195737
CREATED:20230614T171725Z
LAST-MODIFIED:20230614T171725Z
UID:10000038-1784206800-1784210400@fvoas.org
SUMMARY:Alzheimer's Support Group
DESCRIPTION:
URL:https://fvoas.org/event/alzheimers-support-group/2026-07-16/
LOCATION:Fox Valley Community Services (Sandwich)\, 1406 Suydam Rd\, Sandwich\, IL\, 60548\, United States
CATEGORIES:Health and Wellness
END:VEVENT
BEGIN:VEVENT
DTSTART;TZID=UTC:20260820T130000
DTEND;TZID=UTC:20260820T140000
DTSTAMP:20260422T195737
CREATED:20230614T171725Z
LAST-MODIFIED:20230614T171725Z
UID:10000039-1787230800-1787234400@fvoas.org
SUMMARY:Alzheimer's Support Group
DESCRIPTION:
URL:https://fvoas.org/event/alzheimers-support-group/2026-08-20/
LOCATION:Fox Valley Community Services (Sandwich)\, 1406 Suydam Rd\, Sandwich\, IL\, 60548\, United States
CATEGORIES:Health and Wellness
END:VEVENT
BEGIN:VEVENT
DTSTART;TZID=UTC:20260917T130000
DTEND;TZID=UTC:20260917T140000
DTSTAMP:20260422T195737
CREATED:20230614T171725Z
LAST-MODIFIED:20230614T171725Z
UID:10000040-1789650000-1789653600@fvoas.org
SUMMARY:Alzheimer's Support Group
DESCRIPTION:
URL:https://fvoas.org/event/alzheimers-support-group/2026-09-17/
LOCATION:Fox Valley Community Services (Sandwich)\, 1406 Suydam Rd\, Sandwich\, IL\, 60548\, United States
CATEGORIES:Health and Wellness
END:VEVENT
BEGIN:VEVENT
DTSTART;TZID=UTC:20261015T130000
DTEND;TZID=UTC:20261015T140000
DTSTAMP:20260422T195737
CREATED:20230614T171725Z
LAST-MODIFIED:20230614T171725Z
UID:10000041-1792069200-1792072800@fvoas.org
SUMMARY:Alzheimer's Support Group
DESCRIPTION:
URL:https://fvoas.org/event/alzheimers-support-group/2026-10-15/
LOCATION:Fox Valley Community Services (Sandwich)\, 1406 Suydam Rd\, Sandwich\, IL\, 60548\, United States
CATEGORIES:Health and Wellness
END:VEVENT
BEGIN:VEVENT
DTSTART;TZID=UTC:20261119T130000
DTEND;TZID=UTC:20261119T140000
DTSTAMP:20260422T195737
CREATED:20230614T171725Z
LAST-MODIFIED:20230614T171725Z
UID:10000042-1795093200-1795096800@fvoas.org
SUMMARY:Alzheimer's Support Group
DESCRIPTION:
URL:https://fvoas.org/event/alzheimers-support-group/2026-11-19/
LOCATION:Fox Valley Community Services (Sandwich)\, 1406 Suydam Rd\, Sandwich\, IL\, 60548\, United States
CATEGORIES:Health and Wellness
END:VEVENT
BEGIN:VEVENT
DTSTART;TZID=UTC:20261217T130000
DTEND;TZID=UTC:20261217T140000
DTSTAMP:20260422T195737
CREATED:20230614T171725Z
LAST-MODIFIED:20230614T171725Z
UID:10000043-1797512400-1797516000@fvoas.org
SUMMARY:Alzheimer's Support Group
DESCRIPTION:
URL:https://fvoas.org/event/alzheimers-support-group/2026-12-17/
LOCATION:Fox Valley Community Services (Sandwich)\, 1406 Suydam Rd\, Sandwich\, IL\, 60548\, United States
CATEGORIES:Health and Wellness
END:VEVENT
BEGIN:VEVENT
DTSTART;TZID=UTC:20270121T130000
DTEND;TZID=UTC:20270121T140000
DTSTAMP:20260422T195737
CREATED:20230614T171725Z
LAST-MODIFIED:20230614T171725Z
UID:10000044-1800536400-1800540000@fvoas.org
SUMMARY:Alzheimer's Support Group
DESCRIPTION:
URL:https://fvoas.org/event/alzheimers-support-group/2027-01-21/
LOCATION:Fox Valley Community Services (Sandwich)\, 1406 Suydam Rd\, Sandwich\, IL\, 60548\, United States
CATEGORIES:Health and Wellness
END:VEVENT
BEGIN:VEVENT
DTSTART;TZID=UTC:20270218T130000
DTEND;TZID=UTC:20270218T140000
DTSTAMP:20260422T195737
CREATED:20230614T171725Z
LAST-MODIFIED:20230614T171725Z
UID:10000045-1802955600-1802959200@fvoas.org
SUMMARY:Alzheimer's Support Group
DESCRIPTION:
URL:https://fvoas.org/event/alzheimers-support-group/2027-02-18/
LOCATION:Fox Valley Community Services (Sandwich)\, 1406 Suydam Rd\, Sandwich\, IL\, 60548\, United States
CATEGORIES:Health and Wellness
END:VEVENT
BEGIN:VEVENT
DTSTART;TZID=UTC:20270318T130000
DTEND;TZID=UTC:20270318T140000
DTSTAMP:20260422T195738
CREATED:20230614T171725Z
LAST-MODIFIED:20230614T171725Z
UID:10000046-1805374800-1805378400@fvoas.org
SUMMARY:Alzheimer's Support Group
DESCRIPTION:
URL:https://fvoas.org/event/alzheimers-support-group/2027-03-18/
LOCATION:Fox Valley Community Services (Sandwich)\, 1406 Suydam Rd\, Sandwich\, IL\, 60548\, United States
CATEGORIES:Health and Wellness
END:VEVENT
BEGIN:VEVENT
DTSTART;TZID=UTC:20270415T130000
DTEND;TZID=UTC:20270415T140000
DTSTAMP:20260422T195738
CREATED:20230614T171725Z
LAST-MODIFIED:20230614T171725Z
UID:10000047-1807794000-1807797600@fvoas.org
SUMMARY:Alzheimer's Support Group
DESCRIPTION:
URL:https://fvoas.org/event/alzheimers-support-group/2027-04-15/
LOCATION:Fox Valley Community Services (Sandwich)\, 1406 Suydam Rd\, Sandwich\, IL\, 60548\, United States
CATEGORIES:Health and Wellness
END:VEVENT
BEGIN:VEVENT
DTSTART;TZID=UTC:20270520T130000
DTEND;TZID=UTC:20270520T140000
DTSTAMP:20260422T195738
CREATED:20230614T171725Z
LAST-MODIFIED:20230614T171725Z
UID:10000048-1810818000-1810821600@fvoas.org
SUMMARY:Alzheimer's Support Group
DESCRIPTION:
URL:https://fvoas.org/event/alzheimers-support-group/2027-05-20/
LOCATION:Fox Valley Community Services (Sandwich)\, 1406 Suydam Rd\, Sandwich\, IL\, 60548\, United States
CATEGORIES:Health and Wellness
END:VEVENT
BEGIN:VEVENT
DTSTART;TZID=UTC:20270617T130000
DTEND;TZID=UTC:20270617T140000
DTSTAMP:20260422T195738
CREATED:20230614T171725Z
LAST-MODIFIED:20230614T171725Z
UID:10000049-1813237200-1813240800@fvoas.org
SUMMARY:Alzheimer's Support Group
DESCRIPTION:
URL:https://fvoas.org/event/alzheimers-support-group/2027-06-17/
LOCATION:Fox Valley Community Services (Sandwich)\, 1406 Suydam Rd\, Sandwich\, IL\, 60548\, United States
CATEGORIES:Health and Wellness
END:VEVENT
BEGIN:VEVENT
DTSTART;TZID=UTC:20270715T130000
DTEND;TZID=UTC:20270715T140000
DTSTAMP:20260422T195738
CREATED:20230614T171725Z
LAST-MODIFIED:20230614T171725Z
UID:10000050-1815656400-1815660000@fvoas.org
SUMMARY:Alzheimer's Support Group
DESCRIPTION:
URL:https://fvoas.org/event/alzheimers-support-group/2027-07-15/
LOCATION:Fox Valley Community Services (Sandwich)\, 1406 Suydam Rd\, Sandwich\, IL\, 60548\, United States
CATEGORIES:Health and Wellness
END:VEVENT
BEGIN:VEVENT
DTSTART;TZID=UTC:20270819T130000
DTEND;TZID=UTC:20270819T140000
DTSTAMP:20260422T195738
CREATED:20230614T171725Z
LAST-MODIFIED:20230614T171725Z
UID:10000051-1818680400-1818684000@fvoas.org
SUMMARY:Alzheimer's Support Group
DESCRIPTION:
URL:https://fvoas.org/event/alzheimers-support-group/2027-08-19/
LOCATION:Fox Valley Community Services (Sandwich)\, 1406 Suydam Rd\, Sandwich\, IL\, 60548\, United States
CATEGORIES:Health and Wellness
END:VEVENT
BEGIN:VEVENT
DTSTART;TZID=UTC:20270916T130000
DTEND;TZID=UTC:20270916T140000
DTSTAMP:20260422T195738
CREATED:20230614T171725Z
LAST-MODIFIED:20230614T171725Z
UID:10000052-1821099600-1821103200@fvoas.org
SUMMARY:Alzheimer's Support Group
DESCRIPTION:
URL:https://fvoas.org/event/alzheimers-support-group/2027-09-16/
LOCATION:Fox Valley Community Services (Sandwich)\, 1406 Suydam Rd\, Sandwich\, IL\, 60548\, United States
CATEGORIES:Health and Wellness
END:VEVENT
BEGIN:VEVENT
DTSTART;TZID=UTC:20271021T130000
DTEND;TZID=UTC:20271021T140000
DTSTAMP:20260422T195738
CREATED:20230614T171725Z
LAST-MODIFIED:20230614T171725Z
UID:10000053-1824123600-1824127200@fvoas.org
SUMMARY:Alzheimer's Support Group
DESCRIPTION:
URL:https://fvoas.org/event/alzheimers-support-group/2027-10-21/
LOCATION:Fox Valley Community Services (Sandwich)\, 1406 Suydam Rd\, Sandwich\, IL\, 60548\, United States
CATEGORIES:Health and Wellness
END:VEVENT
BEGIN:VEVENT
DTSTART;TZID=UTC:20271118T130000
DTEND;TZID=UTC:20271118T140000
DTSTAMP:20260422T195738
CREATED:20230614T171725Z
LAST-MODIFIED:20230614T171725Z
UID:10000054-1826542800-1826546400@fvoas.org
SUMMARY:Alzheimer's Support Group
DESCRIPTION:
URL:https://fvoas.org/event/alzheimers-support-group/2027-11-18/
LOCATION:Fox Valley Community Services (Sandwich)\, 1406 Suydam Rd\, Sandwich\, IL\, 60548\, United States
CATEGORIES:Health and Wellness
END:VEVENT
BEGIN:VEVENT
DTSTART;TZID=UTC:20271216T130000
DTEND;TZID=UTC:20271216T140000
DTSTAMP:20260422T195738
CREATED:20230614T171725Z
LAST-MODIFIED:20230614T171725Z
UID:10000055-1828962000-1828965600@fvoas.org
SUMMARY:Alzheimer's Support Group
DESCRIPTION:
URL:https://fvoas.org/event/alzheimers-support-group/2027-12-16/
LOCATION:Fox Valley Community Services (Sandwich)\, 1406 Suydam Rd\, Sandwich\, IL\, 60548\, United States
CATEGORIES:Health and Wellness
END:VEVENT
BEGIN:VEVENT
DTSTART;TZID=UTC:20280120T130000
DTEND;TZID=UTC:20280120T140000
DTSTAMP:20260422T195738
CREATED:20230614T171725Z
LAST-MODIFIED:20230614T171725Z
UID:10000056-1831986000-1831989600@fvoas.org
SUMMARY:Alzheimer's Support Group
DESCRIPTION:
URL:https://fvoas.org/event/alzheimers-support-group/2028-01-20/
LOCATION:Fox Valley Community Services (Sandwich)\, 1406 Suydam Rd\, Sandwich\, IL\, 60548\, United States
CATEGORIES:Health and Wellness
END:VEVENT
BEGIN:VEVENT
DTSTART;TZID=UTC:20280217T130000
DTEND;TZID=UTC:20280217T140000
DTSTAMP:20260422T195738
CREATED:20230614T171725Z
LAST-MODIFIED:20230614T171725Z
UID:10000057-1834405200-1834408800@fvoas.org
SUMMARY:Alzheimer's Support Group
DESCRIPTION:
URL:https://fvoas.org/event/alzheimers-support-group/2028-02-17/
LOCATION:Fox Valley Community Services (Sandwich)\, 1406 Suydam Rd\, Sandwich\, IL\, 60548\, United States
CATEGORIES:Health and Wellness
END:VEVENT
BEGIN:VEVENT
DTSTART;TZID=UTC:20280316T130000
DTEND;TZID=UTC:20280316T140000
DTSTAMP:20260422T195738
CREATED:20230614T171725Z
LAST-MODIFIED:20230614T171725Z
UID:10000058-1836824400-1836828000@fvoas.org
SUMMARY:Alzheimer's Support Group
DESCRIPTION:
URL:https://fvoas.org/event/alzheimers-support-group/2028-03-16/
LOCATION:Fox Valley Community Services (Sandwich)\, 1406 Suydam Rd\, Sandwich\, IL\, 60548\, United States
CATEGORIES:Health and Wellness
END:VEVENT
BEGIN:VEVENT
DTSTART;TZID=UTC:20280420T130000
DTEND;TZID=UTC:20280420T140000
DTSTAMP:20260422T195738
CREATED:20230614T171725Z
LAST-MODIFIED:20230614T171725Z
UID:10000059-1839848400-1839852000@fvoas.org
SUMMARY:Alzheimer's Support Group
DESCRIPTION:
URL:https://fvoas.org/event/alzheimers-support-group/2028-04-20/
LOCATION:Fox Valley Community Services (Sandwich)\, 1406 Suydam Rd\, Sandwich\, IL\, 60548\, United States
CATEGORIES:Health and Wellness
END:VEVENT
BEGIN:VEVENT
DTSTART;TZID=UTC:20280518T130000
DTEND;TZID=UTC:20280518T140000
DTSTAMP:20260422T195738
CREATED:20230614T171725Z
LAST-MODIFIED:20230614T171725Z
UID:10000060-1842267600-1842271200@fvoas.org
SUMMARY:Alzheimer's Support Group
DESCRIPTION:
URL:https://fvoas.org/event/alzheimers-support-group/2028-05-18/
LOCATION:Fox Valley Community Services (Sandwich)\, 1406 Suydam Rd\, Sandwich\, IL\, 60548\, United States
CATEGORIES:Health and Wellness
END:VEVENT
END:VCALENDAR