BEGIN:VCALENDAR
VERSION:2.0
PRODID:-//Fox Valley Community Services - ECPv6.15.20//NONSGML v1.0//EN
CALSCALE:GREGORIAN
METHOD:PUBLISH
X-WR-CALNAME:Fox Valley Community Services
X-ORIGINAL-URL:https://fvoas.org
X-WR-CALDESC:Events for Fox Valley Community Services
REFRESH-INTERVAL;VALUE=DURATION:PT1H
X-Robots-Tag:noindex
X-PUBLISHED-TTL:PT1H
BEGIN:VTIMEZONE
TZID:UTC
BEGIN:STANDARD
TZOFFSETFROM:+0000
TZOFFSETTO:+0000
TZNAME:UTC
DTSTART:20250101T000000
END:STANDARD
END:VTIMEZONE
BEGIN:VEVENT
DTSTART;TZID=UTC:20260506T093000
DTEND;TZID=UTC:20260506T103000
DTSTAMP:20260425T190448
CREATED:20230614T195950Z
LAST-MODIFIED:20241205T175100Z
UID:10005976-1778059800-1778063400@fvoas.org
SUMMARY:Bags for Beds
DESCRIPTION:Volunteer group program that creates bed cushions made of recycled grocery bags for the homeless.
URL:https://fvoas.org/event/bags-for-beds/2026-05-06/
LOCATION:Fox Valley Community Services (Sandwich)\, 1406 Suydam Rd\, Sandwich\, IL\, 60548\, United States
CATEGORIES:Social Activities
END:VEVENT
BEGIN:VEVENT
DTSTART;TZID=UTC:20260603T093000
DTEND;TZID=UTC:20260603T103000
DTSTAMP:20260425T190448
CREATED:20230614T195950Z
LAST-MODIFIED:20241205T175100Z
UID:10005977-1780479000-1780482600@fvoas.org
SUMMARY:Bags for Beds
DESCRIPTION:Volunteer group program that creates bed cushions made of recycled grocery bags for the homeless.
URL:https://fvoas.org/event/bags-for-beds/2026-06-03/
LOCATION:Fox Valley Community Services (Sandwich)\, 1406 Suydam Rd\, Sandwich\, IL\, 60548\, United States
CATEGORIES:Social Activities
END:VEVENT
BEGIN:VEVENT
DTSTART;TZID=UTC:20260701T093000
DTEND;TZID=UTC:20260701T103000
DTSTAMP:20260425T190448
CREATED:20230614T195950Z
LAST-MODIFIED:20241205T175100Z
UID:10005978-1782898200-1782901800@fvoas.org
SUMMARY:Bags for Beds
DESCRIPTION:Volunteer group program that creates bed cushions made of recycled grocery bags for the homeless.
URL:https://fvoas.org/event/bags-for-beds/2026-07-01/
LOCATION:Fox Valley Community Services (Sandwich)\, 1406 Suydam Rd\, Sandwich\, IL\, 60548\, United States
CATEGORIES:Social Activities
END:VEVENT
BEGIN:VEVENT
DTSTART;TZID=UTC:20260805T093000
DTEND;TZID=UTC:20260805T103000
DTSTAMP:20260425T190448
CREATED:20230614T195950Z
LAST-MODIFIED:20241205T175100Z
UID:10005979-1785922200-1785925800@fvoas.org
SUMMARY:Bags for Beds
DESCRIPTION:Volunteer group program that creates bed cushions made of recycled grocery bags for the homeless.
URL:https://fvoas.org/event/bags-for-beds/2026-08-05/
LOCATION:Fox Valley Community Services (Sandwich)\, 1406 Suydam Rd\, Sandwich\, IL\, 60548\, United States
CATEGORIES:Social Activities
END:VEVENT
BEGIN:VEVENT
DTSTART;TZID=UTC:20260902T093000
DTEND;TZID=UTC:20260902T103000
DTSTAMP:20260425T190448
CREATED:20230614T195950Z
LAST-MODIFIED:20241205T175100Z
UID:10005980-1788341400-1788345000@fvoas.org
SUMMARY:Bags for Beds
DESCRIPTION:Volunteer group program that creates bed cushions made of recycled grocery bags for the homeless.
URL:https://fvoas.org/event/bags-for-beds/2026-09-02/
LOCATION:Fox Valley Community Services (Sandwich)\, 1406 Suydam Rd\, Sandwich\, IL\, 60548\, United States
CATEGORIES:Social Activities
END:VEVENT
BEGIN:VEVENT
DTSTART;TZID=UTC:20261007T093000
DTEND;TZID=UTC:20261007T103000
DTSTAMP:20260425T190448
CREATED:20230614T195950Z
LAST-MODIFIED:20241205T175100Z
UID:10005981-1791365400-1791369000@fvoas.org
SUMMARY:Bags for Beds
DESCRIPTION:Volunteer group program that creates bed cushions made of recycled grocery bags for the homeless.
URL:https://fvoas.org/event/bags-for-beds/2026-10-07/
LOCATION:Fox Valley Community Services (Sandwich)\, 1406 Suydam Rd\, Sandwich\, IL\, 60548\, United States
CATEGORIES:Social Activities
END:VEVENT
BEGIN:VEVENT
DTSTART;TZID=UTC:20261104T093000
DTEND;TZID=UTC:20261104T103000
DTSTAMP:20260425T190448
CREATED:20230614T195950Z
LAST-MODIFIED:20241205T175100Z
UID:10005982-1793784600-1793788200@fvoas.org
SUMMARY:Bags for Beds
DESCRIPTION:Volunteer group program that creates bed cushions made of recycled grocery bags for the homeless.
URL:https://fvoas.org/event/bags-for-beds/2026-11-04/
LOCATION:Fox Valley Community Services (Sandwich)\, 1406 Suydam Rd\, Sandwich\, IL\, 60548\, United States
CATEGORIES:Social Activities
END:VEVENT
BEGIN:VEVENT
DTSTART;TZID=UTC:20261202T093000
DTEND;TZID=UTC:20261202T103000
DTSTAMP:20260425T190448
CREATED:20230614T195950Z
LAST-MODIFIED:20241205T175100Z
UID:10005983-1796203800-1796207400@fvoas.org
SUMMARY:Bags for Beds
DESCRIPTION:Volunteer group program that creates bed cushions made of recycled grocery bags for the homeless.
URL:https://fvoas.org/event/bags-for-beds/2026-12-02/
LOCATION:Fox Valley Community Services (Sandwich)\, 1406 Suydam Rd\, Sandwich\, IL\, 60548\, United States
CATEGORIES:Social Activities
END:VEVENT
BEGIN:VEVENT
DTSTART;TZID=UTC:20270106T093000
DTEND;TZID=UTC:20270106T103000
DTSTAMP:20260425T190448
CREATED:20230614T195950Z
LAST-MODIFIED:20241205T175100Z
UID:10005984-1799227800-1799231400@fvoas.org
SUMMARY:Bags for Beds
DESCRIPTION:Volunteer group program that creates bed cushions made of recycled grocery bags for the homeless.
URL:https://fvoas.org/event/bags-for-beds/2027-01-06/
LOCATION:Fox Valley Community Services (Sandwich)\, 1406 Suydam Rd\, Sandwich\, IL\, 60548\, United States
CATEGORIES:Social Activities
END:VEVENT
BEGIN:VEVENT
DTSTART;TZID=UTC:20270203T093000
DTEND;TZID=UTC:20270203T103000
DTSTAMP:20260425T190448
CREATED:20230614T195950Z
LAST-MODIFIED:20241205T175100Z
UID:10005985-1801647000-1801650600@fvoas.org
SUMMARY:Bags for Beds
DESCRIPTION:Volunteer group program that creates bed cushions made of recycled grocery bags for the homeless.
URL:https://fvoas.org/event/bags-for-beds/2027-02-03/
LOCATION:Fox Valley Community Services (Sandwich)\, 1406 Suydam Rd\, Sandwich\, IL\, 60548\, United States
CATEGORIES:Social Activities
END:VEVENT
BEGIN:VEVENT
DTSTART;TZID=UTC:20270303T093000
DTEND;TZID=UTC:20270303T103000
DTSTAMP:20260425T190448
CREATED:20230614T195950Z
LAST-MODIFIED:20241205T175100Z
UID:10005986-1804066200-1804069800@fvoas.org
SUMMARY:Bags for Beds
DESCRIPTION:Volunteer group program that creates bed cushions made of recycled grocery bags for the homeless.
URL:https://fvoas.org/event/bags-for-beds/2027-03-03/
LOCATION:Fox Valley Community Services (Sandwich)\, 1406 Suydam Rd\, Sandwich\, IL\, 60548\, United States
CATEGORIES:Social Activities
END:VEVENT
BEGIN:VEVENT
DTSTART;TZID=UTC:20270407T093000
DTEND;TZID=UTC:20270407T103000
DTSTAMP:20260425T190448
CREATED:20230614T195950Z
LAST-MODIFIED:20241205T175100Z
UID:10005987-1807090200-1807093800@fvoas.org
SUMMARY:Bags for Beds
DESCRIPTION:Volunteer group program that creates bed cushions made of recycled grocery bags for the homeless.
URL:https://fvoas.org/event/bags-for-beds/2027-04-07/
LOCATION:Fox Valley Community Services (Sandwich)\, 1406 Suydam Rd\, Sandwich\, IL\, 60548\, United States
CATEGORIES:Social Activities
END:VEVENT
BEGIN:VEVENT
DTSTART;TZID=UTC:20270505T093000
DTEND;TZID=UTC:20270505T103000
DTSTAMP:20260425T190448
CREATED:20230614T195950Z
LAST-MODIFIED:20241205T175100Z
UID:10005988-1809509400-1809513000@fvoas.org
SUMMARY:Bags for Beds
DESCRIPTION:Volunteer group program that creates bed cushions made of recycled grocery bags for the homeless.
URL:https://fvoas.org/event/bags-for-beds/2027-05-05/
LOCATION:Fox Valley Community Services (Sandwich)\, 1406 Suydam Rd\, Sandwich\, IL\, 60548\, United States
CATEGORIES:Social Activities
END:VEVENT
BEGIN:VEVENT
DTSTART;TZID=UTC:20270602T093000
DTEND;TZID=UTC:20270602T103000
DTSTAMP:20260425T190448
CREATED:20230614T195950Z
LAST-MODIFIED:20241205T175100Z
UID:10005989-1811928600-1811932200@fvoas.org
SUMMARY:Bags for Beds
DESCRIPTION:Volunteer group program that creates bed cushions made of recycled grocery bags for the homeless.
URL:https://fvoas.org/event/bags-for-beds/2027-06-02/
LOCATION:Fox Valley Community Services (Sandwich)\, 1406 Suydam Rd\, Sandwich\, IL\, 60548\, United States
CATEGORIES:Social Activities
END:VEVENT
BEGIN:VEVENT
DTSTART;TZID=UTC:20270707T093000
DTEND;TZID=UTC:20270707T103000
DTSTAMP:20260425T190448
CREATED:20230614T195950Z
LAST-MODIFIED:20241205T175100Z
UID:10005990-1814952600-1814956200@fvoas.org
SUMMARY:Bags for Beds
DESCRIPTION:Volunteer group program that creates bed cushions made of recycled grocery bags for the homeless.
URL:https://fvoas.org/event/bags-for-beds/2027-07-07/
LOCATION:Fox Valley Community Services (Sandwich)\, 1406 Suydam Rd\, Sandwich\, IL\, 60548\, United States
CATEGORIES:Social Activities
END:VEVENT
BEGIN:VEVENT
DTSTART;TZID=UTC:20270804T093000
DTEND;TZID=UTC:20270804T103000
DTSTAMP:20260425T190448
CREATED:20230614T195950Z
LAST-MODIFIED:20241205T175100Z
UID:10005991-1817371800-1817375400@fvoas.org
SUMMARY:Bags for Beds
DESCRIPTION:Volunteer group program that creates bed cushions made of recycled grocery bags for the homeless.
URL:https://fvoas.org/event/bags-for-beds/2027-08-04/
LOCATION:Fox Valley Community Services (Sandwich)\, 1406 Suydam Rd\, Sandwich\, IL\, 60548\, United States
CATEGORIES:Social Activities
END:VEVENT
BEGIN:VEVENT
DTSTART;TZID=UTC:20270901T093000
DTEND;TZID=UTC:20270901T103000
DTSTAMP:20260425T190448
CREATED:20230614T195950Z
LAST-MODIFIED:20241205T175100Z
UID:10005992-1819791000-1819794600@fvoas.org
SUMMARY:Bags for Beds
DESCRIPTION:Volunteer group program that creates bed cushions made of recycled grocery bags for the homeless.
URL:https://fvoas.org/event/bags-for-beds/2027-09-01/
LOCATION:Fox Valley Community Services (Sandwich)\, 1406 Suydam Rd\, Sandwich\, IL\, 60548\, United States
CATEGORIES:Social Activities
END:VEVENT
BEGIN:VEVENT
DTSTART;TZID=UTC:20271006T093000
DTEND;TZID=UTC:20271006T103000
DTSTAMP:20260425T190448
CREATED:20230614T195950Z
LAST-MODIFIED:20241205T175100Z
UID:10005993-1822815000-1822818600@fvoas.org
SUMMARY:Bags for Beds
DESCRIPTION:Volunteer group program that creates bed cushions made of recycled grocery bags for the homeless.
URL:https://fvoas.org/event/bags-for-beds/2027-10-06/
LOCATION:Fox Valley Community Services (Sandwich)\, 1406 Suydam Rd\, Sandwich\, IL\, 60548\, United States
CATEGORIES:Social Activities
END:VEVENT
BEGIN:VEVENT
DTSTART;TZID=UTC:20271103T093000
DTEND;TZID=UTC:20271103T103000
DTSTAMP:20260425T190448
CREATED:20230614T195950Z
LAST-MODIFIED:20241205T175100Z
UID:10005994-1825234200-1825237800@fvoas.org
SUMMARY:Bags for Beds
DESCRIPTION:Volunteer group program that creates bed cushions made of recycled grocery bags for the homeless.
URL:https://fvoas.org/event/bags-for-beds/2027-11-03/
LOCATION:Fox Valley Community Services (Sandwich)\, 1406 Suydam Rd\, Sandwich\, IL\, 60548\, United States
CATEGORIES:Social Activities
END:VEVENT
BEGIN:VEVENT
DTSTART;TZID=UTC:20271201T093000
DTEND;TZID=UTC:20271201T103000
DTSTAMP:20260425T190448
CREATED:20230614T195950Z
LAST-MODIFIED:20241205T175100Z
UID:10005995-1827653400-1827657000@fvoas.org
SUMMARY:Bags for Beds
DESCRIPTION:Volunteer group program that creates bed cushions made of recycled grocery bags for the homeless.
URL:https://fvoas.org/event/bags-for-beds/2027-12-01/
LOCATION:Fox Valley Community Services (Sandwich)\, 1406 Suydam Rd\, Sandwich\, IL\, 60548\, United States
CATEGORIES:Social Activities
END:VEVENT
BEGIN:VEVENT
DTSTART;TZID=UTC:20280105T093000
DTEND;TZID=UTC:20280105T103000
DTSTAMP:20260425T190448
CREATED:20230614T195950Z
LAST-MODIFIED:20241205T175100Z
UID:10005996-1830677400-1830681000@fvoas.org
SUMMARY:Bags for Beds
DESCRIPTION:Volunteer group program that creates bed cushions made of recycled grocery bags for the homeless.
URL:https://fvoas.org/event/bags-for-beds/2028-01-05/
LOCATION:Fox Valley Community Services (Sandwich)\, 1406 Suydam Rd\, Sandwich\, IL\, 60548\, United States
CATEGORIES:Social Activities
END:VEVENT
BEGIN:VEVENT
DTSTART;TZID=UTC:20280202T093000
DTEND;TZID=UTC:20280202T103000
DTSTAMP:20260425T190448
CREATED:20230614T195950Z
LAST-MODIFIED:20241205T175100Z
UID:10005997-1833096600-1833100200@fvoas.org
SUMMARY:Bags for Beds
DESCRIPTION:Volunteer group program that creates bed cushions made of recycled grocery bags for the homeless.
URL:https://fvoas.org/event/bags-for-beds/2028-02-02/
LOCATION:Fox Valley Community Services (Sandwich)\, 1406 Suydam Rd\, Sandwich\, IL\, 60548\, United States
CATEGORIES:Social Activities
END:VEVENT
BEGIN:VEVENT
DTSTART;TZID=UTC:20280301T093000
DTEND;TZID=UTC:20280301T103000
DTSTAMP:20260425T190448
CREATED:20230614T195950Z
LAST-MODIFIED:20241205T175100Z
UID:10005998-1835515800-1835519400@fvoas.org
SUMMARY:Bags for Beds
DESCRIPTION:Volunteer group program that creates bed cushions made of recycled grocery bags for the homeless.
URL:https://fvoas.org/event/bags-for-beds/2028-03-01/
LOCATION:Fox Valley Community Services (Sandwich)\, 1406 Suydam Rd\, Sandwich\, IL\, 60548\, United States
CATEGORIES:Social Activities
END:VEVENT
BEGIN:VEVENT
DTSTART;TZID=UTC:20280405T093000
DTEND;TZID=UTC:20280405T103000
DTSTAMP:20260425T190448
CREATED:20230614T195950Z
LAST-MODIFIED:20241205T175100Z
UID:10005999-1838539800-1838543400@fvoas.org
SUMMARY:Bags for Beds
DESCRIPTION:Volunteer group program that creates bed cushions made of recycled grocery bags for the homeless.
URL:https://fvoas.org/event/bags-for-beds/2028-04-05/
LOCATION:Fox Valley Community Services (Sandwich)\, 1406 Suydam Rd\, Sandwich\, IL\, 60548\, United States
CATEGORIES:Social Activities
END:VEVENT
BEGIN:VEVENT
DTSTART;TZID=UTC:20280503T093000
DTEND;TZID=UTC:20280503T103000
DTSTAMP:20260425T190448
CREATED:20230614T195950Z
LAST-MODIFIED:20241205T175100Z
UID:10006000-1840959000-1840962600@fvoas.org
SUMMARY:Bags for Beds
DESCRIPTION:Volunteer group program that creates bed cushions made of recycled grocery bags for the homeless.
URL:https://fvoas.org/event/bags-for-beds/2028-05-03/
LOCATION:Fox Valley Community Services (Sandwich)\, 1406 Suydam Rd\, Sandwich\, IL\, 60548\, United States
CATEGORIES:Social Activities
END:VEVENT
BEGIN:VEVENT
DTSTART;TZID=UTC:20280607T093000
DTEND;TZID=UTC:20280607T103000
DTSTAMP:20260425T190448
CREATED:20230614T195950Z
LAST-MODIFIED:20241205T175100Z
UID:10006001-1843983000-1843986600@fvoas.org
SUMMARY:Bags for Beds
DESCRIPTION:Volunteer group program that creates bed cushions made of recycled grocery bags for the homeless.
URL:https://fvoas.org/event/bags-for-beds/2028-06-07/
LOCATION:Fox Valley Community Services (Sandwich)\, 1406 Suydam Rd\, Sandwich\, IL\, 60548\, United States
CATEGORIES:Social Activities
END:VEVENT
BEGIN:VEVENT
DTSTART;TZID=UTC:20280705T093000
DTEND;TZID=UTC:20280705T103000
DTSTAMP:20260425T190448
CREATED:20230614T195950Z
LAST-MODIFIED:20241205T175100Z
UID:10019273-1846402200-1846405800@fvoas.org
SUMMARY:Bags for Beds
DESCRIPTION:Volunteer group program that creates bed cushions made of recycled grocery bags for the homeless.
URL:https://fvoas.org/event/bags-for-beds/2028-07-05/
LOCATION:Fox Valley Community Services (Sandwich)\, 1406 Suydam Rd\, Sandwich\, IL\, 60548\, United States
CATEGORIES:Social Activities
END:VEVENT
BEGIN:VEVENT
DTSTART;TZID=UTC:20280802T093000
DTEND;TZID=UTC:20280802T103000
DTSTAMP:20260425T190448
CREATED:20230614T195950Z
LAST-MODIFIED:20241205T175100Z
UID:10019274-1848821400-1848825000@fvoas.org
SUMMARY:Bags for Beds
DESCRIPTION:Volunteer group program that creates bed cushions made of recycled grocery bags for the homeless.
URL:https://fvoas.org/event/bags-for-beds/2028-08-02/
LOCATION:Fox Valley Community Services (Sandwich)\, 1406 Suydam Rd\, Sandwich\, IL\, 60548\, United States
CATEGORIES:Social Activities
END:VEVENT
BEGIN:VEVENT
DTSTART;TZID=UTC:20280906T093000
DTEND;TZID=UTC:20280906T103000
DTSTAMP:20260425T190448
CREATED:20230614T195950Z
LAST-MODIFIED:20241205T175100Z
UID:10019275-1851845400-1851849000@fvoas.org
SUMMARY:Bags for Beds
DESCRIPTION:Volunteer group program that creates bed cushions made of recycled grocery bags for the homeless.
URL:https://fvoas.org/event/bags-for-beds/2028-09-06/
LOCATION:Fox Valley Community Services (Sandwich)\, 1406 Suydam Rd\, Sandwich\, IL\, 60548\, United States
CATEGORIES:Social Activities
END:VEVENT
BEGIN:VEVENT
DTSTART;TZID=UTC:20281004T093000
DTEND;TZID=UTC:20281004T103000
DTSTAMP:20260425T190448
CREATED:20230614T195950Z
LAST-MODIFIED:20241205T175100Z
UID:10019276-1854264600-1854268200@fvoas.org
SUMMARY:Bags for Beds
DESCRIPTION:Volunteer group program that creates bed cushions made of recycled grocery bags for the homeless.
URL:https://fvoas.org/event/bags-for-beds/2028-10-04/
LOCATION:Fox Valley Community Services (Sandwich)\, 1406 Suydam Rd\, Sandwich\, IL\, 60548\, United States
CATEGORIES:Social Activities
END:VEVENT
END:VCALENDAR